BEGIN:VCALENDAR
VERSION:2.0
PRODID:-//Triarte - Centro de estudios art&iacute;sticos - Conservatorio y escuela de m&uacute;sica, danza y teatro. - ECPv6.15.18//NONSGML v1.0//EN
CALSCALE:GREGORIAN
METHOD:PUBLISH
X-ORIGINAL-URL:https://www.triarte.net
X-WR-CALDESC:Eventos para Triarte - Centro de estudios art&iacute;sticos - Conservatorio y escuela de m&uacute;sica, danza y teatro.
REFRESH-INTERVAL;VALUE=DURATION:PT1H
X-Robots-Tag:noindex
X-PUBLISHED-TTL:PT1H
BEGIN:VTIMEZONE
TZID:Europe/Madrid
BEGIN:DAYLIGHT
TZOFFSETFROM:+0100
TZOFFSETTO:+0200
TZNAME:CEST
DTSTART:20240331T010000
END:DAYLIGHT
BEGIN:STANDARD
TZOFFSETFROM:+0200
TZOFFSETTO:+0100
TZNAME:CET
DTSTART:20241027T010000
END:STANDARD
BEGIN:DAYLIGHT
TZOFFSETFROM:+0100
TZOFFSETTO:+0200
TZNAME:CEST
DTSTART:20250330T010000
END:DAYLIGHT
BEGIN:STANDARD
TZOFFSETFROM:+0200
TZOFFSETTO:+0100
TZNAME:CET
DTSTART:20251026T010000
END:STANDARD
BEGIN:DAYLIGHT
TZOFFSETFROM:+0100
TZOFFSETTO:+0200
TZNAME:CEST
DTSTART:20260329T010000
END:DAYLIGHT
BEGIN:STANDARD
TZOFFSETFROM:+0200
TZOFFSETTO:+0100
TZNAME:CET
DTSTART:20261025T010000
END:STANDARD
END:VTIMEZONE
BEGIN:VEVENT
DTSTART;TZID=Europe/Madrid:20250507T200000
DTEND;TZID=Europe/Madrid:20250507T210000
DTSTAMP:20260422T042512
CREATED:20250505T194643Z
LAST-MODIFIED:20250506T172655Z
UID:12426-1746648000-1746651600@www.triarte.net
SUMMARY:20:00 h. Concierto Clásico - Alumnos que acceden a Enseñanzas Profesionales y Superiores de Música
DESCRIPTION:Dentro de las actividades programadas por TRIARTE\, está el realizar conciertos con los alumnos para mejorar su formación musical. \nEl miércoles 7 de mayo a las 20:00 h los alumnos que acceden a a Enseñanzas Profesionales y Superiores de Música de nuestro centro nos ofrecerán un concierto. La entrada será libre hasta completar el aforo de nuestra sala de conciertos. \nPrograma\nJulia Cortés Castilla | Piano\nInvención en Fa M\, J. S. Bach\n \nAna Díaz Ramírez | Violín\nConcierto en Sol M\, F. J. Haydn III\n \nAndy Hu | Violín\nConcierto nº 5 (III mov)\, F. Seitz\n \nAndrea Ruiz Alcarazo | Violín\nConcierto Op. 3 en Si m (III mov)\, O. Rieding\n \nEmilio-Ziyi Xu | Saxofón\nBaghira\, Ferrer Ferrán\n \nMaría Briones Barreiro | Viola\nConcierto en Sol M (II mov)\, G. P. Telemann\n \nManuel De los Santos Vázquez | Viola\nSonata en Do M Op. 40 nº 1 (II mov)\, J. Breval\n \nHugo Macías Vallejo | Violonchelo\nConcertino en Fa M nº 1 (Allegro)\, J. B. Breval\n \nJimena González Gaspar | Guitarra\nRegentropfen\, B. Szordikowski\n \nÁngel Luis Fernández Mansilla | Piano\nMalagueña\, I. Albéniz\n \nÁlvaro Perea Fenech | Piano\nInvención nº 13 en La m\, J. S. Bach \nPablo García de La Nava Triviño | Piano\nPequeño negrito\, C. Debussy\n \nXun Xuan-Susana Gao | Piano\nInvención nº 4 en Re m\, J. S. Bach\n \nAitana Constanza Torres Becerra | Piano\nSonata Hob.XVI/10 en Do M\, J. Haydn \nLaura Villalba Jaén | Piano\nInvención nº 1\, J. S. Bach\n \nAlba Martínez Martínez | Violín\nSinfonía española para violín y orquesta (I mov)\, E. Lalo\n \nBeatriz Corpas Garcerán | Violonchelo\nSonata en La m Op. 36 (I mov)\, E. Grieg
URL:https://www.triarte.net/evento/2000-h-concierto-clasico-alumnos-que-acceden-a-ensenanzas-profesionales-y-superiores-de-musica/
LOCATION:Sala de Conciertos de Triarte\, Calle Corregidor Antonio de Bobadilla\, 16\, Málaga\, 29006\, España
CATEGORIES:Concierto
ATTACH;FMTTYPE=image/png:https://www.triarte.net/wp-content/uploads/2025/05/concierto-clasico-mayo-2025.png
END:VEVENT
BEGIN:VEVENT
DTSTART;TZID=Europe/Madrid:20250530T193000
DTEND;TZID=Europe/Madrid:20250530T210000
DTSTAMP:20260422T042512
CREATED:20250520T182444Z
LAST-MODIFIED:20250520T182653Z
UID:12523-1748633400-1748638800@www.triarte.net
SUMMARY:19:30 h | Concierto Guitarra. Alumnos de Pedro Reina
DESCRIPTION:Dentro de las actividades programadas por TRIARTE para el Final de Curso 24/25\, está la de realizar conciertos para mejorar la formación de nuestros alumnos. \nEl Viernes 30 de junio a las 19:30 h los alumnos de Guitarra de EEPP de Música de nuestro profesor Pedro Reina nos ofrecerán un concierto. \nLa entrada será libre hasta completar el aforo de nuestra sala de conciertos. \n \nPrograma\nAngelo Alesi Jiménez\nMy Lady Hunsdon´s Puffe\, J. Dowland\nFantasía en Re menor\, S. L. Weiss\nAlcañiz (Festiva) de Castillos de España\, F. Moreno Torroba\nVariaciones sobre un tema de Mozart Op. 9\, F. Sor \nDaniel Luque Quirós\nNatalia\, G. Moustaki\nDialogando de Estudios poéticos\, D. Fortea\nCapricho árabe\, F. Tárrega\nPreludio n° 1\, H. Villalobos \nGabriel Uroz Rojas\nRomance anónimo\, anónimo\nRegentropfen\, B. Szordikowski\nClassical Mood\, B. Szordikowski\nPreludio y Allegro\, Santiago de Murcia\nNocturno Op. 4 n° 2\, J. K. Mertz\nFantasía X\, Alonso de Mudarra\nMalagueña\, D. Fortea
URL:https://www.triarte.net/evento/1930-h-concierto-guitarra-alumnos-de-pedro-reina/
LOCATION:Sala de Conciertos de Triarte\, Calle Corregidor Antonio de Bobadilla\, 16\, Málaga\, 29006\, España
CATEGORIES:Concierto
ATTACH;FMTTYPE=image/png:https://www.triarte.net/wp-content/uploads/2025/05/web-07-05-2025-FESTIVAL-CLASICO-2.png
END:VEVENT
END:VCALENDAR