BEGIN:VCALENDAR
VERSION:2.0
PRODID:-//Triarte - Centro de estudios art&iacute;sticos - Conservatorio y escuela de m&uacute;sica, danza y teatro. - ECPv6.15.18//NONSGML v1.0//EN
CALSCALE:GREGORIAN
METHOD:PUBLISH
X-ORIGINAL-URL:https://www.triarte.net
X-WR-CALDESC:Eventos para Triarte - Centro de estudios art&iacute;sticos - Conservatorio y escuela de m&uacute;sica, danza y teatro.
REFRESH-INTERVAL;VALUE=DURATION:PT1H
X-Robots-Tag:noindex
X-PUBLISHED-TTL:PT1H
BEGIN:VTIMEZONE
TZID:Europe/Madrid
BEGIN:DAYLIGHT
TZOFFSETFROM:+0100
TZOFFSETTO:+0200
TZNAME:CEST
DTSTART:20210328T010000
END:DAYLIGHT
BEGIN:STANDARD
TZOFFSETFROM:+0200
TZOFFSETTO:+0100
TZNAME:CET
DTSTART:20211031T010000
END:STANDARD
BEGIN:DAYLIGHT
TZOFFSETFROM:+0100
TZOFFSETTO:+0200
TZNAME:CEST
DTSTART:20220327T010000
END:DAYLIGHT
BEGIN:STANDARD
TZOFFSETFROM:+0200
TZOFFSETTO:+0100
TZNAME:CET
DTSTART:20221030T010000
END:STANDARD
BEGIN:DAYLIGHT
TZOFFSETFROM:+0100
TZOFFSETTO:+0200
TZNAME:CEST
DTSTART:20230326T010000
END:DAYLIGHT
BEGIN:STANDARD
TZOFFSETFROM:+0200
TZOFFSETTO:+0100
TZNAME:CET
DTSTART:20231029T010000
END:STANDARD
END:VTIMEZONE
BEGIN:VEVENT
DTSTART;TZID=Europe/Madrid:20220401T203000
DTEND;TZID=Europe/Madrid:20220401T220000
DTSTAMP:20260423T143606
CREATED:20220328T184805Z
LAST-MODIFIED:20220401T142940Z
UID:7843-1648845000-1648850400@www.triarte.net
SUMMARY:20:30 h. Concierto de Piano - Alumnos de Mª Isabel Sánchez de Alcázar
DESCRIPTION:Dentro de las actividades programadas por TRIARTE\, está el realizar conciertos con los alumnos para mejorar su formación musical. \nEl viernes 1 de abril a las 20:30h los alumnos de Piano de nuestra profesora Mª Isabel Sánchez de Alcázar nos ofrecerán un concierto. La entrada será libre hasta completar el aforo de nuestra sala de conciertos. \nPrograma\nEugenio Sánchez Rojas\nDanza antigua\, E. Gnessyna \nBlanca Martín Abelardo\nLego Diego\, canción popular\nA la pata coja\, N. Tchokov \nNoa Godínez Cortés\nVals de los elefantes\, J. S. Bastien\nEl mercado persa\, J. S. Bastien \nVíctor Jiménez López\nUn elefante se balanceaba\, canción popular\nEscalando la montaña\, J. S. Bastien \nJulia Cortés Castillo\nEstudio de tresillos\, J. S. Bastien\nEl Conde Olinos\, canción popular \nFermín Serrano Baeza\nSonatina Op. 39 nº 1\, F. Lynes \nHelena Navarrete Vítores\nPastoral\, Ch. Hervé\nEl torero\, J. S. Bastien \nMartina Baeza Reyes\nAdagio\, D. Steibelt\nEstudio Op. 100 nº 23 ¨El retorno¨\, J. F. Burgmüller \nDaniele Macannuco González\nPara Elisa\, L. van Beethoven \nAna Borrego Ortiz\nVals en La m Op. post.\, F. Chopin \nAlba Martínez Martínez\nMazurka Op. 67 nº 2\, F. Chopin\nEstudio Op. 29 nº 15\, H. Bertini
URL:https://www.triarte.net/evento/2030-h-concierto-de-piano-alumnos-de-ma-isabel-sanchez-de-alcazar/
LOCATION:Sala de Conciertos de Triarte\, Calle Corregidor Antonio de Bobadilla\, 16\, Málaga\, 29006\, España
CATEGORIES:Concierto
ATTACH;FMTTYPE=image/png:https://www.triarte.net/wp-content/uploads/2022/03/01-04-2022-CONCIERTO-DE-PIANO-NOTICIA.png
END:VEVENT
BEGIN:VEVENT
DTSTART;TZID=Europe/Madrid:20220404T170000
DTEND;TZID=Europe/Madrid:20220404T183000
DTSTAMP:20260423T143606
CREATED:20220330T173511Z
LAST-MODIFIED:20220401T083142Z
UID:7848-1649091600-1649097000@www.triarte.net
SUMMARY:17:00 h. Concierto de Cámara – Clarinete\, Flauta y Guitarra
DESCRIPTION:Dentro de las actividades programadas por TRIARTE\, está el realizar conciertos con los alumnos para mejorar su formación musical. \nEl lunes 4 de abril a las 17:00h los alumnos de Clarinete\, Flauta y Guitarra de nuestras profesora María Esteban\, Aurora Pérez y Pedro Reina nos ofrecerán un concierto. La entrada será libre hasta completar el aforo de nuestra sala de conciertos. \nPrograma\nCarlos Llamas Tuderini\, clarinete\nDo y Sol\, popular \nDarío Carrasco Jiménez\, clarinete\nMaría Esteban Pacheco\, clarinete\nDúo de clarinetes nº 2\, B. H. Crusell \nJuan Bosco Rodríguez Alés\, clarinete\nConcierto para clarinete nº 1 Op. 36\, F. Krommer \nLucía Lara Mendoza\, flauta\nRodrigo Fernández Serrano\, flauta\nDuet n° 1 Op. 102\, Tulou \nLucía Maldonado Montiel\, flauta\nJosé Antonio Segovia Vega\, guitarra\nSerenade Op. 84\, V.Call\nMov. I: Andantino\nMov. II: Adagio \nEnrique Martínez Arias\, clarinete\nConcierto nº 3\, C. Stamitz\nMov. II: Romanze \nAlba Rodríguez Jiménez\, clarinete\nSonata Op. 167\, C. Saint-Saëns\nMov. I: Allegretto  \nRodrigo Caracuel Molinillo\, clarinete\nIdylle\, E. Bozza\nSonata nº 1\, J. X. Lefevre\nMov. I: Allegro moderato\nRondo. G. F. Fuchs \nFernando Fernández Escalera\, clarinete\nBerceuse Op. 16\, Gabriel Fauré\nSonatina\, W. A. Mozart \nMov. I: Allegro\nAllemande\, M. Yost \nEma – Yitong Xu\, clarinete\nVariations on a theme from Silvana Op. 33\, C. M. von Weber
URL:https://www.triarte.net/evento/1700-h-concierto-de-camara-clarinete-flauta-y-guitarra/
LOCATION:Sala de Conciertos de Triarte\, Calle Corregidor Antonio de Bobadilla\, 16\, Málaga\, 29006\, España
CATEGORIES:Concierto
ATTACH;FMTTYPE=image/png:https://www.triarte.net/wp-content/uploads/2022/03/CONCIERTO-DE-CLARINETE-WEB.png
END:VEVENT
BEGIN:VEVENT
DTSTART;TZID=Europe/Madrid:20220404T193000
DTEND;TZID=Europe/Madrid:20220404T203000
DTSTAMP:20260423T143606
CREATED:20220330T183845Z
LAST-MODIFIED:20220401T080435Z
UID:7851-1649100600-1649104200@www.triarte.net
SUMMARY:19:30 h. Concierto de Violonchelo - Alumnos de Ana Molina
DESCRIPTION:Dentro de las actividades programadas por TRIARTE\, está el realizar conciertos con los alumnos para mejorar su formación musical. \nEl lunes 4 de abril a las 19:30h los alumnos de Violonchelo de nuestra profesora Ana Molina nos ofrecerán un concierto. La entrada será libre hasta completar el aforo de nuestra sala de conciertos. \nPrograma\nPaco Jurado Zambrana\nSonata Op. 38 n° 1 en Mi m\, J. Brahms  \nKarla Andrea Van Loon Limonta\nGavotte Op. 23 n° 2\, K. Popper \nMarcos Núñez Muñoz\nRondo del concierto Op. 65 n° 4\, G. Goltermann \nIsabel Brichette Mieg\nAllegro appassionato Op. 43\, C. Saint-Saëns \nMaría José Barba León\nCanción sin palabras Op. 109\, F. Mendelssohn \nCarlos Arrabal Romero\nNocturno Op. 19 n° 4 para violonchelo y piano\, PI. Tchaikovsky
URL:https://www.triarte.net/evento/1930-h-concierto-de-violonchelo/
LOCATION:Sala de Conciertos de Triarte\, Calle Corregidor Antonio de Bobadilla\, 16\, Málaga\, 29006\, España
CATEGORIES:Concierto
ATTACH;FMTTYPE=image/png:https://www.triarte.net/wp-content/uploads/2022/03/04-04-2022-CONCIERTO-DE-VIOLONCHELO.png
END:VEVENT
BEGIN:VEVENT
DTSTART;TZID=Europe/Madrid:20220405T170000
DTEND;TZID=Europe/Madrid:20220405T183000
DTSTAMP:20260423T143606
CREATED:20220330T192327Z
LAST-MODIFIED:20220404T194201Z
UID:7855-1649178000-1649183400@www.triarte.net
SUMMARY:17:00 h. Concierto de Violín - Alumnos de Fátima Fernández
DESCRIPTION:Dentro de las actividades programadas por TRIARTE\, está el realizar conciertos con los alumnos para mejorar su formación musical. \nEl Martes 5 de abril a las 17:00 h los alumnos de Violín de nuestra profesora Fátima Fernández nos ofrecerán un concierto. La entrada será libre hasta completar el aforo de nuestra sala de conciertos. \nPrograma\nJade Tamarit Fernández\nDos en un bote\, canción americana \nJuan Antonio Vargas Fernández\nLift off!\nFiebre del ritmo\, K. y D. Blackwell \nÁlvaro Pérez del Pulgar de los Ríos\nReady\, steady\, go now! K. y D. Blackwell \nPablo Betancourt Pérez\nLuces nocturnas\, K. y D. Blackwell\nPhoebe in her petticoat\, canción americana \nMarco Lavado Jiménez\nEl amigo Bally\, canción escocesa\nSo there!\, K. y D. Blackwell \nAlma Benito Lorite\nOff to Paris\, canción francesa\nShortnin’ bread\, canción americana \nÁlvaro Bolaños Serrano\nBarco de remos\nVaquero perezoso\, K. y D. Blackwell \nGonzalo López Hijosa\nCopy cat\nTap dancer\, K. y D. Blackwell \nXun Heng – Diego Gao\nEl pájaro burlón\, canción americana\nHappy go lucky\, K. y D. Blackwell \nLaura Castilla Jiménez\nCanción de Clara\nSol de verano\, K. y D. Blackwell \nLara Ríos Gálvez\nVe y dile a tía Ródi\, canción popular \nDiego Hidalgo Rodríguez\nGavotte\, P. Martini \nXintian – Dulce Chen\nGavotte en Re M\, J. S. Bach
URL:https://www.triarte.net/evento/1700-h-concierto-de-violin/
LOCATION:Sala de Conciertos de Triarte\, Calle Corregidor Antonio de Bobadilla\, 16\, Málaga\, 29006\, España
CATEGORIES:Concierto
ATTACH;FMTTYPE=image/png:https://www.triarte.net/wp-content/uploads/2022/03/CONCERTO-DE-VIOLIN-WEB.png
END:VEVENT
BEGIN:VEVENT
DTSTART;TZID=Europe/Madrid:20220405T193000
DTEND;TZID=Europe/Madrid:20220405T210000
DTSTAMP:20260423T143606
CREATED:20220331T082536Z
LAST-MODIFIED:20220405T152452Z
UID:7860-1649187000-1649192400@www.triarte.net
SUMMARY:19:30 h. Concierto de Piano - Alumnos de Siliana Zdravkova
DESCRIPTION:Dentro de las actividades programadas por TRIARTE\, está el realizar conciertos con los alumnos para mejorar su formación musical. \nEl Martes 5 de abril a las 19:30 h los alumnos de Piano de nuestra profesora Siliana Zdravkova nos ofrecerán un concierto. La entrada será libre hasta completar el aforo de nuestra sala de conciertos. \nPrograma\nVictoria Marín González\nLa grulla\, escuela rusa \nMarco Antonio Morales Trigo\nRío Visla \, escuela rusa \nLuca Jesús Morales Trigo\nCanción de cuna\, escuela rusa \nXun Xuan – Susana Gao\nEstudio en Do M\, A. Nikolaev\nCanción checa\, escuela rusa \nJohn Bell Borja\nEl pequeño cosaco\, escuela rusa \nJulia Fernández Pérez\nEn el jardín de Elena\, E. Gnesina \nSofía León Morote\nSonatina en Do M\, J. S. Bastien\nMov. I: Allegro \nCarla Jurado Campillos\nSonatina nº 5 en Sol M\, L. van Beethoven\nMov. I: Allegro \nDavid Mora Ortega\nSonatina Op. 55 nº 4\, F. Kuhlau \nPablo Lara Mendoza\nEstudio en Do M\, A. Nikolaev \nRosana Vera Bazaga\nSonatina nº 6\, L. van Beethoven\nMov. I: Allegro \nRocío Alba Yahyaoui\nPolonesa póstuma\, F. Chopin \nMaría José Martín Sánchez\, violín\nCarlos Arrabal Romero\, violonchelo\nCanción de cuna Op. 39 nº 3\, Gliere \nIrene Ambrosio Luque\nSonata nº 10\, J. Haydn \nRodrigo Ávila Perales\nGranada\, I. Albéniz \nIsabel María Ambrosio Luque\nZambra\, J. Turina \nPablo García Perals\nSonata KV 332 Fa M\, Mozart\nMov. I: Allegro \nSofía López Ruiz\nFantasía Impromptu\, F. Chopin
URL:https://www.triarte.net/evento/1930-h-concierto-de-piano-alumnos-de-siliana-zdravkova/
LOCATION:Sala de Conciertos de Triarte\, Calle Corregidor Antonio de Bobadilla\, 16\, Málaga\, 29006\, España
CATEGORIES:Concierto
ATTACH;FMTTYPE=image/png:https://www.triarte.net/wp-content/uploads/2022/03/CONCIERTO-DE-PIANO-WEB.png
END:VEVENT
BEGIN:VEVENT
DTSTART;TZID=Europe/Madrid:20220406T170000
DTEND;TZID=Europe/Madrid:20220406T190000
DTSTAMP:20260423T143606
CREATED:20220331T083245Z
LAST-MODIFIED:20220405T161630Z
UID:7870-1649264400-1649271600@www.triarte.net
SUMMARY:17:00 h. Concierto de Saxofón - Alumnos de Adrián Ruiz
DESCRIPTION:Dentro de las actividades programadas por TRIARTE\, está el realizar conciertos con los alumnos para mejorar su formación musical. \nEl Miércoles 6 de abril a las 17:00 h los alumnos de Saxofón de nuestra profesora Adrián Ruiz nos ofrecerán un concierto. La entrada será libre hasta completar el aforo de nuestra sala de conciertos. \nPrograma\nLucas Moreno García \nOn holiday\nOff to town\, M. Oldenkamp \nRaquel López Espínola\nLago de los cisnes\, P. I. Tchaikovsky \nLuis Yebra Casero \nRomance célebre\, J. P. Martini \nFrancisco Javier González García\nMarcha eslava\, P. I. Tchaikovsky \nEmilio – Ziyi Xu\nRomance\, W. A. Mozart \nElba María Varela Miguel\nAdagio et arabesque\, R. Berthelot \nPianistas acompañantes: Siliana Zdravkova y Carmen Vidal
URL:https://www.triarte.net/evento/1700-h-concierto-de-saxofon-alumnos-de-adrian-ruiz/
LOCATION:Sala de Conciertos de Triarte\, Calle Corregidor Antonio de Bobadilla\, 16\, Málaga\, 29006\, España
CATEGORIES:Concierto
ATTACH;FMTTYPE=image/png:https://www.triarte.net/wp-content/uploads/2022/03/CONCIERTO-DE-SAXO-WEB.png
END:VEVENT
BEGIN:VEVENT
DTSTART;TZID=Europe/Madrid:20220406T193000
DTEND;TZID=Europe/Madrid:20220406T210000
DTSTAMP:20260423T143606
CREATED:20220331T100852Z
LAST-MODIFIED:20220405T180843Z
UID:7879-1649273400-1649278800@www.triarte.net
SUMMARY:19:30 h. Concierto de Piano – Alumnos de Carmen Vidal y  Álvaro Saldaña
DESCRIPTION:Dentro de las actividades programadas por TRIARTE\, está el realizar conciertos con los alumnos para mejorar su formación musical. \nEl miércoles 6 de abril a las 19:30h los alumnos de Piano de nuestros profesores Carmen Vidal y Álvaro Saldaña nos ofrecerán un concierto. La entrada será libre hasta completar el aforo de nuestra sala de conciertos. \nPrograma\nElia Sánchez Vallejo \nPreludio en Fa M BWV 927\, J. S. Bach \nRosa María Ortigosa González \nOcho apuntes\, J. Guridi\nI. Amanecer  \nÁlvaro Salmerón Muñoz \nValse Op. 69 nº 1\, F. Chopin \nGonzalo Marcos Garratón\nCancion popular\, J. Bastien \nCarlos Caracuel Molinillo\nTambourin\, L. Lévy \nRodrigo Núñez Peregrín\n¡Puf! Va la comadreja\, J. Bastien \nSalvador Lavigne\nPara Elisa\, L. van Beethoven \nValeria Coro Muñoz\nNouvellette Op. 39 nº 22\, D. Kabalevski \nJulia Marcos Garratón\n2 estudios en Do M\, E. Gnesina \nSahari Medina Villagra\n¡Puf! Va la comadreja\, J. Bastien \nMercado persa\, J. Bastien\nVals de los elefantes\, J. Bastien \nAlfredo Lázaro Barco\nCanta pajarillo\, J. Bastien\nDanza india\, J. Bastien \nÁlvaro Perea Fenech\n¡Puf! Va la comadreja\, J. Bastien\nOda a la Alegría\, L. van Beethoven \nJaime Jiménez García\nCanta\, pájaro canta\, J. Bastien\nAl compás del swing\, J. Bastien\nPreludio matinal\, J. Bastien \nAlejandra Salazar de Haro\nCorre\, ratón corre\, J. Bastien\nVals de los elefantes\, J. Bastien\nOda a la Alegría\, L. van Beethoven \nJavier Casado Pérez\nSonatina Op. 36. nº 1\, M. Clementi \nJiayi Ye\nSonatina Anh. 5 nº 1\, L. van Beethoven \nLoreto Bueno San Juan\nSonatina Op. 36. nº 1\, M. Clementi
URL:https://www.triarte.net/evento/1930-h-concierto-de-piano-alumnos-de-carmen-vidal-y-alvaro-saldana/
LOCATION:Sala de Conciertos de Triarte\, Calle Corregidor Antonio de Bobadilla\, 16\, Málaga\, 29006\, España
CATEGORIES:Concierto
ATTACH;FMTTYPE=image/png:https://www.triarte.net/wp-content/uploads/2022/03/CONCIERTO-DE-PIANO-WEB-1.png
END:VEVENT
BEGIN:VEVENT
DTSTART;VALUE=DATE:20220411
DTEND;VALUE=DATE:20220418
DTSTAMP:20260423T143606
CREATED:20220401T081617Z
LAST-MODIFIED:20220401T081617Z
UID:7909-1649635200-1650239999@www.triarte.net
SUMMARY:Vacaciones escolares de Semana Santa 2022
DESCRIPTION:Con motivo de las vacaciones escolares de Semana Santa\, Triarte permanecerá cerrado del 11 de abril al 17 de abril. \nLas clases se retomarán el lunes 18 de abril.
URL:https://www.triarte.net/evento/vacaciones-escolares-de-semana-santa-2022/
CATEGORIES:Noticias
ATTACH;FMTTYPE=image/png:https://www.triarte.net/wp-content/uploads/2022/04/SEMANA-SANTA-2022-WEB.png
END:VEVENT
BEGIN:VEVENT
DTSTART;TZID=Europe/Madrid:20220420T170000
DTEND;TZID=Europe/Madrid:20220420T190000
DTSTAMP:20260423T143606
CREATED:20220418T152422Z
LAST-MODIFIED:20220419T161258Z
UID:7925-1650474000-1650481200@www.triarte.net
SUMMARY:17:00 h Concierto de Piano – Alumnos de Siliana Zdravkova y Álvaro Saldaña
DESCRIPTION:Dentro de las actividades programadas por TRIARTE\, está el realizar conciertos con los alumnos para mejorar su formación musical. \nEl miércoles 20 de abril a las 17:00 h los alumnos de Piano de nuestros profesores Siliana Zdravkova y Álvaro Saldaña nos ofrecerán un concierto. La entrada será libre hasta completar el aforo de nuestra sala de conciertos. \nPrograma\nElba María Varela Miguel\nInvención nº 4\, J. S. Bach\nDanza de la Seducción\, J. Turina \nMaría Fernández Bravo\nInvención nº 4\, J. S. Bach\nEstudio nº 11 Op. 29\, H. Bertini\nDulce visión\, P. Tchaikovsky \nJosé Antonio Delgado Olmo\nValse Op. 12 nº 2\, E. Grieg\nPreludio en Re M BWV 938\, J. S. Bach\nMarcha Op. 65\, S. Prokófiev \nJuan Guzmán Herrera\nInvención en Si bemol M BWV 785\, J. S. Bach\nSonatina Op. 20 nº 1\, F. Kuhlau\nI. Allegro\nII. Andante\nIII. Rondo. Allegro\nMeditación Op. 76\, C. Chaminade \nSara Melwani Nanwani\nVals Op. 38 nº 7\, E. Grieg\nEstudio Op. 100 nº 11\, H. Bertini\nInvención en Re m BWV 775\, J. S. Bach \nRaquel Vázquez Gandía\nSinfonía nº 15\, J. S. Bach\nSonata Op. 49 nº 2\, L. van Beethoven\nVals Op. 69 nº 2\, F. Chopin\nArabesca nº 1\, C. Debussy \nEva – Yiran Xu\nPreludio y fuga en Si b Mayor\, J. S. Bach\nSonata Op. 27 nº 2\, L. van Beethoven\nI. Adagio Sostenuto\nII. Allegretto \nNoa Fernández Gil\nInvención nº 13\, J. S. Bach\nEstudio nº 2 Op. 299\, C. Czerny\nEstudio nº 8\, A. Jensen\nRumores de la Caleta\, I. Albéniz
URL:https://www.triarte.net/evento/1700-h-concierto-de-piano-alumnos-de-siliana-zdravkova-y-alvaro-saldana/
LOCATION:Sala de Conciertos de Triarte\, Calle Corregidor Antonio de Bobadilla\, 16\, Málaga\, 29006\, España
CATEGORIES:Concierto
ATTACH;FMTTYPE=image/png:https://www.triarte.net/wp-content/uploads/2022/04/20-04-2022-CONCIERTO-DE-PIANO-WEB.png
END:VEVENT
BEGIN:VEVENT
DTSTART;TZID=Europe/Madrid:20220425T200000
DTEND;TZID=Europe/Madrid:20220425T213000
DTSTAMP:20260423T143606
CREATED:20220420T172331Z
LAST-MODIFIED:20220422T175541Z
UID:7941-1650916800-1650922200@www.triarte.net
SUMMARY:20:00 h Concierto de Guitarra – Alumnos de Pedro Reina
DESCRIPTION:Dentro de las actividades programadas por TRIARTE\, está el realizar conciertos con los alumnos para mejorar su formación musical. \nEl Lunes 25 de abril a las 20:00 h los alumnos de Guitarra de nuestro profesor Pedro Reina nos ofrecerán un concierto. La entrada será libre hasta completar el aforo de nuestra sala de conciertos. \nPrograma\nJimena Muñoz Rando\nCoral (dúo)\, J. A. Muro\nMi familia (dúo)\, M. Alcolea \nOlivia Fernández Bravo\nPequeña marcha (dúo)\, J. A. Muro\nCanción de juego\, J. A. Muro \nEugenio Sánchez Rojas \nLa muñeca de trapo (dúo)\, J. A. Muro\nRima (dúo)\, J. A. Muro \nVíctor Pico Molins\nEl pulgar (dúo)\, J. A. Muro \nNana (dúo)\, J. A. Muro\nEl cucú (dúo)\, J. A. Muro \nLucía Ortigosa González\nRiachuelo de montaña (dúo)\, J. A. Muro\nLos gatitos (dúo)\, popular \nVictoria Bueno San Juan\nMerienda en el campo (dúo)\, J. A. Muro\nVals de primavera (dúo)\, J. A. Muro \nFrancisco Pérez Villalba\nCumpleaños feliz (dúo)\, popular\nEl canto del cuco (dúo)\, popular alemana\nLa barcarola (dúo)\, J. Offenbach \nAlejandro Sentí Florez\nLección\, D. Aguado\nEstudio de arpegio\, L. Sanz \nSahari Medina Villagra \nCogiendo flores (dúo)\, J. A. Muro\nCanción infantil (dúo)\, J. A. Muro \nPablo Rodríguez Mena\nEl flautista (dúo)\, J. A. Muro\nStep 10\, J. Hochweber \nÁngel Aguilera Ruiz\nOda a la alegría (dúo)\, L. van Beethoven\nCuento antiguo\, J. A. Muro\nCrepúsculo\, J. A. Muro \nJimena González Gaspar\nMazurka (dúo)\, F. Tárrega\nEstudio 19 Op. 60\, F. Sor
URL:https://www.triarte.net/evento/2000-h-concierto-de-guitarra-alumnos-de-pedro-reina/
LOCATION:Sala de Conciertos de Triarte\, Calle Corregidor Antonio de Bobadilla\, 16\, Málaga\, 29006\, España
CATEGORIES:Concierto
ATTACH;FMTTYPE=image/png:https://www.triarte.net/wp-content/uploads/2022/04/25-04-2022-CONCIERTO-DE-GUITARRA-WEB.png
END:VEVENT
END:VCALENDAR