BEGIN:VCALENDAR
VERSION:2.0
PRODID:-//Triarte - Centro de estudios art&iacute;sticos - Conservatorio y escuela de m&uacute;sica, danza y teatro. - ECPv6.15.18//NONSGML v1.0//EN
CALSCALE:GREGORIAN
METHOD:PUBLISH
X-ORIGINAL-URL:https://www.triarte.net
X-WR-CALDESC:Eventos para Triarte - Centro de estudios art&iacute;sticos - Conservatorio y escuela de m&uacute;sica, danza y teatro.
REFRESH-INTERVAL;VALUE=DURATION:PT1H
X-Robots-Tag:noindex
X-PUBLISHED-TTL:PT1H
BEGIN:VTIMEZONE
TZID:Europe/Madrid
BEGIN:DAYLIGHT
TZOFFSETFROM:+0100
TZOFFSETTO:+0200
TZNAME:CEST
DTSTART:20170326T010000
END:DAYLIGHT
BEGIN:STANDARD
TZOFFSETFROM:+0200
TZOFFSETTO:+0100
TZNAME:CET
DTSTART:20171029T010000
END:STANDARD
BEGIN:DAYLIGHT
TZOFFSETFROM:+0100
TZOFFSETTO:+0200
TZNAME:CEST
DTSTART:20180325T010000
END:DAYLIGHT
BEGIN:STANDARD
TZOFFSETFROM:+0200
TZOFFSETTO:+0100
TZNAME:CET
DTSTART:20181028T010000
END:STANDARD
BEGIN:DAYLIGHT
TZOFFSETFROM:+0100
TZOFFSETTO:+0200
TZNAME:CEST
DTSTART:20190331T010000
END:DAYLIGHT
BEGIN:STANDARD
TZOFFSETFROM:+0200
TZOFFSETTO:+0100
TZNAME:CET
DTSTART:20191027T010000
END:STANDARD
END:VTIMEZONE
BEGIN:VEVENT
DTSTART;VALUE=DATE:20180501
DTEND;VALUE=DATE:20180502
DTSTAMP:20260423T230920
CREATED:20180423T183202Z
LAST-MODIFIED:20180423T183202Z
UID:4411-1525132800-1525219199@www.triarte.net
SUMMARY:Día festivo Nacional de la Fiesta del Trabajo.
DESCRIPTION:Triarte permanecerá cerrado con motivo de la Fiesta del Trabajo.
URL:https://www.triarte.net/evento/dia-festivo-nacional-de-la-fiesta-del-trabajo/
ATTACH;FMTTYPE=image/png:https://www.triarte.net/wp-content/uploads/2018/04/dia-del-trabajador.png
END:VEVENT
BEGIN:VEVENT
DTSTART;TZID=Europe/Madrid:20180504T203000
DTEND;TZID=Europe/Madrid:20180504T220000
DTSTAMP:20260423T230920
CREATED:20180430T160247Z
LAST-MODIFIED:20180430T160247Z
UID:4434-1525465800-1525471200@www.triarte.net
SUMMARY:20:30 h. Concierto de Clásico: Alumnos de Piano y Guitarra.
DESCRIPTION:El viernes 4 de mayo a las 20:30 h los alumnos de piano y guitarra de nuestro centro nos ofrecerán un concierto. La entrada será libre hasta completar el aforo de nuestra sala de conciertos. \nPROGRAMA\nCarla Luisa García Crespillo\nInvención nº 14\, J. S. Bach\nCanción de los gondoleros de Venecia\, F. Mendelssohn\nDanza de la seducción\, J. Turina \nDiana Jiménez Valeroso\nSonatina nº 3\, M. Clementi\nI. Allegro \nGuillermo Lorenzo Romero\nInvención nº 1\, J. S. Bach\nEstudio Op. 29 nº 11\, H. Bertini \nIsabel María Ambrosio Luque\nSonatina en Do M\, F. Kuhlau\nII. Allegretto\nEl pequeño negrito\, C. Debussy\nImagen poética Op. 3\, E. Grieg \nMiguel García García\nCapricho en Mi m Op. 26 nº 3\, M. Carcassi\nEstudio simple VI\, L. Brouwer\nGigue\, J. A. Logy \nÁlvaro Ruiz Llopis\nInvención en Do m\, J. S. Bach\nSonatina\, F. Kulhau\nI. Allegro\nPolonesa\, F. Chopin \nIrene Asencio Florido\nEstudio Op. 29 nº 11\, Bertini\nVals nº 17\, Chopin \nAlexis Ortiz Espinosa\nSonatina Op. 36 nº 4\, M. Clementi\nInvención n° 8\, J. S. Bach \nMaría Zumaquero Pardo\nAtardecer Op. 65 nº 11\, S. Prokofiev\nInvención nº 4 en Re m\, J. S. Bach\nMazurka nº 56\, F. Chopin \nInés López Rodríguez\nPreludio Op. 28 nº 4\, F. Chopin\nSonatina Op. 36 nº 3 en Do M\, M.Clementi\nI. Spiritoso\nVals Op.65 nº 6\, S. Prokofiev \nAna Mei Morales Rodríguez\nPavana I\, L. Milán\nPreludio Lágrima\, F. Tárrega\nGavota II BWV 995\, J. S. Bach
URL:https://www.triarte.net/evento/2030-h-concierto-de-clasico-alumnos-de-piano-y-guitarra/
LOCATION:Sala de Conciertos de Triarte\, Calle Corregidor Antonio de Bobadilla\, 16\, Málaga\, 29006\, España
CATEGORIES:Concierto
ATTACH;FMTTYPE=image/png:https://www.triarte.net/wp-content/uploads/2018/04/4-5-2018-CONCIERTO-DE-ALUMNOS.png
END:VEVENT
BEGIN:VEVENT
DTSTART;TZID=Europe/Madrid:20180511T203000
DTEND;TZID=Europe/Madrid:20180511T220000
DTSTAMP:20260423T230920
CREATED:20180430T175118Z
LAST-MODIFIED:20180511T184901Z
UID:4437-1526070600-1526076000@www.triarte.net
SUMMARY:20:30 h. Concierto de Clásico: Alumnos de Enseñanzas Básicas de Música.
DESCRIPTION:El viernes 11 de mayo a las 20:30 h los alumnos de Enseñanzas Básicas de Música de nuestro centro nos ofrecerán un concierto. La entrada será libre hasta completar el aforo de nuestra sala de conciertos. \nPROGRAMA \nIsabel Jiménez Branashko\, piano\nVals Op. 65 nº 6\, S. Prokofiev\nSonatina Op. 168 nº 3 en Do M\, A. Diabelli\nIII: Allegro\nInvención nº 8 en Fa M\, J. S. Bach \nValeria Jiménez Branashko\, violonchelo\nV Concertino\, J. B. Breval\nI. Allegro\nDanse Rustique nº 5 Op. 20\, W. H. Squire \nMª Auxiliadora Delgado Fernández\, flauta\nPresto\, J. Vanhal\nSicilienne Op. 78\, G. Fauré  \nCarlos Arrabal Romero\, violonchelo\nSonata en Do M nº 1 Op. 40\, J. B. Breval\nBarcarole\, J. Offenbach \nFernando Gordillo Rodríguez\, piano\nSonatina nº 3\, A. Diabelli\nI. Allegro moderato\nInvención nº 4\, J. S. Bach \nIrene Cordero Rosado\, flauta\nAllegro\, A. Vivaldi\nAllegro con brio\, P. Jardanyi \nAntonio Francisco Luque Cara\, saxofón\nAria\, E. Bozza\nPequeño vals\, L. van Beethoven\nBaghira\, F. Ferrán \nMª José Martín Sánchez\, violín\nEstudio nº 2\, R. Kreutzer\nConcierto el La m\, A. Vivaldi\nI. Allegro\nConcierto nº 5\, F. Seitz\nII. Allegretto \nJavier Hernández Aguilera\, violín\nEstudio nº 2\, R. Kreutzer\nConcierto en Sol M\, A. Vivaldi\nI. Allegro\nConcierto nº 5\, F. Seitz\n I. Allegro moderato \nBlanca Amestoy Sánchez\, piano\nEstudio Op. 29 nº 11\, H. Bertini\nCanción italiana\, P. I. Tchaikovsky \nSiciliana\, A. Casella \nJimena Aranda Arrezas\, piano\nPara Elisa\, L. van Beethoven\nInvención nº 1 en Do M\, J. S. Bach\nRomanza sin palabras Op.30 nº 6\, F. Mendelssohn
URL:https://www.triarte.net/evento/2030-h-concierto-de-clasico-alumnos-de-ensenanzas-basicas-de-musica/
LOCATION:Sala de Conciertos de Triarte\, Calle Corregidor Antonio de Bobadilla\, 16\, Málaga\, 29006\, España
CATEGORIES:Concierto
ATTACH;FMTTYPE=image/png:https://www.triarte.net/wp-content/uploads/2018/04/11-5-2018-CONCIERTO-DE-ALUMNOS.png
END:VEVENT
BEGIN:VEVENT
DTSTART;TZID=Europe/Madrid:20180525T201500
DTEND;TZID=Europe/Madrid:20180525T220000
DTSTAMP:20260423T230920
CREATED:20180518T145134Z
LAST-MODIFIED:20180521T173346Z
UID:4559-1527279300-1527285600@www.triarte.net
SUMMARY:20:15 h. Concierto de Guitarra: Alumnos de Manuel Pérez Vela.
DESCRIPTION:El viernes 25 de mayo a las 20:15h los alumnos del profesor Manuel Pérez Vela nos ofrecerán un maravilloso Concierto de Guitarra en nuestro centro. Todos los alumnos son alumnos que se encuentra cursando Enseñanzas Profesionales de Música en el Conservatorio Profesional de Música Gonzalo Martín Tenllado\, Málaga. \nLa entrada al concierto será libre y gratuita hasta completar el aforo de nuestras Sala de Conciertos. \nPROGRAMA\nVerónica Rodríguez Brome\nSuite en La menor\, J. A. Logy\nAria – Capriccio – Sarabanda – Gavotte – Gigue\nCanción\, A. G. Abril \nAna Fernández Olalla\nNocturno nº 1\, J. K. Mertz\nPequeño estudio\, A. G. Abril \nLu Wang\nNocturno nº 2\, J. K. Mertz \nPaula Vargas Sedano\nNocturno nº 3\, J. K. Mertz\nVals venezolano\, J. Cardoso\nEstudios VII – II – IX\, L. Brouwer \nElena Ramos Gil\nVals sin nombre\, B. Powell\nVals en Re Mayor\, F. Tárrega \nÚrsula A. Ávila López\nEstudio nº 24 Op. 35\, F. Sor\nPreludio nº 3\, H. Villalobos \nIsabel Vázquez Arenal\nEstudio nº 11 Op. 6\, F. Sor\nPreludio nº 4\, H. Villalobos \nLola de Castro García\nPreludio nº 1\, H. Villalobos\nElfenreigen\, J. K. Mertz\nSe ela perguntar\, D. Reis \nCarlos Espejo Lucena\nVariaciones sobre un tema de\nHaendel Op. 107\, M. Giuliani
URL:https://www.triarte.net/evento/2030-h-concierto-de-guitarra-alumnos-de-manuel-perez-vela-2/
LOCATION:Sala de Conciertos de Triarte\, Calle Corregidor Antonio de Bobadilla\, 16\, Málaga\, 29006\, España
CATEGORIES:Concierto
ATTACH;FMTTYPE=image/png:https://www.triarte.net/wp-content/uploads/2018/05/CONCIERTO-GUITARRA-ALUMNOS-TENLLADO-MANUEL.png
END:VEVENT
BEGIN:VEVENT
DTSTART;TZID=Europe/Madrid:20180529T173000
DTEND;TZID=Europe/Madrid:20180529T183000
DTSTAMP:20260423T230920
CREATED:20180515T181942Z
LAST-MODIFIED:20180522T190046Z
UID:4542-1527615000-1527618600@www.triarte.net
SUMMARY:17:30 h. Concierto de Viento: alumnos de flauta y clarinete.
DESCRIPTION:El martes 29 de mayo a las 17:30 h. los alumnos de flauta de C. Beatriz Puche\, y los alumnos de clarinete de Adrián Martín nos ofrecerán un concierto. \nLa entrada será libre hasta completar el aforo de nuestra sala de conciertos. \nPROGRAMA\nMiguel Jurado Rubio\, clarinete\nFuneral march (Symphony nº 1)\, G. Mahler\nBerceuse\, C. Gurlitt \nAna Pino Mendoza\, flauta\nEl lago de los cisnes\, P. I. Tchaikovsky\nUna de Klezmer\, J. de Haan \nMario Fernández Gil\, flauta\nStairway to heaven\, Led Zeppelin \nMaría Muñoz Medina\, clarinete\nHimno de la alegría\, L. van Beethoven\nUn elefante\, tradicional \nMiguel Reguera Domínguez\, flauta\nAllegro\, B. Marcello\nDe cero a heroe\, BSO Hércules \nBerta Lisciotto Vallejo\, flauta\nLos piratas del Caribe\, H. Zimmer\nMinuet\, W. A. Mozart \nPaula Vázquez García\, flauta\nMusette\, L. de Caix d’ Hervelois\nMinuet\, G. Ph. Telemann \nPaula Gómez Castro\, clarinete\nPetite danse\, C. Gurlitt\nCielito lindo\, canción popular mexicana \nJuan Bosco Delgado Fernández\, flauta\nGavotte\, M. Blavet \nIrene Pardo Molina\, flauta\nLa marche du Czar\, L. de Caix d’Hervelois\nHijo de la Luna\, J. M. Cano \nSofía Durán Gallardo\, flauta\nPhaéton\, J. B. Lully\nQué hay más allá\, BSO Vaiana \nSergio Mañas Dueñas\, flauta\nTwo worlds\, BSO Tarzán\nFriend like me\, BSO Aladdin \nEstrella Thao Molina Samper\, flauta\nHonor to us all\, BSO Mulán \nMiguel Ángel Porras Muñoz\, clarinete\nStairway to heaven\, Led Zeppelin
URL:https://www.triarte.net/evento/1730-h-concierto-de-viento-alumnos-de-clarinete-y-flauta/
LOCATION:Sala de Conciertos de Triarte\, Calle Corregidor Antonio de Bobadilla\, 16\, Málaga\, 29006\, España
CATEGORIES:Concierto
ATTACH;FMTTYPE=image/png:https://www.triarte.net/wp-content/uploads/2018/05/29-05-2018-CONCIERTO-VIENTO-17_30.png
END:VEVENT
BEGIN:VEVENT
DTSTART;TZID=Europe/Madrid:20180529T193000
DTEND;TZID=Europe/Madrid:20180529T203000
DTSTAMP:20260423T230920
CREATED:20180515T183427Z
LAST-MODIFIED:20180522T192235Z
UID:4546-1527622200-1527625800@www.triarte.net
SUMMARY:19:30 h. Concierto de Viento: alumnos de clarinete\, flauta y saxofón.
DESCRIPTION:El martes 29 de mayo a las 19:30 h. los alumnos de flauta de C. Beatriz Puche\, los de clarinete de Adrián Martín y los de saxofón de Juan David Guerrero nos ofrecerán un concierto. \nLa entrada será libre hasta completar el aforo de nuestra sala de conciertos. \nPROGRAMA\nYasmina Sánchez Martí\, clarinete\nFive bagatelles V- Fughetta\, G. Finzi \nMontserrat Martínez Martínez\, flauta\nRiver flows in you\, Yurima \nÁlvaro Cuevas García\, clarinete\nSicilienne Op. 78\, G. Fauré \nBelén Caravias Anaya\, flauta\nVivace en Fa Mayor\, G. Ph. Telemann \nLucía Lara Mendoza\, flauta\nMinuetto con variaciones en Sol Mayor\, J. Wanhal \nRodrigo Fernández Serrano\, flauta\nCantabile y Allegro en Sol Mayor\, G. Ph. Telemann \nIgnacio Álvarez Marín\, flauta\nFantasía para flauta y piano Op. 79\, G. Fauré \nJosé Luis García Fernández\, flauta\nLes tendres badinages\, M. Blavet \nElba María Varela Miguel\, saxofón\nMarcha del soldado\, R. Schumann \nPablo Lara Mendoza\, flauta\nLook through my eyes\, BSO Hermano Oso \nJuan Bosco Rodríguez Alés\, clarinete\nLe petit nègre\, C. Debussy \nVictoria Isabel García Crespillo\, flauta\nRondó Op. 55\, E. Köhler \nDario Carrasco Jiménez\, clarinete\nDúo nº 2\, B. Crusell \nCarlos Samuel Villalba Bastida\, flauta\nSonata canónica\, Op. 5\, G. Ph. Telemann\nMov. I: Vivace\nMov. II: Suave \nCarlos Samuel Villalba Bastida\, flauta\nCarmen Benavides Mora\, piano\nSonata VII en La Mayor\, G. F. Handel\nMov II: Allegro\nMov III: Adagio \nIgnacio Álvarez Marín\, flauta\nVictoria Isabel García Crespillo\, piano\nSonata para flauta y piano\, F. Poulenc\nMov. III: Presto giocoso
URL:https://www.triarte.net/evento/1930-h-concierto-de-viento-alumnos-de-clarinete-flauta-y-saxofon/
LOCATION:Sala de Conciertos de Triarte\, Calle Corregidor Antonio de Bobadilla\, 16\, Málaga\, 29006\, España
CATEGORIES:Concierto
ATTACH;FMTTYPE=image/png:https://www.triarte.net/wp-content/uploads/2018/05/19_30-29-05-2018-CONCIERTO-VIENTO.png
END:VEVENT
END:VCALENDAR