BEGIN:VCALENDAR
VERSION:2.0
PRODID:-//Triarte - Centro de estudios art&iacute;sticos - Conservatorio y escuela de m&uacute;sica, danza y teatro. - ECPv6.15.18//NONSGML v1.0//EN
CALSCALE:GREGORIAN
METHOD:PUBLISH
X-ORIGINAL-URL:https://www.triarte.net
X-WR-CALDESC:Eventos para Triarte - Centro de estudios art&iacute;sticos - Conservatorio y escuela de m&uacute;sica, danza y teatro.
REFRESH-INTERVAL;VALUE=DURATION:PT1H
X-Robots-Tag:noindex
X-PUBLISHED-TTL:PT1H
BEGIN:VTIMEZONE
TZID:Europe/Madrid
BEGIN:DAYLIGHT
TZOFFSETFROM:+0100
TZOFFSETTO:+0200
TZNAME:CEST
DTSTART:20170326T010000
END:DAYLIGHT
BEGIN:STANDARD
TZOFFSETFROM:+0200
TZOFFSETTO:+0100
TZNAME:CET
DTSTART:20171029T010000
END:STANDARD
BEGIN:DAYLIGHT
TZOFFSETFROM:+0100
TZOFFSETTO:+0200
TZNAME:CEST
DTSTART:20180325T010000
END:DAYLIGHT
BEGIN:STANDARD
TZOFFSETFROM:+0200
TZOFFSETTO:+0100
TZNAME:CET
DTSTART:20181028T010000
END:STANDARD
BEGIN:DAYLIGHT
TZOFFSETFROM:+0100
TZOFFSETTO:+0200
TZNAME:CEST
DTSTART:20190331T010000
END:DAYLIGHT
BEGIN:STANDARD
TZOFFSETFROM:+0200
TZOFFSETTO:+0100
TZNAME:CET
DTSTART:20191027T010000
END:STANDARD
END:VTIMEZONE
BEGIN:VEVENT
DTSTART;TZID=Europe/Madrid:20180202T203000
DTEND;TZID=Europe/Madrid:20180202T220000
DTSTAMP:20260423T160706
CREATED:20180123T183905Z
LAST-MODIFIED:20180130T172717Z
UID:4050-1517603400-1517608800@www.triarte.net
SUMMARY:20:30h. Concierto de Violín y Viola. Alumnos de Francisco J. Infantes.
DESCRIPTION:El viernes 2 de febrero a las 20:30h los alumnos de violín y viola de nuestro profesor Francisco J. Infantes nos ofrecerán un concierto. \nEntrada libre hasta completar aforo. \nPROGRAMA \nLola Ruiz Verdugo\nSonata n° 9\, A. Vivaldi\nMov. I: Preludio\nMov. II: Capriccio\nMov. III: Giga\nMov. IV: Gavotta \nPablo Rivero Miguel\nConcertino en Fa Op. 7\, A. Huber \nÁngela Serrano Moreno\nConcierto Sol m para viola RV. 417\, A. Vivaldi\nMov. I : Allegro \nAna Cristina Redondo\nConcierto en La m BWV 1041\, J. S. Bach\nMov. I: Allegro (non tanto) \nMiguel Hernández Aguilera\nConcierto en Sol M Hob. VIIa. 4\, J. Haydn\nMov. I: Allegro moderatto \nMario Roldán Moncayo\nCanción polonesa\, H. Wieniawski \nCelia Salgado Fuentes\nConcierto en Mi m Op. 64\, F. Mendelssohn\nMov. I: Allegro molto appasionato \nSofia E. Evtimova Georgieva\nConcierto nº 1 en Sol m Op. 26\, M. Bruch\nMov. I: Allegro moderato \nMª Carmen Martínez López\nMinuet nº 3\, J. S. Bach \nRafael Luque Ruiz de Mier\nAna Cristina Redondo Sánchez\nConcierto para dos violines en Re m\, J. S. Bach\nMov. I: Vivace
URL:https://www.triarte.net/evento/concierto_de_violi_viola_02_02_18/
LOCATION:Sala de Conciertos de Triarte\, Calle Corregidor Antonio de Bobadilla\, 16\, Málaga\, 29006\, España
CATEGORIES:Concierto
ATTACH;FMTTYPE=image/png:https://www.triarte.net/wp-content/uploads/2018/01/2-2-2018-CONCIERTO-DE-VIOLIN.png
END:VEVENT
BEGIN:VEVENT
DTSTART;TZID=Europe/Madrid:20180205T203000
DTEND;TZID=Europe/Madrid:20180205T213000
DTSTAMP:20260423T160706
CREATED:20180130T174317Z
LAST-MODIFIED:20180130T174317Z
UID:4065-1517862600-1517866200@www.triarte.net
SUMMARY:20:30 h. Concierto Estival: Piano y Canto.
DESCRIPTION:El lunes 5 de febrero a las 20:30 h los alumnos de Piano y Canto de nuestras profesoras Isabel Cánovas y Natalia Sakala nos ofrecerán un concierto. \nEntrada libre y gratuita hasta completar el aforo de nuestra Sala de Conciertos. \nPROGRAMA \nIago Campello Álvarez\nEstudio Op. 15 nº 2\, G. Kirkor\nFantasía en Re m KV:397\, W. A. Mozart \nCarmen Benavides Mora\nMazurka Op. 17 nº 4\, F. Chopin\nDanza Española Op. 5 nº 3\, E. Granados \nDiego Aranda Arrezas\nNocturno post. en Do# m\, F. Chopin \nBeatriz Corpas Garcerán\nEstudio Op. 299 nº 2\, C. Czerny\nDanza española Op. 5 nº 2\, E. Granados \nJuan Antonio Blanco Elena\, canto\nEl vaso\, C. Guastavino – G. Mistral \nÁngeles Sierra López\nSonata Op. 2 nº 1 en Fa m\, L. van Beethoven\nMov. I: Allegro\nAsturias Op. 47 nº 5\, I. Albéniz \nDiego Aranda Arrezas\nRiver flows in your\, Yiruma \nJuan Antonio Blanco Elena\, canto\nLa del manojo de rosas\, P. Sorozabal – R. de Castro y Carreño
URL:https://www.triarte.net/evento/2030-h-concierto-estival-piano-y-canto/
CATEGORIES:Concierto
ATTACH;FMTTYPE=image/png:https://www.triarte.net/wp-content/uploads/2018/01/5-2-2018-CONCIERTO-PIANO-NATALIA.png
END:VEVENT
BEGIN:VEVENT
DTSTART;TZID=Europe/Madrid:20180206T193000
DTEND;TZID=Europe/Madrid:20180206T210000
DTSTAMP:20260423T160706
CREATED:20180122T181740Z
LAST-MODIFIED:20180205T172758Z
UID:4042-1517945400-1517950800@www.triarte.net
SUMMARY:19:30 h. Concierto Estival: Violonchelo y Música de Cámara.
DESCRIPTION:El martes 6 de febrero a las 19:30 h los alumnos de Violonchelo y Música de Cámara de nuestra profesora Evelyn Martínez nos ofrecerán un concierto. \nEntrada libre y gratuita hasta completar el aforo de nuestra Sala de Conciertos. \nPROGRAMA \nIsabel Brichette Mieg\nSuite I\, J. S. Bach\nCourante \nMaría José Moreno Reguera\nSuite I\, J. S. Bach\nGigue \nIgnacio Pérez Martín \nSuite I\, J. S. Bach\nAllemande \nFrancisco Jurado Zambrana \nSuite I\, J. S. Bach\nMinueto I y II \nClaudia Sánchez Morón \nSuite II\, J. S. Bach\nPreludio \nIsabel Herrera Flores\nCarmen Bueno Ortega\nDanzas españolas\, P. Sarasate\nMalagueña \nClaudia Sánchez Morón \nRafael García Marín \nIsabel Barbudo Ortega\nSuite popular española\, M. de Falla\nEl paño moruno\nNana\nCanción\nAsturiana \nSofía E. Evtimova Georgieva\nDaniel José Hidalgo Anaya\nDanzas españolas\, P. Sarasate\nRomanza Andaluza
URL:https://www.triarte.net/evento/06-02-18-h-concierto-estival-violonchelo-y-musica-de-camara/
CATEGORIES:Concierto
ATTACH;FMTTYPE=image/png:https://www.triarte.net/wp-content/uploads/2018/01/6-02-2018-CONCIERTO-DE-VIOLONCHELO-noticia.png
END:VEVENT
BEGIN:VEVENT
DTSTART;TZID=Europe/Madrid:20180209T203000
DTEND;TZID=Europe/Madrid:20180209T213000
DTSTAMP:20260423T160706
CREATED:20180205T171256Z
LAST-MODIFIED:20180206T185407Z
UID:4080-1518208200-1518211800@www.triarte.net
SUMMARY:20:30 h. Concierto de Piano.
DESCRIPTION:El viernes 9 de febrero a las 20:30h los alumnos de piano de nuestros profesores Mª Isabel Sánchez de Alcázar\, Siliana Zdravkova\, Javier Puche y Álvaro Saldaña nos ofrecerán un concierto. \nEntrada libre y gratuita hasta completar el aforo de nuestra Sala de Conciertos. \nPROGRAMA \nBlanca Amestoy Sánchez\nEstudio Op. 29 nº 8\, H. Bertini \nIsabel María Ambrosio Luque\nSonatina en Do M.\, F. Kulahu\nI. Allegro\nImagen poética op. 3\, E. Grieg \nJosé María Durán Benítez \nInvención en Fa m\, J. S. Bach \nJuan Bosco Rodríguez Alés\nDanzas gitanas\, J. Turina\nI. Zambra\nII. Sacromonte \nRodrigo Ávila Perales\nLa ciudad de las estrellas\, BSO La La Land \nLuna López Fernández\nPreludio y fuga en Si b M\, J. S. Bach\nConsolacion nº 3\, F. Liszt \nDaniel José Hidalgo Anaya\nNocturno en Re b M\, F. Chopin  \nSergio Guillén Jiménez\nClaro de Luna\, C. Debussy \nIsabel María Rodríguez Alés\nEstudio Op. 72 nº 2\, M. Moszkowski\nCórdoba\, I. Albeniz
URL:https://www.triarte.net/evento/2030-h-concierto-de-piano-2/
LOCATION:Sala de Conciertos de Triarte\, Calle Corregidor Antonio de Bobadilla\, 16\, Málaga\, 29006\, España
CATEGORIES:Concierto
ATTACH;FMTTYPE=image/png:https://www.triarte.net/wp-content/uploads/2018/02/9-2-2018-CONCIERTO-PIANO.png
END:VEVENT
BEGIN:VEVENT
DTSTART;VALUE=DATE:20180210
DTEND;VALUE=DATE:20180212
DTSTAMP:20260423T160706
CREATED:20180118T145547Z
LAST-MODIFIED:20180208T150134Z
UID:4024-1518220800-1518393599@www.triarte.net
SUMMARY:Curso de Perfeccionamiento de Piano: Ángel Sanzo.
DESCRIPTION:[vc_row][vc_column width=»1/2″][vc_single_image image=»4098″ img_size=»full» onclick=»img_link_large»][/vc_column][vc_column width=»1/2″][vc_column_text css=».vc_custom_1452683796647{margin-top: 20px !important;margin-bottom: 0px !important;}»] \nCurso de Perfeccionamiento de Piano\nÁngel Sanzo[/vc_column_text][vc_separator][vc_column_text css=».vc_custom_1518031723532{margin-top: 40px !important;}»]TRIARTE Centro de Estudios Artísticos acoge los días 10 y 11 de febrero el CURSO DE PERFECCIONAMIENTO DE PIANO a cargo de Ángel Sanzo. \nFECHA: 10 y 11 de Febrero de 2018\n[/vc_column_text][vc_button title=»DESCARGAR FORMULARIO INSCRIPCIÓN · CURSO PERFECCIONAMIENTO PIANO» target=»_blank» icon=»wpb_document_pdf» size=»btn-small» href=»http://www.triarte.net/wp-content/uploads/2018/02/Inscripci%C3%B3n-Curso-de-Perfeccionamiento-de-Piano_Angel-Sanzo-Oyente-2018.pdf»][/vc_column][/vc_row][vc_row][vc_column][vc_column_text]ÁNGEL SANZO\n[/vc_column_text][vc_column_text]Pianista español de reconocido prestigio internacional\, Ángel Sanzo es habitual en las salas de concierto y festivales europeos. Ha ofrecido conciertos en Austria\, Alemania\, Italia\, Francia\, Bélgica\, Suiza y Portugal\, en prestigiosas salas como el Teatro Monumental de Madrid\, Konzerthaus de Berlín\, Tonhalle en Dusseldorf\, Laeiszhalle de Hamburgo\, Auditorio “Manuel de Falla” de Granada\, Palau de la Música de Valencia\, Mozarteum de Salzburgo\, Estudios Flagey de Bruselas\, Palacio de la Bolsa de Oporto\, etc\, realizando grabaciones para RTVE\, RTSI\, RBB\, RTBF\, RAI y RNM. Ha actuado como solista con numerosas orquestas bajo la dirección de Adrian Leaper\, Enrique García Asensio\, Max Bragado\, Xavier Puig\, Michael Thomas\, Francisco de Gálvez\, Domenico Longo y Miquel Ortega. \nRealizó sus estudios de piano en el Conservatorio Superior de Málaga con José Felipe Díaz\, obteniendo el Premio de Honor Fin de carrera. Posteriormente trabajó con maestros de gran prestigio como Joaquín Soriano\, Javier Herreros\, Peter Bithell\, Ferenc Rados y Alicia de Larrocha. \nGalardonado con multitud de distinciones\, destacan el Primer Premio de los Concursos Internacionales “Joaquín Rodrigo”\, “ Frechilla-Zuloaga”\, “Concurso Pianístico Europeo de Taranto”\, Primer Gran Premio de la “Princesa Lalla Meriem” en Marruecos\, 2º premio del “José Iturbi” en Valencia y Medalla por Unanimidad en el “María Canals” de Barcelona \nPianista de excepcional talento y técnica muy versada\, como así ha dicho de él la crítica internacional\, Sanzo comienza su carrera en 1995 tras su debut con la Orquesta Sinfónica de Málaga con la interpretación del 3º concierto de Beethoven que fue calurosamente acogida por el público y la crítica. Su inconfundible personalidad\, de gran expresividad y precisión técnica\, han hecho de él un pianista capaz de abordar todo el repertorio para piano\, habiendo sido laureado en numerosas ocasiones por sus interpretaciones de la música española y la obra de Frederic Chopin. Así mismo su amplio repertorio en la música de cámara le ha llevado a tocar por toda Europa con músicos de gran prestigio como Shirly Laub\, Benjamin Dieltjens\, Tai Murray y Ángel Luís Quintana entre otros. \nProfesor de piano del Conservatorio Superior de Música de Badajoz\, se ha convertido en uno de los pedagogos más solicitados por los Conservatorios y Universidades de España\, donde imparte con frecuencia clases magistrales y cursos de perfeccionamiento. Muchos de sus alumnos son primeros premios de importantes concursos internacionales. En abril de 2013 fue invitado por la Universidad Católica de Santiago de Chile para impartir un curso y recital de música española\, y en otoño de 2014 registrará la grabación completa de la Suite Iberia de Isaac Albéniz para el sello berlinés “eaSonus”. \n[/vc_column_text][/vc_column][/vc_row]
URL:https://www.triarte.net/evento/curso-de-perfeccionamiento-de-piano-angel-sanzo-3/
LOCATION:Sala de Conciertos de Triarte\, Calle Corregidor Antonio de Bobadilla\, 16\, Málaga\, 29006\, España
CATEGORIES:Curso
ATTACH;FMTTYPE=image/png:https://www.triarte.net/wp-content/uploads/2018/01/Slide-curso-completo.png
END:VEVENT
BEGIN:VEVENT
DTSTART;TZID=Europe/Madrid:20180212T203000
DTEND;TZID=Europe/Madrid:20180212T220000
DTSTAMP:20260423T160706
CREATED:20180207T182710Z
LAST-MODIFIED:20180208T203353Z
UID:4092-1518467400-1518472800@www.triarte.net
SUMMARY:20:30 h. Concierto de Piano.
DESCRIPTION:El lunes 12 de febrero a las 20:30h los alumnos de piano de nuestros profesores Mª Isabel Sánchez de Alcázar\, Siliana Zdravkova y Natalia Sakala nos ofrecerán un concierto. \nEntrada libre y gratuita hasta completar el aforo de nuestra Sala de Conciertos. \nPROGRAMA \nMontserrat Martínez Martínez\nEstudio Op. 32 nº 12\, H. Bertini\n \nÁngel Luis González Martínez\nEstudio Op. 32 nº 8\, A. Jensen\n \nÁngeles Sierra López\nSonata Op. 2 nº 1 en Fa m\, L. van Beethoven\nMov. I Allegro\nAsturias Op. 47 nº 5\, I. Albéniz\n \nDiego Aranda Arrezas\nNocturno post. en Do # m\, Chopin\nRiver flows in you\, Yiruma\n \nDayla Céspedes Ordóñez \nSevilla\, I. Albéniz\n \nLaura Moreno Delgado\nSonata KV 475\, W. A. Mozart\nMov. I: Allegro\n \nVictoria Isabel García Crespillo\nPolonesa nº 4\, F. Chopin
URL:https://www.triarte.net/evento/2030-h-concierto-de-piano-3/
LOCATION:Sala de Conciertos de Triarte\, Calle Corregidor Antonio de Bobadilla\, 16\, Málaga\, 29006\, España
ATTACH;FMTTYPE=image/png:https://www.triarte.net/wp-content/uploads/2018/02/12-2-2018-CONCIERTO-PIANO.png
END:VEVENT
BEGIN:VEVENT
DTSTART;TZID=Europe/Madrid:20180216T203000
DTEND;TZID=Europe/Madrid:20180216T220000
DTSTAMP:20260423T160706
CREATED:20180202T173334Z
LAST-MODIFIED:20180212T202738Z
UID:4077-1518813000-1518818400@www.triarte.net
SUMMARY:20:30 h. Concierto de viento: Alumnos de flauta y clarinete.
DESCRIPTION:El viernes 16 de febrero a las 20:30h los alumnos de flauta de C. Beatriz Puche y los de clarinete de Adrián Martín nos ofrecerán un concierto. Acompañan al piano la profesora Siliana Zdravkova y el profesor David Wadie. \nLa entrada será libre hasta completar el aforo de nuestra sala de conciertos \nPROGRAMA\nJosé Luis García Fernández\, flauta\nBourree\, J. S. Bach (arr. Ian Anderson)\nPianista acompañante: David Wadie \nClara Criado Rodríguez\, flauta\nPavanne\, G. Fauré \nBelén Caravias Anaya\, flauta\nSonata KV. 15 nº 6 en Si b M\, W. A. Mozart\nII: Allegro \nLucía Lara Mendoza\, flauta\nSonata KV. 10 nº 1 en Si b M\, W. A. Mozart\nI: Allegro \nRodrigo Fernández Serrano\, flauta\nSonata KV. 14 nº 5 en Do M\, W. A. Mozart\nI: Allegro \nYasmina Sánchez Martí\, clarinete\nFive bagatelles Op. 23\, G. Finzi\nI: Prelude\nIII: Carol  \nC. Samuel Villalba Bastida\, flauta\nD’un matin de printemps\, L. Boulanger \nIgnacio Álvarez Marín\, flauta\nVictoria Isabel García Crespillo\, flauta\nEstudio en Re m\, Th. Böhm \nVictoria Isabel García Crespillo\, flauta\nConcierto nº 2\, F. Devienne\nI: Allegro \nIgnacio Álvarez Marín\, flauta\nVictoria Isabel García Crespillo\, piano\nConcierto nº 7 en Mi m\, F. Devienne \nI: Allegro\nIII: Rondó
URL:https://www.triarte.net/evento/2030-h-concierto-de-viento-alumnos-de-flauta-y-clarinete/
CATEGORIES:Concierto
ATTACH;FMTTYPE=image/jpeg:https://www.triarte.net/wp-content/uploads/2018/02/16-02-2018-CONCIERTO-DE-VIENTO.jpg
END:VEVENT
BEGIN:VEVENT
DTSTART;TZID=Europe/Madrid:20180219T203000
DTEND;TZID=Europe/Madrid:20180219T220000
DTSTAMP:20260423T160706
CREATED:20180213T153641Z
LAST-MODIFIED:20180213T153641Z
UID:4129-1519072200-1519077600@www.triarte.net
SUMMARY:20:30 h. Concierto de Música de Cámara: Alumnos de violín\, flauta y piano.
DESCRIPTION:El lunes 19 de febrero a las 20:30h los alumnos de Música de Cámara de nuestros profesores Fátima Fernández\, Javier Puche\, Natalia Sakala y C. Beatriz Puche nos ofrecerán un concierto. Los alumnos que participan en el concierto son estudiantes de Enseñanzas Profesionales de Música. A continuación os mostramos el programa que presenta y que esperamos sea de vuestro agrado. \nLa entrada será libre hasta completar el aforo de nuestra sala de conciertos.
URL:https://www.triarte.net/evento/19-02-2018-concierto-de-musica-de-camara/
LOCATION:Sala de Conciertos de Triarte\, Calle Corregidor Antonio de Bobadilla\, 16\, Málaga\, 29006\, España
CATEGORIES:Concierto
ATTACH;FMTTYPE=image/png:https://www.triarte.net/wp-content/uploads/2018/02/19-02-2018-MUSICA-DE-CÁMARA.png
END:VEVENT
BEGIN:VEVENT
DTSTART;VALUE=DATE:20180228
DTEND;VALUE=DATE:20180301
DTSTAMP:20260423T160706
CREATED:20180220T181240Z
LAST-MODIFIED:20180220T183400Z
UID:4140-1519776000-1519862399@www.triarte.net
SUMMARY:Día festivo.
DESCRIPTION:Triarte permanecerá cerrado con motivo de la Fiesta del Día de Andalucía.
URL:https://www.triarte.net/evento/dia-festivo-8/
END:VEVENT
END:VCALENDAR