BEGIN:VCALENDAR
VERSION:2.0
PRODID:-//Triarte - Centro de estudios art&iacute;sticos - Conservatorio y escuela de m&uacute;sica, danza y teatro. - ECPv6.15.18//NONSGML v1.0//EN
CALSCALE:GREGORIAN
METHOD:PUBLISH
X-ORIGINAL-URL:https://www.triarte.net
X-WR-CALDESC:Eventos para Triarte - Centro de estudios art&iacute;sticos - Conservatorio y escuela de m&uacute;sica, danza y teatro.
REFRESH-INTERVAL;VALUE=DURATION:PT1H
X-Robots-Tag:noindex
X-PUBLISHED-TTL:PT1H
BEGIN:VTIMEZONE
TZID:Europe/Madrid
BEGIN:DAYLIGHT
TZOFFSETFROM:+0100
TZOFFSETTO:+0200
TZNAME:CEST
DTSTART:20160327T010000
END:DAYLIGHT
BEGIN:STANDARD
TZOFFSETFROM:+0200
TZOFFSETTO:+0100
TZNAME:CET
DTSTART:20161030T010000
END:STANDARD
BEGIN:DAYLIGHT
TZOFFSETFROM:+0100
TZOFFSETTO:+0200
TZNAME:CEST
DTSTART:20170326T010000
END:DAYLIGHT
BEGIN:STANDARD
TZOFFSETFROM:+0200
TZOFFSETTO:+0100
TZNAME:CET
DTSTART:20171029T010000
END:STANDARD
BEGIN:DAYLIGHT
TZOFFSETFROM:+0100
TZOFFSETTO:+0200
TZNAME:CEST
DTSTART:20180325T010000
END:DAYLIGHT
BEGIN:STANDARD
TZOFFSETFROM:+0200
TZOFFSETTO:+0100
TZNAME:CET
DTSTART:20181028T010000
END:STANDARD
END:VTIMEZONE
BEGIN:VEVENT
DTSTART;VALUE=DATE:20171101
DTEND;VALUE=DATE:20171102
DTSTAMP:20260423T123006
CREATED:20171031T182419Z
LAST-MODIFIED:20171031T182419Z
UID:3649-1509494400-1509580799@www.triarte.net
SUMMARY:Día festivo
DESCRIPTION:Triarte permanecerá cerrado con motivo de la Fiesta de Todos los Santos. \n 
URL:https://www.triarte.net/evento/dia-festivo-5/
END:VEVENT
BEGIN:VEVENT
DTSTART;TZID=Europe/Madrid:20171121T210000
DTEND;TZID=Europe/Madrid:20171121T220000
DTSTAMP:20260423T123006
CREATED:20171017T173138Z
LAST-MODIFIED:20171114T182710Z
UID:3638-1511298000-1511301600@www.triarte.net
SUMMARY:21:00h. Primer encuentro del Club de Lectura de Triarte
DESCRIPTION:Asiste al primer encuentro del Club de Lectura de Triarte. Te proponemos la lectura en casa de una novela y nos reunimos un día fijado para comentarla. Enriquecerás mucho tu impresión de la lectura con las opiniones de los miembros del club y comprenderás mejor la obra literaria. \nSeleccionamos novelas cuya temática esté relacionada con la música y contamos con el distinguido escritor\, filólogo y músico Javier Puche Cabezas como coordinador de las reuniones. \nAdquiere un ejemplar de “El malogrado” de Thomas Bernhard en cualquier librería\, léelo y asiste a nuestro primer encuentro el martes 21 de noviembre a las 21.00h en el Salón de Actos de Triarte. \n\nNo es obligatorio intervenir en los debates.\nPuedes asistir a la reunión aunque no te haya dado tiempo a leer el libro.\nLa entrada será libre hasta completar aforo.
URL:https://www.triarte.net/evento/primer-encuentro-del-club-de-lectura-de-triarte/
LOCATION:Sala de Conciertos de Triarte\, Calle Corregidor Antonio de Bobadilla\, 16\, Málaga\, 29006\, España
CATEGORIES:Charla
ATTACH;FMTTYPE=image/png:https://www.triarte.net/wp-content/uploads/2017/10/Club-de-Lectura-Musical-entrada.png
END:VEVENT
BEGIN:VEVENT
DTSTART;TZID=Europe/Madrid:20171122T193000
DTEND;TZID=Europe/Madrid:20171122T220000
DTSTAMP:20260423T123006
CREATED:20171106T202433Z
LAST-MODIFIED:20171121T193059Z
UID:3655-1511379000-1511388000@www.triarte.net
SUMMARY:19:30 h. Concierto de Santa Cecilia\, patrona de la Música
DESCRIPTION:Como cada año\, por estas fechas celebramos el concierto en honor a Santa Cecilia\, patrona de la Música\, donde actuarán alumnos de las diferentes especialidades que se imparten en Triarte. \nEllos nos ofrecerán una muestra de lo que llevan trabajado desde principio de curso\, interpretando piezas musicales y haciéndonos disfrutar de un día de fiesta para todos los músicos. \nPROGRAMA \nMaría Victoria Vargas Fernández\, violín\nRecoger un fardo de algodón\, canción americana\n¡Así es como va!\, K. y D. Blackwell \nMar García Márquez\, piano \nPequeño cuento\, S. Maykapar  \nAlba Rodríguez Jiménez\, piano\nHabanera\, G. Bizet \nAna Mei Morales Rodríguez\, guitarra\nGavota II BWV 995\, J. S. Bach  \nEmily Jiménez Branashko\, violín \nValeria Jiménez Branashko\,violonchelo\nIsabel Jiménez Branashko\, piano\nKinder trios Op. 66\, E. Söchting\nI. Allegretto moderato\nII.Tempo di Minuetto\nIII. Allegretto \nDayla Céspedes Ordóñez\, piano\nConsolación nº 2\, F. Liszt \nÁngeles Sierra López\, piano\nCarmen Benavides Mora\, piano\nTrepak\, P. I. Tchaikovsky  \nOlga Vorobei\, guitarra\nDayla Céspedes Ordóñez\, piano\nPedro Reina Yáñez\, guitarra\nVals\, J. Strauss \nJuan Antonio Blanco Elena\, barítono \nO divin Redempteur\, Ch. Gounod \nC. Samuel Villalba Bastida\, flauta\nPablo Álvarez Marín\, piano\nAllegro\, G. P. Telemann \nIsabel María Rodríguez Alés\, piano\nCórdoba\, I. Albéniz \nIgnacio Álvarez Marín\, flauta\nVictoria Isabel García Crespillo\, flauta\nC. Samuel Villalba Bastida\, flauta\nTrio en Si menor Op. 90\, F. Kuhlau\nI: Allegro non tanto \nSofia E. Evtimova Georgieva\, violín\nAires gitanos\, P. de Sarasate \nCoro Juvenil Triarte\nThe marvellous Birth\, Bob Chilcott\nPiano: Daniel José Hidalgo Anaya. Flauta: Ignacio Álvarez Marín
URL:https://www.triarte.net/evento/1930-h-concierto-de-santa-cecilia-patrona-de-la-musica/
LOCATION:Sala de Conciertos de Triarte\, Calle Corregidor Antonio de Bobadilla\, 16\, Málaga\, 29006\, España
CATEGORIES:Concierto
ATTACH;FMTTYPE=image/png:https://www.triarte.net/wp-content/uploads/2017/11/22-11-17-SANTA-CECILIA-1.png
END:VEVENT
BEGIN:VEVENT
DTSTART;TZID=Europe/Madrid:20171129T203000
DTEND;TZID=Europe/Madrid:20171129T220000
DTSTAMP:20260423T123007
CREATED:20171114T180733Z
LAST-MODIFIED:20171117T171729Z
UID:3678-1511987400-1511992800@www.triarte.net
SUMMARY:20:30h. ¡Acércate al Oratorio\, no te morderá!
DESCRIPTION:Se acerca la Navidad\, época perfecta para recordar a Haendel y descubrir los secretos de su oratorio El Mesías\, una de las obras más interpretadas de todos los tiempos\, que celebra con pasión el milagro de existir. \nDéjate conquistar por su fuerza arrolladora en esta audición comentada por Rosario Hidalgo López y un invitado especial\, el maestro Diego González Ávila\, director de la Coral Cármina Nova. \nRegresa El Mesías de Haendel\, un regalo para melómanos. ¡Aleluya! Os esperamos el miércoles 29 de noviembre a las 20:30h en nuestro Salón de Actos.
URL:https://www.triarte.net/evento/2030h-acercate-al-oratorio-no-te-mordera/
LOCATION:Sala de Conciertos de Triarte\, Calle Corregidor Antonio de Bobadilla\, 16\, Málaga\, 29006\, España
CATEGORIES:Charla
ATTACH;FMTTYPE=image/png:https://www.triarte.net/wp-content/uploads/2017/11/ORATORIO-web.png
END:VEVENT
END:VCALENDAR