BEGIN:VCALENDAR
VERSION:2.0
PRODID:-//Triarte - Centro de estudios art&iacute;sticos - Conservatorio y escuela de m&uacute;sica, danza y teatro. - ECPv6.15.18//NONSGML v1.0//EN
CALSCALE:GREGORIAN
METHOD:PUBLISH
X-ORIGINAL-URL:https://www.triarte.net
X-WR-CALDESC:Eventos para Triarte - Centro de estudios art&iacute;sticos - Conservatorio y escuela de m&uacute;sica, danza y teatro.
REFRESH-INTERVAL;VALUE=DURATION:PT1H
X-Robots-Tag:noindex
X-PUBLISHED-TTL:PT1H
BEGIN:VTIMEZONE
TZID:Europe/Madrid
BEGIN:DAYLIGHT
TZOFFSETFROM:+0100
TZOFFSETTO:+0200
TZNAME:CEST
DTSTART:20160327T010000
END:DAYLIGHT
BEGIN:STANDARD
TZOFFSETFROM:+0200
TZOFFSETTO:+0100
TZNAME:CET
DTSTART:20161030T010000
END:STANDARD
BEGIN:DAYLIGHT
TZOFFSETFROM:+0100
TZOFFSETTO:+0200
TZNAME:CEST
DTSTART:20170326T010000
END:DAYLIGHT
BEGIN:STANDARD
TZOFFSETFROM:+0200
TZOFFSETTO:+0100
TZNAME:CET
DTSTART:20171029T010000
END:STANDARD
BEGIN:DAYLIGHT
TZOFFSETFROM:+0100
TZOFFSETTO:+0200
TZNAME:CEST
DTSTART:20180325T010000
END:DAYLIGHT
BEGIN:STANDARD
TZOFFSETFROM:+0200
TZOFFSETTO:+0100
TZNAME:CET
DTSTART:20181028T010000
END:STANDARD
END:VTIMEZONE
BEGIN:VEVENT
DTSTART;TZID=Europe/Madrid:20170301T200000
DTEND;TZID=Europe/Madrid:20170301T213000
DTSTAMP:20260423T000558
CREATED:20170221T171837Z
LAST-MODIFIED:20170222T190555Z
UID:2678-1488398400-1488403800@www.triarte.net
SUMMARY:20:00 h. Concierto alumnos de canto: La voz ante el piano.
DESCRIPTION:El miércoles 1 de marzo a las 20:00h los alumnos de canto de Susana Cortés nos ofrecerán el concierto titulado: «La voz ante el piano». La entrada será libre hasta completar el aforo de nuestra sala de conciertos. \nPROGRAMA \nSara Montes Sola\nDuele decir adiós\, Sara Serena \nLucía Mora Carnero\nPhotograph\, Ed Sheeran \nAndrea García Garrido\nSay something\, Christina Aguilera \nElena Bermúdez Víquez\nEn cambio no\, Laura Pausini \nAlejandro José de las Heras Pozo\nAbrázame\, Alejandro Fernández \nNoelia Frías Díaz\nWithout you\, Mariah Carey \nVirginia del Pino Martín\nLove on the brain\, Rihanna \nBelén Espíldora Aguilera\nRise up\, Andra Day \n 
URL:https://www.triarte.net/evento/2000-h-concierto-de-canto-la-voz-ante-el-piano/
CATEGORIES:Concierto
ATTACH;FMTTYPE=image/png:https://www.triarte.net/wp-content/uploads/2017/02/01-03-2017-CONCIERTO-DE-CANTO-1.png
END:VEVENT
BEGIN:VEVENT
DTSTART;TZID=Europe/Madrid:20170310T203000
DTEND;TZID=Europe/Madrid:20170310T220000
DTSTAMP:20260423T000558
CREATED:20170306T194002Z
LAST-MODIFIED:20170307T152849Z
UID:2719-1489177800-1489183200@www.triarte.net
SUMMARY:20:30 h. Concierto de Alumnos: Música de Cámara\, Piano y Canto.
DESCRIPTION:El viernes 10 de marzo los alumnos de Música de Cámara\, Canto y Piano nos ofrecerán un concierto. La entrada será libre hasta completar el aforo de nuestra sala de conciertos. \nPROGRAMA \nCarmen Benavides Mora\nRomanza sin palabras Op. 38 nº 2\, F. Mendelssohn \nDiego Aranda Arrezas\nSacro-monte Op. 55 nº 5\, J. Turina \nLaura Moreno Delgado\nSergio Guillén Jiménez\nMarcha nupcial\, F. Mendelssohn \nIago Campello Álvarez\nGymnopédie nº 2\, E. Satie\nPreludio Op. 28 nº 6\, F. Chopin \nÁngeles Sierra López\nRomanza sin palabras Op. 30 nº 2\, F. Mendelssohn \nJuan Antonio Blanco Elena\, canto\nStändchen\, F. Schubert \nCarmen Benavides Mora\nPablo Álvarez Marín\nÁngeles Sierra López\nRomanza\, S. Rachmaninov \nJuan Antonio Blanco Elena\, canto\nNon t´accostare all´urna\, G. Verdi \nLaura Moreno Delgado\nSergio Guillén Jiménez\nPopurrí\, canciones populares
URL:https://www.triarte.net/evento/2030-h-concierto-de-alumnos-musica-de-camara-piano-y-canto/
LOCATION:Sala de Conciertos de Triarte\, Calle Corregidor Antonio de Bobadilla\, 16\, Málaga\, 29006\, España
CATEGORIES:Concierto
ATTACH;FMTTYPE=image/png:https://www.triarte.net/wp-content/uploads/2017/03/CONCIERTO-CANTO-Y-PIANO.png
END:VEVENT
BEGIN:VEVENT
DTSTART;TZID=Europe/Madrid:20170311T200000
DTEND;TZID=Europe/Madrid:20170311T213000
DTSTAMP:20260423T000558
CREATED:20170307T161503Z
LAST-MODIFIED:20170307T162020Z
UID:2724-1489262400-1489267800@www.triarte.net
SUMMARY:20:00 h. La compañía de Teatro TRIARTE-ATRO actuará en Churriana (Málaga).
DESCRIPTION:Triarte colabora con la Asociación de Discapacitados «Serranía de Churriana» representando la obra «El cianuro…¿sólo o con leche?» en el centro de Servicios Sociales de Churriana (Málaga). \nEl acto Benéfico tendrá lugar el sábado 11 de marzo a las 20:00h y los asistentes podrán colaborar con un donativo de 5 euros.
URL:https://www.triarte.net/evento/2000-h-la-compania-de-teatro-triarte-atro-actuara-en-churriana-malaga/
LOCATION:Centro de Servicios Sociales Churriana\, Calle Maestro Usandizaga 15\, Málaga\, Málaga\, 29140\, España
CATEGORIES:Teatro
ATTACH;FMTTYPE=image/png:https://www.triarte.net/wp-content/uploads/2017/03/11-03-TEATRO-COMPAÑIA-CIANURO-SOLO-O-CON-LECHE-Churriana.png
END:VEVENT
BEGIN:VEVENT
DTSTART;TZID=Europe/Madrid:20170315T170000
DTEND;TZID=Europe/Madrid:20170315T174000
DTSTAMP:20260423T000558
CREATED:20170307T181739Z
LAST-MODIFIED:20170309T163104Z
UID:2731-1489597200-1489599600@www.triarte.net
SUMMARY:17:00 h. Concierto Infantil de Violín.
DESCRIPTION:El miércoles 15 de marzo a las 17:00 h los alumnos más pequeños de violín de nuestra profesora Mary Jenner nos ofrecerán un concierto. \nPROGRAMA \nEmily Jiménez Branashko\nConcierto Op. 35\, O. Rieding\nIII. Allegro moderato \nMaría Moral Ruiz\nCanto al Sol\, popular\nStepping stones\, KyH Colledge \nGonzalo Labajos Lázaro\nYa lloviendo está\, popular\nGigantes y enanos\, Ibáñez – Cursá \nJoaquín Zafra Maldonado\nDon violín\, popular\nHimno de la Alegría\, L. van Beethoven \nÁngel Sánchez Raya\nEl perrito zalamero\, María Cateura\nLa polilla come lana\, Montserrat Sanuy Simón \nEsteban Morales Muñoz\nVals Op. 39 nº 5\, J. Brahms \nPablo Morales Muñoz\nPimpinuco\, popular \nPablo Morales Muñoz\nEsteban Morales Muñoz\nChocolate blanco\, popular \nOlga Bonachera Martín\nTap Dancer\, K. y D. Blackwell\nHere it comes\, K. y D. Blackwell \nXintian-Dulce Chen\nCampanitas\, popular\nDin\, don\, dan\, popular \nCarmen Ruiz Verdugo\nYa lloviendo está\, popular\nTodos los patitos\, popular \nSara Herrera Suero\nMariposas\, K. y H. Colledge\nJuguetes\, J. Claudio \nJavier Hernández Aguilera\nSuite Orquestal nº 3 BWV 1068\, J. S. Bach\nIII. Gavota
URL:https://www.triarte.net/evento/1700-h-concierto-infantil-de-violin/
CATEGORIES:Concierto
ATTACH;FMTTYPE=image/png:https://www.triarte.net/wp-content/uploads/2017/03/15-03-2017-CONCIERTO-DE-VIOLIN.png
END:VEVENT
BEGIN:VEVENT
DTSTART;TZID=Europe/Madrid:20170317T203000
DTEND;TZID=Europe/Madrid:20170317T220000
DTSTAMP:20260423T000558
CREATED:20170309T190917Z
LAST-MODIFIED:20170313T202643Z
UID:2736-1489782600-1489788000@www.triarte.net
SUMMARY:20:30 h. Concierto de Alumnos: Piano y Flauta.
DESCRIPTION:El viernes 17 de marzo los alumnos de piano y flauta de nuestro centro nos ofrecerán un concierto. La entrada será libre hasta completar el aforo de nuestra sala de conciertos. \nPROGRAMA \nEva Yi-Ran Xu\, piano\nSonatina Op. 36 nº 3\, M. Clementi\nI. Allegro spiritoso \nLucía Lara Mendonza\, flauta travesera\nEstudio nº 17 en Mi m\, G. Gariboldi \nRodrigo Fernández Serrano\, flauta travesera\nEstudio nº 5 en Fa M\, G. Gariboldi  \nLucía Maldonado Montiel\, flauta travesera\nEstudio nº 9 en Si b M\, G. Gariboldi  \nBelén Caravias Anaya\, flauta travesera\nEstudio nº 19 en La m\, G. Gariboldi  \nJosé María Durán Benítez\, piano\nEstudio Op. 47 nº 9\, H. Bertini\nInvención nº 14 en Sib M\, J. S. Bach \nMaría Montes Mota\, piano\nEstudio Op. 47 nº 1\, H. Bertini\nSonata Op. 36 nº 4\, M. Clementi\nI. Allegro\nII. Andante\nIII. Allegro \nBlanca Salgado Fuentes\, flauta travesera\nMaría Pilar Martín González\, piano\nRondo en Re M K. 184\, W. A. Mozart \nFantasía brillante sobre Carmen de Bizet\, F. Borne \nMarina Díaz Gómez\, piano\nSonata Op. 31 nº 2 “La tempestad”\, L. van Beethoven\nI. Largo. Allegro\nII. Adagio\nRondò Capriccioso\, F. Mendelssohn
URL:https://www.triarte.net/evento/2030-h-concierto-de-alumnos-piano-y-flauta/
CATEGORIES:Concierto
ATTACH;FMTTYPE=image/png:https://www.triarte.net/wp-content/uploads/2017/03/17-03-2017-CONCIERTO-DE-FLAUTA-Y-PIANO.png
END:VEVENT
BEGIN:VEVENT
DTSTART;TZID=Europe/Madrid:20170318T191500
DTEND;TZID=Europe/Madrid:20170318T200000
DTSTAMP:20260423T000558
CREATED:20170311T170417Z
LAST-MODIFIED:20170312T081318Z
UID:2755-1489864500-1489867200@www.triarte.net
SUMMARY:19:15 h. Presentación de Cortometraje: "Matar al Presidente".
DESCRIPTION:[vc_row][vc_column][vc_column_text]El sábado 18 de marzo a las 19:15 h nuestro profesor de Teatro Jesús López «Kiu» presentará su nuevo trabajo en el Cine Albéniz de Málaga. \nKiu nos presenta su último cortometraje titulado «Matar al presidente» de Pedro Pacheco y producida por Demente Films. El cortometraje ha sido seleccionado para el 20 Festival de Cine de Málaga para la Sección Oficial de Cortometrajes. ¡¡¡Enhorabuena Jesús y a por los premios!!! \n \n[/vc_column_text][/vc_column][/vc_row][vc_row][vc_column][vc_gallery type=»flexslider_slide» interval=»5″ images=»2769\,2768\,2767\,2766\,2765\,2764\,2763\,2762\,2761″ img_size=»full» onclick=»» title=»Fotos del rodaje del cortometraje «Matar al presidente«»][/vc_column][/vc_row]
URL:https://www.triarte.net/evento/1915-h-presentacion-de-cortometraje-matar-al-presidente/
LOCATION:Cine Albéniz\, Calle Alcazabilla\, 4\, Málaga\, Málaga\, 29015\, España
CATEGORIES:Teatro
ATTACH;FMTTYPE=image/png:https://www.triarte.net/wp-content/uploads/2017/03/Matar-al-presidente.png
END:VEVENT
BEGIN:VEVENT
DTSTART;TZID=Europe/Madrid:20170324T203000
DTEND;TZID=Europe/Madrid:20170324T220000
DTSTAMP:20260423T000558
CREATED:20170312T091104Z
LAST-MODIFIED:20170315T191448Z
UID:2787-1490387400-1490392800@www.triarte.net
SUMMARY:20:30 h. Concierto de Guitarra Clásica: alumnos de Pedro Reina.
DESCRIPTION:El viernes 24 de marzo a las 20:30 h los alumnos de guitarra de nuestro profesor Pedro Reina nos ofrecerán un concierto. \nPROGRAMA \nOcteto de guitarras\nLa guerra de las galaxias (tema principal)\, J. Williams \nCuarteto de guitarras\nPreludio nº 22 de 48 preludios y fugas\, J. S. Bach\nBransle de Bourgongne I y IV \nAndrea Sánchez Castillo\nAndantino Op. 168 nº 15 (duo)\, J. Küffner\nSegundo Bransle de Poictou\, A. Le Roy \nMaría Isabel Santos Rivas\nAl lado de la chimenea\, V. Lindsey-Clark\nCuarto Branle de Poictou\, A. Le Roy \nJ. Julio Mainer Lasheras\nSoñando\, J. M. Zenamon\nVals Nostálgico\, S. Rak \nMaría Victoria Castillo Montesino\nEspiritual\, S. Rak\nDanza venezolana\, S. Rak \nCarlos Rodríguez Mena\nNostalgia\, S. Rak \nDiego Gil Martín\nPackington’s pound\, anónimo S. XVI \nMarta Alcoholado Muriel\nA sad waltz\, S. Goss \nGaoxiang He\nPreludio para laúd en Re m BWV 999\, J. S. Bach \nMiguel García García\nMinueto a dos voces\, J. Krieger \nAna Mei Morales Rodríguez\nRondó en Do Op. 241\, F. Carulli \nDavid Cortés Urbano\nEstudio nº 3 Op. 60\, M. Carcassi\nRomanesca\, Anónimo S. XVI \nJosé Antonio Segovia Vega\nEstudio simple VIII\, L. Brouwer\nPavana I\, L. Milán \nJulian Gómez Da Silva\nEl cazador\, S. Myers \nMaría López Ruiz\nBourrée BWV 996\, J. S. Bach \nOlga Vorobei\nPreludio Lágrima\, F. Tárrega
URL:https://www.triarte.net/evento/2030-h-concierto-de-guitarra-clasica-alumnos-de-pedro-reina/
LOCATION:Sala de Conciertos de Triarte\, Calle Corregidor Antonio de Bobadilla\, 16\, Málaga\, 29006\, España
CATEGORIES:Concierto
ATTACH;FMTTYPE=image/png:https://www.triarte.net/wp-content/uploads/2017/03/24-03-2017-CONCIERTO-DE-GUITARRA.png
END:VEVENT
BEGIN:VEVENT
DTSTART;TZID=Europe/Madrid:20170329T200000
DTEND;TZID=Europe/Madrid:20170329T210000
DTSTAMP:20260423T000558
CREATED:20170323T182620Z
LAST-MODIFIED:20170324T153939Z
UID:2868-1490817600-1490821200@www.triarte.net
SUMMARY:20:00 h. Recital de Violín: Sofía Evtimova Georgieva.
DESCRIPTION:El miércoles 29 de marzo a las 20:00 h nuestra alumna de violín Sofía Evtimovia Georgieva nos ofrecerá un recital de violín. El concierto tendrá lugar en el Salón de actos de Triarte y la entrada será libre hasta completar aforo. \nSofía nace en Málaga en 2003. Se educa en el seno de una familia de artistas\, heredando el talento musical de su abuelo y su madre\, ambos concertistas de reconocido prestigio. \nComienza sus estudios de violín a la edad de cuatro años con la profesora Mary Jenner. Obteniendo las máximas calificaciones tanto en Enseñanzas Básicas como Profesiones. Desde el año 2013 forma parte de varias orquestas de Triarte: Orquesta Sinfónica\, Orquesta de Cámara y Orquesta de Violines. \nEn 2014 es seleccionada para participar en el Curso Málaga – Clásica dirigido por el violinista Jesús Reina. \nHa realizado conciertos en diversas salas de Málaga y provincia: Sala María Cristina\, Auditorio Edgar Neville\, Sala Centro Cultural Provincial de Málaga\, La Caja Blanca\, Castillo El Bil-Bil\, Centro Cultural de Campanillas\, etc. \nActualmente se encuentra cursando tercero de Enseñanzas Profesionales de violín de la mano de Mary Jenner en Triarte. \nPROGRAMA\nConcierto nº 1 en La m para violín y orquesta\, J. S. Bach\nConcierto nº 3 en Sol M para violín y orquesta\, W. A. Mozart\nI. Allegro\nSonata nº 5 Op. 24 en Fa M para violín y piano. L.van Beethoven\nI. Allegro\nRomanza Andaluza para violín y piano\, Pablo de Sarasate\nEscenas de ballet para violín y orquesta\, Ch. De Beriot \nPianista acompañante: Siliana Zdravkova \n 
URL:https://www.triarte.net/evento/2000-h-recital-de-violin-sofia-evtimova-georgieva/
LOCATION:Sala de Conciertos de Triarte\, Calle Corregidor Antonio de Bobadilla\, 16\, Málaga\, 29006\, España
CATEGORIES:Concierto
ATTACH;FMTTYPE=image/png:https://www.triarte.net/wp-content/uploads/2017/03/sofia-eugenia.png
END:VEVENT
BEGIN:VEVENT
DTSTART;TZID=Europe/Madrid:20170331T203000
DTEND;TZID=Europe/Madrid:20170331T220000
DTSTAMP:20260423T000558
CREATED:20170316T160402Z
LAST-MODIFIED:20170330T175809Z
UID:2816-1490992200-1490997600@www.triarte.net
SUMMARY:20:30 h. Concierto de Violonchelo. Alumnos de Evelyn Martínez.
DESCRIPTION:El viernes 31 de marzo los alumnos de violonchelo de nuestra profesora Evelyn Martínez nos ofrecerán un concierto. La entrada será libre hasta completar el aforo de nuestra sala de conciertos. \nPROGRAMA \nAitana Bravo Rabaneda\nTema “Danza de las brujas”\, N. Paganini \nIsabel Brichette Mieg\nEstudio nº 15\, S. Lee\n“40 Estudios Melódicos Progresivos”\nSonata 0p. 43 nº 1\, B. Romberg \nMaría José Moreno Reguera\nSonata nº 1\, J. B. Breval\nSonata nº 5\, A. Vivaldi\nII. Allegro (ma non troppo) \nXiaolei Wang\nMinuet nº 3\, J. S. Bach\nCoro de “Judas Maccabaeus”\, G. F. Handel \nCarlos Arrabal Romero\nGavotte en Do m\, J. S. Bach \nMoussa Calderón Cabezas\nMinuet nº 3\, J. S. Bach \nCelia Salgado Fuentes\, violín\nClaudia Sánchez Morón\, violonchelo\nCristina Aragón García\, piano\nSonata para violín\, violonchelo y piano Op. 14 nº 1\, L. van Beethoven\nII. Allegretto \n  \n 
URL:https://www.triarte.net/evento/2030-h-concierto-de-violonchelo/
CATEGORIES:Concierto
ATTACH;FMTTYPE=image/png:https://www.triarte.net/wp-content/uploads/2017/03/31-03-2017-CONCIERTO-CHELO.png
END:VEVENT
END:VCALENDAR