BEGIN:VCALENDAR
VERSION:2.0
PRODID:-//Triarte - Centro de estudios art&iacute;sticos - Conservatorio y escuela de m&uacute;sica, danza y teatro. - ECPv6.15.18//NONSGML v1.0//EN
CALSCALE:GREGORIAN
METHOD:PUBLISH
X-ORIGINAL-URL:https://www.triarte.net
X-WR-CALDESC:Eventos para Triarte - Centro de estudios art&iacute;sticos - Conservatorio y escuela de m&uacute;sica, danza y teatro.
REFRESH-INTERVAL;VALUE=DURATION:PT1H
X-Robots-Tag:noindex
X-PUBLISHED-TTL:PT1H
BEGIN:VTIMEZONE
TZID:Europe/Madrid
BEGIN:DAYLIGHT
TZOFFSETFROM:+0100
TZOFFSETTO:+0200
TZNAME:CEST
DTSTART:20150329T010000
END:DAYLIGHT
BEGIN:STANDARD
TZOFFSETFROM:+0200
TZOFFSETTO:+0100
TZNAME:CET
DTSTART:20151025T010000
END:STANDARD
BEGIN:DAYLIGHT
TZOFFSETFROM:+0100
TZOFFSETTO:+0200
TZNAME:CEST
DTSTART:20160327T010000
END:DAYLIGHT
BEGIN:STANDARD
TZOFFSETFROM:+0200
TZOFFSETTO:+0100
TZNAME:CET
DTSTART:20161030T010000
END:STANDARD
BEGIN:DAYLIGHT
TZOFFSETFROM:+0100
TZOFFSETTO:+0200
TZNAME:CEST
DTSTART:20170326T010000
END:DAYLIGHT
BEGIN:STANDARD
TZOFFSETFROM:+0200
TZOFFSETTO:+0100
TZNAME:CET
DTSTART:20171029T010000
END:STANDARD
END:VTIMEZONE
BEGIN:VEVENT
DTSTART;TZID=Europe/Madrid:20161001T200000
DTEND;TZID=Europe/Madrid:20161001T220000
DTSTAMP:20260423T234555
CREATED:20160914T164903Z
LAST-MODIFIED:20161129T113511Z
UID:1949-1475352000-1475359200@www.triarte.net
SUMMARY:20:00h. XXI Aniversario de la Orquesta Filarmónica de Málaga. Sala María Cristina.
DESCRIPTION:En el XXI Aniversario de la Orquesta Filarmónica de Málaga\, las Orquestas de TRIARTE participarán en el Ciclo de Orquesta de Jóvenes «Pedro Gutiérrez Lapuente». Nos ofrecerán un concierto en la Sala María Cristina de Málaga el 1 de octubre de 2016 a las 20:00h. \nORQUESTA DE CÁMARA TRIARTE. Directora\, Rosario Hidalgo \nLa Orquesta de Cámara Triarte hace su presentación en junio de 2014 en la Sala Mª Cristina-Fundación Unicaja. Nace en un principio\, como complemento a la formación musical académica de los alumnos que cursan estudios en Triarte\, aprovechando sus conocimientos\, cualidades instrumentales\, interés e ilusión. \nEstá formada\, en su mayoría\, por alumnos de Enseñanzas Profesionales\, apoyada al mismo tiempo por algunos profesores de Triarte\, que con su esfuerzo y dedicación\, alcanzan un nivel más que aceptable dentro del mundo musical camerístico. \nDentro del repertorio que se trabaja\, está el de acercarse a la música de cámara de varias épocas\, abarcando tanto obras pertenecientes al período Barroco como al Clasicismo y al Romanticismo\, interpretando unas veces partituras para cuerda\, viento madera y concierto para solistas; otras veces actúa acompañando al Coro Juvenil Triarte\, con adaptaciones y arreglos exclusivos para su plantilla orquestal. \nHemos actuado\, ofreciendo conciertos\, en la Parroquia de S. Mª Goretti\, en la Iglesia de Santiago\, en la Iglesia de los Mártires\, en la Iglesia de S. Agustín\, en la Sala Mª Cristina-Fundación Unicaja\, en el Centro Cultural Provincial y en el Auditorio Edgar Neville\, ambos de la Diputación de Málaga y recientemente en la Sala Falla del Conservatorio Superior de Música de Málaga. \nPROGRAMA \nConcierto Nº 2 en Do M. RV 533 para 2 flautas\, cuerdas y bajo continuo\, A. Vivaldi\nSolistas: María Leiva Sepúlveda\, Blanca Salgado Fuentes\nI Allegro\nII Largo\nIII Vivace \nConcierto en La m BWV 1041 para violín\, cuerda y bajo continuo\, J. S. Bach\nSolista: Sofía Eugenia Evtimova Georgieva\nI Allegro\nII Andante\nIII Allegro Assai \nÁlbum de la juventud Op. 39\, P. I. Tchaikovsky\nArreglo para orquesta de cuerdas\n– Canción de la mañana\n– Vieja tonada francesa\n– Marcha de los soldados jóvenes\n– Mañana de invierno\n– El funeral de la muñeca\n– Dulce ensueño \nORQUESTA SINFÓNICA TRIARTE. Directora\, Evelyn Martínez \nLa Orquesta Sinfónica Triarte inició su actividad de conciertos en 2010 bajo la dirección de la profesora Adriana Vaca\, siguiendo el trabajo de formación del alumnado y realizando conciertos desde 2012 hasta la actualidad bajo la dirección de la profesora Evelyn Martínez. \nLa formación de la Orquesta Sinfónica en su inicio se constituye de alumnado del Centro\, dando una inusual plantilla compuesta tanto de adultos como pequeños\, alumnos todos de Triarte\, Centro autorizado en Enseñanzas Profesionales de Música. \nEn 2012\, comienzan a integrarse en la plantilla alumnos que poco a poco se van formando musicalmente en Triarte y también colaboradores que ayudan a que la orquesta pueda mantener gran parte de la plantilla instrumental\, llegando así a mantener actualmente en sus atriles aproximadamente 40 músicos. \nDesde el compromiso con la música que se realiza en nuestras aulas\, la Orquesta Sinfónica Triarte pretende difundir obras tanto de compositores clásicos como de compositores de la actualidad. Las obras están escritas y arregladas para el nivel de los alumnos\, dada su peculiaridad en la variedad de las edades y formación de sus integrantes. \nCada año\, la Orquesta celebra varios conciertos coincidiendo en Diciembre\, fechas navideñas\, Marzo en el Centro de Cultura de Campanillas (Málaga) y Junio en Auditorio Edgar Neville o en la Sala Falla del Conservatorio Superior de Música de Málaga\, logrando en todos ellos grandes éxitos. \nPROGRAMA \nPalladio\, Concierto Grosso\, K. Jenkins\nMov. I\, Allegretto\nLa Máquina de escribir\, L. Anderson\nAcross the Stars\, J. Williams\nPequeña Serenata Nocturna\, W. A. Mozart\nBSO Juego de Tronos\, R. Djawadi \nEntrada Gratuita
URL:https://www.triarte.net/evento/2000h-xxi-aniversario-de-la-orquesta-filarmonica-de-malaga-sala-maria-cristina/
LOCATION:Sala Unicaja de Conciertos María Cristina\, Calle Marqués de Valdecañas\, 2\, Málaga\, España\, 29008\, España
CATEGORIES:Concierto
ATTACH;FMTTYPE=image/png:https://www.triarte.net/wp-content/uploads/2016/09/20161001.Ciclo-Orquestas-de-Jóvenes.png
END:VEVENT
BEGIN:VEVENT
DTSTART;TZID=Europe/Madrid:20161002T183000
DTEND;TZID=Europe/Madrid:20161002T200000
DTSTAMP:20260423T234555
CREATED:20160923T194843Z
LAST-MODIFIED:20160926T184654Z
UID:1972-1475433000-1475438400@www.triarte.net
SUMMARY:18:30h. Recital de Música y Poesía. Totalán\, Málaga.
DESCRIPTION:El domingo 2 de Octubre algunos de nuestros Jóvenes Intérpretes participarán en la Semana Cultural de Totalán (Málaga). \nEn este concierto oiremos Jóvenes Intérpretes Solistas pertenecientes a Triarte – Centro de Estudios Artísticos\, Conservatorio Privado en Málaga. \nAntes del mismo la poeta Mª Ángeles Castillo Romero natural de Totalán\, recitará poemas de Federico García Lorca y Rafael de León. \nPROGRAMA\nRecital de Poesía: Mª Ángeles Castillo Romero \nLa nana del caballo grande\, Federico García Lorca\nMúsica: Nana\, M. de Falla\nLa viuda enamorada\, Rafael de León\nMúsica: Romance Op. 34 nº 14\, S. Rachmaninov\n* Violín acompañante: Sofía Eugenia Evtimova Georgieva\n* Piano acompañante: Siliana Zdravkova Asparouhova \nRecital de Música: Jóvenes Intérpretes de Triarte \nSofía Eugenia Evtimova Georgieva\, violín\nSaludo de Amor Op. 12\, E. Elgar\nOlé de la Curra\, popular\nCelia Salgado Fuentes\, violín\nChanson de Amor Op. 27 nº 1\, G. Fauré\nJaleo de Jerez\, A. S. Arista\nBlanca Salgado Fuentes\, flauta\nBoleras de la Cachucha\, A. S. Arista\nCanción de Amor Española\, popular arreglado por Galwey\n* Piano acompañante: Siliana Zdravkova
URL:https://www.triarte.net/evento/1830h-recital-de-musica-y-poesia-totalan-malaga/
LOCATION:Salón de Plenos\, Calle del Real\, 28\, Totalán\, Málaga\, 29197
CATEGORIES:Concierto
ATTACH;FMTTYPE=image/jpeg:https://www.triarte.net/wp-content/uploads/2016/09/2-10-16-CONCIERTO-TOTALÁN.jpg
END:VEVENT
BEGIN:VEVENT
DTSTART;VALUE=DATE:20161012
DTEND;VALUE=DATE:20161013
DTSTAMP:20260423T234555
CREATED:20161011T155034Z
LAST-MODIFIED:20161011T155034Z
UID:1996-1476230400-1476316799@www.triarte.net
SUMMARY:Día de la Hispanidad - Festivo Nacional
DESCRIPTION:Triarte permanecerá cerrado por motivo del Día de la Hispanidad.
URL:https://www.triarte.net/evento/dia-de-la-hispanidad-festivo-nacional/
END:VEVENT
BEGIN:VEVENT
DTSTART;TZID=Europe/Madrid:20161015T193000
DTEND;TZID=Europe/Madrid:20161015T210000
DTSTAMP:20260423T234555
CREATED:20161010T155054Z
LAST-MODIFIED:20161010T172404Z
UID:1986-1476559800-1476565200@www.triarte.net
SUMMARY:19:30h. Concierto Benéfico: Ajnas.
DESCRIPTION:El sábado 15 de octubre a las 19:30h el conjunto de Música de nuestra profesora de violín y viola Mary Jenner\, Ajnas\, nos ofrecerá un concierto Benéfico en la iglesia de San Jacinto de Macharaviaya. \nRecaudación para la ONG «AID CHILDREN OF THE WORLD«. \nEntrada Gratuita
URL:https://www.triarte.net/evento/1930h-concierto-benefico-ajnas/
LOCATION:Iglesia de San Jacinto\, Plaza de Bernardo de Gálvez \, Macharaviaya\, Málaga\, 29791\, España
CATEGORIES:Concierto
ATTACH;FMTTYPE=image/jpeg:https://www.triarte.net/wp-content/uploads/2016/10/ajnas.jpg
END:VEVENT
BEGIN:VEVENT
DTSTART;VALUE=DATE:20161031
DTEND;VALUE=DATE:20161101
DTSTAMP:20260423T234555
CREATED:20161025T160125Z
LAST-MODIFIED:20161025T160125Z
UID:2008-1477872000-1477958399@www.triarte.net
SUMMARY:Festivo Nacional
DESCRIPTION:Triarte permanecerá cerrado debido a que es Festivo Nacional: Festividad de Todos los Santos.
URL:https://www.triarte.net/evento/festivo-nacional/
END:VEVENT
END:VCALENDAR