BEGIN:VCALENDAR
VERSION:2.0
PRODID:-//Triarte - Centro de estudios art&iacute;sticos - Conservatorio y escuela de m&uacute;sica, danza y teatro. - ECPv6.15.18//NONSGML v1.0//EN
CALSCALE:GREGORIAN
METHOD:PUBLISH
X-ORIGINAL-URL:https://www.triarte.net
X-WR-CALDESC:Eventos para Triarte - Centro de estudios art&iacute;sticos - Conservatorio y escuela de m&uacute;sica, danza y teatro.
REFRESH-INTERVAL;VALUE=DURATION:PT1H
X-Robots-Tag:noindex
X-PUBLISHED-TTL:PT1H
BEGIN:VTIMEZONE
TZID:Europe/Madrid
BEGIN:DAYLIGHT
TZOFFSETFROM:+0100
TZOFFSETTO:+0200
TZNAME:CEST
DTSTART:20250330T010000
END:DAYLIGHT
BEGIN:STANDARD
TZOFFSETFROM:+0200
TZOFFSETTO:+0100
TZNAME:CET
DTSTART:20251026T010000
END:STANDARD
BEGIN:DAYLIGHT
TZOFFSETFROM:+0100
TZOFFSETTO:+0200
TZNAME:CEST
DTSTART:20260329T010000
END:DAYLIGHT
BEGIN:STANDARD
TZOFFSETFROM:+0200
TZOFFSETTO:+0100
TZNAME:CET
DTSTART:20261025T010000
END:STANDARD
BEGIN:DAYLIGHT
TZOFFSETFROM:+0100
TZOFFSETTO:+0200
TZNAME:CEST
DTSTART:20270328T010000
END:DAYLIGHT
BEGIN:STANDARD
TZOFFSETFROM:+0200
TZOFFSETTO:+0100
TZNAME:CET
DTSTART:20271031T010000
END:STANDARD
END:VTIMEZONE
BEGIN:VEVENT
DTSTART;TZID=Europe/Madrid:20260326T193000
DTEND;TZID=Europe/Madrid:20260326T210000
DTSTAMP:20260422T203258
CREATED:20260306T175316Z
LAST-MODIFIED:20260325T191012Z
UID:13292-1774553400-1774558800@www.triarte.net
SUMMARY:19:30 h | Concierto de Guitarra | Alumnos de Pedro Reina
DESCRIPTION:Dentro de las actividades programadas por TRIARTE está la de realizar conciertos para mejorar la formación de nuestros alumnos. \nEl jueves 26 de marzo a las 19:30 h nuestro alumnado de Guitarra nos ofrecerán un concierto. Alumnos de Pedro Reina. \nLa entrada será libre hasta completar el aforo de nuestra sala de conciertos. \nPrograma\n\n\n\n\n\n\n\n\n\nEben Clattenburg\nEl cucú\, J. A. Muro\nLa flauta del pastor\, J. A. Muro\nLa mariposa nº 13 Op. 30\, M. Giuliani \nNoah Clattenburg\nDanza popular antigua\, J. A. Muro\nDanza cortesana\, J. A. Muro\nArpegio\, J. A. Muro\nAndantino (dúo)\, M. Carcassi\nViolín: Jeenah Clattenburg \nEsther Rodríguez Morón\nPequeña marcha\, J. A. Muro\nCrepúsculo\, J. A. Muro\nOda a la alegría\, L. V. Beethoven \nDelia Pérez González\nLa cajita de música (dúo)\, J. A. Muro\nBurlesca\, Alemania \nJosé Luis Pérez-Cervantes Galisteo\nEl flautista\, J. A. Muro\nDanza\, J. A. Muro\nPara Elisa (fragmento)\, L. V. Beethoven \nMiguel Alcalde Morillas\nEstudio abierto\, L. Sanz\nEstudio de arpegio\, L. Sanz\nAcuario\, J. A. Muro \nIrene Machota Monje\nVals 3\, E. Thorlaksson\nVals\, D. Aguado\nAsturias (fragmento)\, I. Albéniz \nVíctor Gordo García\nCanción de trovador\, J. A. Muro\nEl campanero\, J. A. Muro\nOda a la alegría\, L. V. Beethoven \nVíctor Pico Molins\nA toye\, Anónimo S. XVI\nVals en La menor\, M. Carcassi\nVals en Sol\, D. Fortea \nElena Pardo Elvira\nSarabanda BWV 995\, J. S. Bach\nAndante nº 13 Op. 35\, F. Sor\nEstudio simple VI\, L. Brouwer \nRocío Vega Carmona\nPavana I\, L. Milán\nEstudio nº 3 Op. 60\, M. Carcassi\nOrange\, N. Leclerq
URL:https://www.triarte.net/evento/1930-h-concierto-de-guitarra-alumnos-de-pedro-reina-3/
LOCATION:Sala de Conciertos de Triarte\, Calle Corregidor Antonio de Bobadilla\, 16\, Málaga\, 29006\, España
CATEGORIES:Concierto
ATTACH;FMTTYPE=image/jpeg:https://www.triarte.net/wp-content/uploads/2026/03/web-26-03-CONCIERTO-DE-GUITARRA.jpg
END:VEVENT
END:VCALENDAR