BEGIN:VCALENDAR
VERSION:2.0
PRODID:-//Triarte - Centro de estudios art&iacute;sticos - Conservatorio y escuela de m&uacute;sica, danza y teatro. - ECPv6.15.18//NONSGML v1.0//EN
CALSCALE:GREGORIAN
METHOD:PUBLISH
X-WR-CALNAME:Triarte - Centro de estudios art&iacute;sticos - Conservatorio y escuela de m&uacute;sica, danza y teatro.
X-ORIGINAL-URL:https://www.triarte.net
X-WR-CALDESC:Eventos para Triarte - Centro de estudios art&iacute;sticos - Conservatorio y escuela de m&uacute;sica, danza y teatro.
REFRESH-INTERVAL;VALUE=DURATION:PT1H
X-Robots-Tag:noindex
X-PUBLISHED-TTL:PT1H
BEGIN:VTIMEZONE
TZID:Europe/Madrid
BEGIN:DAYLIGHT
TZOFFSETFROM:+0100
TZOFFSETTO:+0200
TZNAME:CEST
DTSTART:20250330T010000
END:DAYLIGHT
BEGIN:STANDARD
TZOFFSETFROM:+0200
TZOFFSETTO:+0100
TZNAME:CET
DTSTART:20251026T010000
END:STANDARD
BEGIN:DAYLIGHT
TZOFFSETFROM:+0100
TZOFFSETTO:+0200
TZNAME:CEST
DTSTART:20260329T010000
END:DAYLIGHT
BEGIN:STANDARD
TZOFFSETFROM:+0200
TZOFFSETTO:+0100
TZNAME:CET
DTSTART:20261025T010000
END:STANDARD
BEGIN:DAYLIGHT
TZOFFSETFROM:+0100
TZOFFSETTO:+0200
TZNAME:CEST
DTSTART:20270328T010000
END:DAYLIGHT
BEGIN:STANDARD
TZOFFSETFROM:+0200
TZOFFSETTO:+0100
TZNAME:CET
DTSTART:20271031T010000
END:STANDARD
END:VTIMEZONE
BEGIN:VEVENT
DTSTART;TZID=Europe/Madrid:20260205T200000
DTEND;TZID=Europe/Madrid:20260205T213000
DTSTAMP:20260422T205943
CREATED:20260202T171725Z
LAST-MODIFIED:20260203T194456Z
UID:13240-1770321600-1770327000@www.triarte.net
SUMMARY:20:00 h | Concierto de Alumnos: Piano y Música de Cámara
DESCRIPTION:Dentro de las actividades programadas por TRIARTE está la de realizar conciertos para mejorar la formación de nuestros alumnos. \nEl jueves 5 de febrero a las 20:00 h nuestro alumnado de Piano y Música de Cámara nos ofrecerán un concierto. Alumnos de Natalia Sakala. \nLa entrada será libre hasta completar el aforo de nuestra sala de conciertos. \nPrograma\nMarta Alcoholado Muriel \nEl cisne\, C. Saint-Saëns \nBruno Gómez Da Silva | violín\nSara Melwani Nanwani | piano\nBerceuse\, C. César  \nAntonio Vargas Sánchez de Alcázar \nJazz-waltz\, G. Sasko \nAdriana Fonollá González \nEstudio Op. 29 n° 7\, H. Bertini\nVals Op. 12 n° 2\, E. Grieg \nJulia Cortés Castillo \nSonatina Op. 20 n° 1 en Do M\, F. Kuhlau\nMov. I : Allegro \nClaudia Pardo Elvira \nEstudio Op. 29 n° 11\, H. Bertini\nRomanza sin palabras Op. 30 n° 6\, F. Mendelssohn \nJavier Vargas Sánchez de Alcázar \nEl hada y el niño\, E. Granados \nHao Zheng \nEstudio Op. 29 n° 8\, H. Bertini\nPreludio Op. 28 n° 4\, F. Chopin \nXun Xuan-Susana Gao\nEstudio Op. 299 n° 2\, C. Czerny\nEstudio Op. 299 n° 5\, C. Czerny \nJimena González Gaspar \nInvención n° 4 en Re m\, J. S. Bach\nOriental Op. 5 n° 2\, E. Granados \nIsmael Andrés Domínguez González \nNocturno Op. 9 n° 2\, F. Chopin \nRafael Reguera Domínguez \nNocturno Op. Post. en Do # m\, F. Chopin \nRafael Delgado Olmo \nEstudio Op. Post. n° 1\, F. Chopin\nSonata Op. 27 n° 2 en Do # m\, L. van Beethoven\nMov. I : Adagio sostenuto
URL:https://www.triarte.net/evento/2000-h-concierto-de-alumnos-piano-y-musica-de-camara/
LOCATION:Sala de Conciertos de Triarte\, Calle Corregidor Antonio de Bobadilla\, 16\, Málaga\, 29006\, España
CATEGORIES:Concierto
ATTACH;FMTTYPE=image/png:https://www.triarte.net/wp-content/uploads/2026/02/web-05-02-CONCIERTO-DE-NATALIA-PIANO-Y-CAMARA.png
END:VEVENT
END:VCALENDAR