BEGIN:VCALENDAR
VERSION:2.0
PRODID:-//Triarte - Centro de estudios art&iacute;sticos - Conservatorio y escuela de m&uacute;sica, danza y teatro. - ECPv6.15.18//NONSGML v1.0//EN
CALSCALE:GREGORIAN
METHOD:PUBLISH
X-ORIGINAL-URL:https://www.triarte.net
X-WR-CALDESC:Eventos para Triarte - Centro de estudios art&iacute;sticos - Conservatorio y escuela de m&uacute;sica, danza y teatro.
REFRESH-INTERVAL;VALUE=DURATION:PT1H
X-Robots-Tag:noindex
X-PUBLISHED-TTL:PT1H
BEGIN:VTIMEZONE
TZID:Europe/Madrid
BEGIN:DAYLIGHT
TZOFFSETFROM:+0100
TZOFFSETTO:+0200
TZNAME:CEST
DTSTART:20240331T010000
END:DAYLIGHT
BEGIN:STANDARD
TZOFFSETFROM:+0200
TZOFFSETTO:+0100
TZNAME:CET
DTSTART:20241027T010000
END:STANDARD
BEGIN:DAYLIGHT
TZOFFSETFROM:+0100
TZOFFSETTO:+0200
TZNAME:CEST
DTSTART:20250330T010000
END:DAYLIGHT
BEGIN:STANDARD
TZOFFSETFROM:+0200
TZOFFSETTO:+0100
TZNAME:CET
DTSTART:20251026T010000
END:STANDARD
BEGIN:DAYLIGHT
TZOFFSETFROM:+0100
TZOFFSETTO:+0200
TZNAME:CEST
DTSTART:20260329T010000
END:DAYLIGHT
BEGIN:STANDARD
TZOFFSETFROM:+0200
TZOFFSETTO:+0100
TZNAME:CET
DTSTART:20261025T010000
END:STANDARD
END:VTIMEZONE
BEGIN:VEVENT
DTSTART;TZID=Europe/Madrid:20251219T170000
DTEND;TZID=Europe/Madrid:20251219T183000
DTSTAMP:20260423T040258
CREATED:20251125T185312Z
LAST-MODIFIED:20251216T182009Z
UID:13066-1766163600-1766169000@www.triarte.net
SUMMARY:17:00 h | Concierto de Iniciación a la Música. Alumnos de Sofía Higueras
DESCRIPTION:Como es tradición\, en Triarte celebramos el final del primer trimestre con diversos Conciertos de Navidad?. En esta ocasión\, nuestros alumnos de Iniciación a la Música nos enseñan la cara amable de la Navidad como más nos gusta: con Música. \nAsí\, el Viernes 19 de diciembre a las 17:00 h. los alumnos de Iniciación a la Música de nuestra profesora Sofía Higueras nos ofrecerán un concierto. \nPrograma\nHola\, Hola\, ¿cómo estás?\nClaves y cajas chinas \nDanza de las hadas de azúcar del Cascanueces\nCascabeles\, ritmo\, crescendos y decrescendos \nMi burrito sabanero\nCoreografía con pulso en los pies \nJingle Bell Rock\nPulso con brazos y participación padre
URL:https://www.triarte.net/evento/1700-h-concierto-de-iniciacion-a-la-musica-alumnos-de-sofia-higueras/
CATEGORIES:Concierto
ATTACH;FMTTYPE=image/png:https://www.triarte.net/wp-content/uploads/2025/11/web-19-12-INICIACION-A-LA-MUSICA.png
END:VEVENT
BEGIN:VEVENT
DTSTART;TZID=Europe/Madrid:20251219T200000
DTEND;TZID=Europe/Madrid:20251219T213000
DTSTAMP:20260423T040258
CREATED:20251126T170855Z
LAST-MODIFIED:20251218T193309Z
UID:13079-1766174400-1766179800@www.triarte.net
SUMMARY:20:00 h | Coro y Orquesta Sinfónica Triarte – Concierto de Navidad
DESCRIPTION:El viernes 19 de diciembre a las 20:00 h. celebraremos nuestro Concierto de Navidad donde actuarán nuestra Orquesta Sinfónica\, dirigida por Helena y nuestro coro dirigido por María Pino. \nTriarte desea dar las gracias a la Parroquia de Santa María Goretti por poder celebrar este concierto. Y por otro lado desear a todas las personas que hoy nos acompañan\, la mayor felicidad para el año venidero y que la paz\, la tolerancia y la solidaridad sean posibles dentro y fuera de nuestros corazones.\n¡Feliz Navidad ! \nPrograma\nOrquesta Sinfónica Triarte\nDirectora\, Helena Martínez\nLas cuatro estaciones | A. Vivaldi\n“Invierno”\nViolín solista: Carlos González \n“Verano”\nViolín solista: Carlos González \nGabriel oboe (B.S.O. La Misión) | E. Morricone\nFlauta solista: Eva Yiran Xu \nCoro y Orquesta Sinfónica Triarte\nDirectoras\, María Pino y Helena Martínez\nHodie Christus natus est | J. Elberdin \nPopurrí de villancicos | Francisco Jurado \n  \n  \nPróximamente
URL:https://www.triarte.net/evento/2000-h-coro-y-orquesta-sinfonica-triarte-concierto-de-navidad/
CATEGORIES:Concierto
ATTACH;FMTTYPE=image/png:https://www.triarte.net/wp-content/uploads/2025/11/web-19-12-CONCIERTO-GORETTI-1.png
END:VEVENT
END:VCALENDAR