BEGIN:VCALENDAR
VERSION:2.0
PRODID:-//Triarte - Centro de estudios art&iacute;sticos - Conservatorio y escuela de m&uacute;sica, danza y teatro. - ECPv6.15.18//NONSGML v1.0//EN
CALSCALE:GREGORIAN
METHOD:PUBLISH
X-ORIGINAL-URL:https://www.triarte.net
X-WR-CALDESC:Eventos para Triarte - Centro de estudios art&iacute;sticos - Conservatorio y escuela de m&uacute;sica, danza y teatro.
REFRESH-INTERVAL;VALUE=DURATION:PT1H
X-Robots-Tag:noindex
X-PUBLISHED-TTL:PT1H
BEGIN:VTIMEZONE
TZID:Europe/Madrid
BEGIN:DAYLIGHT
TZOFFSETFROM:+0100
TZOFFSETTO:+0200
TZNAME:CEST
DTSTART:20240331T010000
END:DAYLIGHT
BEGIN:STANDARD
TZOFFSETFROM:+0200
TZOFFSETTO:+0100
TZNAME:CET
DTSTART:20241027T010000
END:STANDARD
BEGIN:DAYLIGHT
TZOFFSETFROM:+0100
TZOFFSETTO:+0200
TZNAME:CEST
DTSTART:20250330T010000
END:DAYLIGHT
BEGIN:STANDARD
TZOFFSETFROM:+0200
TZOFFSETTO:+0100
TZNAME:CET
DTSTART:20251026T010000
END:STANDARD
BEGIN:DAYLIGHT
TZOFFSETFROM:+0100
TZOFFSETTO:+0200
TZNAME:CEST
DTSTART:20260329T010000
END:DAYLIGHT
BEGIN:STANDARD
TZOFFSETFROM:+0200
TZOFFSETTO:+0100
TZNAME:CET
DTSTART:20261025T010000
END:STANDARD
END:VTIMEZONE
BEGIN:VEVENT
DTSTART;TZID=Europe/Madrid:20251215T193000
DTEND;TZID=Europe/Madrid:20251215T210000
DTSTAMP:20260423T041043
CREATED:20251125T172333Z
LAST-MODIFIED:20251212T203927Z
UID:13054-1765827000-1765832400@www.triarte.net
SUMMARY:19:30 h | Concierto de Piano. Alumnos de Siliana Zdravkova
DESCRIPTION:Como es tradición\, al final del primer trimestre nuestros alumnos participan en el Concierto de Navidad para mejorar su formación. \nEl lunes 15 de diciembre a las 19:30 h. los alumnos de Piano de nuestro profesor Siliana Zdravkova nos ofrecerán el siguiente concierto. \nLa entrada será libre hasta completar el aforo de nuestra sala de conciertos. \nPrograma\nSalvador Revidiego Reina\nCanción de cuna\, P. Philippe \nAlegres cascabeles\, popular \nMarina Palma Conde \nVals\, D. M. Kabalevsky \nVals de «La Bella Durmiente»\, P. I. Tchaikovsky \nJulia López Hijosa\nEstrellita\, popular\nLos peces en el río\, popular \nAlejandro Jesús Mayorga Villena \nMinueto en Sol M\, J. S. Bach \nSelina Melwani Nanwani \nDanza\, A. F. Goedike \nNakor Carballal Pérez \nEstudio 1 Op. 299\, C. Czerny \nEl jardín\, S. M. Maikapar \nLaura Rodriguez Liñán \nEstudio\, I. Berkovitz \nEstudio en Do M\, A. F. Goedike \nLuca Morales Trigo\nInvención nº 1\, J. S. Bach \nMarco Jesús Morales Trigo\nInvención nº 4\, J. S. Bach \nNoa López Soriano\nInvención nº 13\, J. S. Bach \nNoelia Gómez Marín \nVals Op. 69 nº 2\, F. Chopin\nCampana sobre Campana\, popular \nÁngel Pavón Muñoz (violín)\nRafael Luque Ruiz de Mier (piano)\nEl Cisne\, C. Saint-Saëns
URL:https://www.triarte.net/evento/1930-h-concierto-de-piano-alumnos-de-siliana-zdravkova-3/
LOCATION:Sala de Conciertos de Triarte\, Calle Corregidor Antonio de Bobadilla\, 16\, Málaga\, 29006\, España
CATEGORIES:Concierto
ATTACH;FMTTYPE=image/png:https://www.triarte.net/wp-content/uploads/2025/11/web-concierto-siliana-navidad-2025.png
END:VEVENT
END:VCALENDAR