BEGIN:VCALENDAR
VERSION:2.0
PRODID:-//Triarte - Centro de estudios art&iacute;sticos - Conservatorio y escuela de m&uacute;sica, danza y teatro. - ECPv6.15.18//NONSGML v1.0//EN
CALSCALE:GREGORIAN
METHOD:PUBLISH
X-WR-CALNAME:Triarte - Centro de estudios art&iacute;sticos - Conservatorio y escuela de m&uacute;sica, danza y teatro.
X-ORIGINAL-URL:https://www.triarte.net
X-WR-CALDESC:Eventos para Triarte - Centro de estudios art&iacute;sticos - Conservatorio y escuela de m&uacute;sica, danza y teatro.
REFRESH-INTERVAL;VALUE=DURATION:PT1H
X-Robots-Tag:noindex
X-PUBLISHED-TTL:PT1H
BEGIN:VTIMEZONE
TZID:Europe/Madrid
BEGIN:DAYLIGHT
TZOFFSETFROM:+0100
TZOFFSETTO:+0200
TZNAME:CEST
DTSTART:20240331T010000
END:DAYLIGHT
BEGIN:STANDARD
TZOFFSETFROM:+0200
TZOFFSETTO:+0100
TZNAME:CET
DTSTART:20241027T010000
END:STANDARD
BEGIN:DAYLIGHT
TZOFFSETFROM:+0100
TZOFFSETTO:+0200
TZNAME:CEST
DTSTART:20250330T010000
END:DAYLIGHT
BEGIN:STANDARD
TZOFFSETFROM:+0200
TZOFFSETTO:+0100
TZNAME:CET
DTSTART:20251026T010000
END:STANDARD
BEGIN:DAYLIGHT
TZOFFSETFROM:+0100
TZOFFSETTO:+0200
TZNAME:CEST
DTSTART:20260329T010000
END:DAYLIGHT
BEGIN:STANDARD
TZOFFSETFROM:+0200
TZOFFSETTO:+0100
TZNAME:CET
DTSTART:20261025T010000
END:STANDARD
END:VTIMEZONE
BEGIN:VEVENT
DTSTART;TZID=Europe/Madrid:20250331T180000
DTEND;TZID=Europe/Madrid:20250331T193000
DTSTAMP:20260422T211112
CREATED:20250321T184755Z
LAST-MODIFIED:20250401T153959Z
UID:12271-1743444000-1743449400@www.triarte.net
SUMMARY:18:00 h. Concierto de Piano. Alumnos de Lucía Muñoz & Román Muñoz
DESCRIPTION:Dentro de las actividades programadas por TRIARTE\, está el realizar conciertos con los alumnos para mejorar su formación musical. El Lunes 31 de marzo a las 18:00 h los alumnos de Piano de nuestros profesores Lucía Muñoz & Román Muñoz nos ofrecerán un concierto. \n Entrada será libre hasta completar el aforo de nuestra sala de conciertos. \nPROGRAMA\n\n\nMartín Fernández Maldonado\nCampanita\, Tchokov Gemiu\nLía Fernandez Maldonado\nA la pata coja\, Tchokov Gemiu\nJimena Fonollá González\nSun\, sun\, sun\, Tchokov Gemiu\nPatinando sobre hielo\, Tchokov Gemiu\nLaura María Palomo Sánchez\nLa canción del rock \, J. Bastien\nLa marcha de los Santos \, J. Bastien\nPaloma Bueno Sanjuan\nLargo\, J. Bastien\nOda a la alegría\, L. van Beethoven\nBelinda Zhou\nEstudio op. 100 nº 2 «Arabesco»\, J. F. F. Burgmüller\nSofía Ponce Rizo\nProgreso\, J. F. F. Burgmüller\nYixi-Luna Lin\nSonatina n° 2 op. 36 (1° mov)\, M. Clementi\nRemedios Castillo Zamora\nSonatina n° 37\, L. van Beethoven\nMaría Sierra Prieto\nSonatina n° 9 en Fa (1° mov) \, L. van Beethoven\nPaula Silva Jaimes\nLa esperanza de María\, Alejandro Blanco
URL:https://www.triarte.net/evento/1800-h-concierto-de-piano-alumnos-de-lucia-munoz/
LOCATION:Sala de Conciertos de Triarte\, Calle Corregidor Antonio de Bobadilla\, 16\, Málaga\, 29006\, España
CATEGORIES:Concierto
ATTACH;FMTTYPE=image/jpeg:https://www.triarte.net/wp-content/uploads/2025/03/web-31-03-CONCIERTO-DE-PIANO-LUCIA-y-ROMAN.jpg
END:VEVENT
BEGIN:VEVENT
DTSTART;TZID=Europe/Madrid:20250331T193000
DTEND;TZID=Europe/Madrid:20250331T210000
DTSTAMP:20260422T211112
CREATED:20250327T171428Z
LAST-MODIFIED:20250331T160200Z
UID:12324-1743449400-1743454800@www.triarte.net
SUMMARY:19:30 h. Concierto de Piano. Alumnos de Carmen
DESCRIPTION:Dentro de las actividades programadas por TRIARTE\, está el realizar conciertos con los alumnos para mejorar su formación musical. El Lunes 31 de marzo a las 19:30 h los alumnos de Piano de nuestra profesora Carmen Vidal nos ofrecerán un concierto. \n Entrada será libre hasta completar el aforo de nuestra sala de conciertos. \nPROGRAMA\n\n\n\n\n\n\nRocío Flores Silva\nBajo del Mar\, A. Menken \nLucía Acuña Höhle\nRivers flows in your\, Yiruma \nAna Del Río Castro\nStranger Things\, Kyle Dixon \nHao Zheng\nFairytale nº 22 op. 37\, H. Lemoine \nCarmen Garrido Montes\nSonata kV 545\, W. A. Mozart \nLara del Carmen Salinas Soria\nArabesca nº 1\, C. Debussy \nRafael Delgado Olmo\nEstudio nº 12 op. 91\, M. Moszkowski \nEva-Yiran Xu\nFantasía impromptu\, F. Chopin
URL:https://www.triarte.net/evento/1930-h-concierto-de-piano-alumnos-de-carmen/
CATEGORIES:Concierto
ATTACH;FMTTYPE=image/jpeg:https://www.triarte.net/wp-content/uploads/2025/03/web-31-03-CONCIERTO-DE-PIANO-CARMEN.jpg
END:VEVENT
END:VCALENDAR