BEGIN:VCALENDAR
VERSION:2.0
PRODID:-//Triarte - Centro de estudios art&iacute;sticos - Conservatorio y escuela de m&uacute;sica, danza y teatro. - ECPv6.15.18//NONSGML v1.0//EN
CALSCALE:GREGORIAN
METHOD:PUBLISH
X-WR-CALNAME:Triarte - Centro de estudios art&iacute;sticos - Conservatorio y escuela de m&uacute;sica, danza y teatro.
X-ORIGINAL-URL:https://www.triarte.net
X-WR-CALDESC:Eventos para Triarte - Centro de estudios art&iacute;sticos - Conservatorio y escuela de m&uacute;sica, danza y teatro.
REFRESH-INTERVAL;VALUE=DURATION:PT1H
X-Robots-Tag:noindex
X-PUBLISHED-TTL:PT1H
BEGIN:VTIMEZONE
TZID:Europe/Madrid
BEGIN:DAYLIGHT
TZOFFSETFROM:+0100
TZOFFSETTO:+0200
TZNAME:CEST
DTSTART:20240331T010000
END:DAYLIGHT
BEGIN:STANDARD
TZOFFSETFROM:+0200
TZOFFSETTO:+0100
TZNAME:CET
DTSTART:20241027T010000
END:STANDARD
BEGIN:DAYLIGHT
TZOFFSETFROM:+0100
TZOFFSETTO:+0200
TZNAME:CEST
DTSTART:20250330T010000
END:DAYLIGHT
BEGIN:STANDARD
TZOFFSETFROM:+0200
TZOFFSETTO:+0100
TZNAME:CET
DTSTART:20251026T010000
END:STANDARD
BEGIN:DAYLIGHT
TZOFFSETFROM:+0100
TZOFFSETTO:+0200
TZNAME:CEST
DTSTART:20260329T010000
END:DAYLIGHT
BEGIN:STANDARD
TZOFFSETFROM:+0200
TZOFFSETTO:+0100
TZNAME:CET
DTSTART:20261025T010000
END:STANDARD
END:VTIMEZONE
BEGIN:VEVENT
DTSTART;TZID=Europe/Madrid:20250328T183000
DTEND;TZID=Europe/Madrid:20250328T200000
DTSTAMP:20260423T003242
CREATED:20250321T164923Z
LAST-MODIFIED:20250331T182311Z
UID:12265-1743186600-1743192000@www.triarte.net
SUMMARY:18:30 h. Concierto de Guitarra. Alumnos de Pedro Reina
DESCRIPTION:Dentro de las actividades programadas por TRIARTE\, está el realizar conciertos con los alumnos para mejorar su formación musical. El Viernes 28 de marzo a las 18:30 h los alumnos de Guitarra de nuestro profesor Pedro Reina nos ofrecerán un concierto. \n Entrada será libre hasta completar el aforo de nuestra sala de conciertos. \nPROGRAMA\nEmma Mateos Lopera\nCuento (dúo)\n¡Despierta! (dúo)\, J. A. Muro\nNicolás Serrano Martín\nCoral (dúo)\nEl cuento del pescador (dúo)\, J. A. Muro\nEsther Rodríguez Morón\nLa cajita de música (dúo)\, J. A. Muro\nBurlesca (dúo)\, Alemania\nVíctor Gordo García\nEl cucú (dúo)\nLa mañana (dúo)\nCuento antiguo (dúo)\, J. A. Muro\nNoah Clattenburg\nDesfile de trompetas (dúo)\nLa gallina (dúo)\nRonda (dúo)\, J. A. Muro\nDavid Ramón Aranda Durán\nLa llamada del cazador (dúo)\nNubes (dúo)\, J. A. Muro\nJosé Luis Pérez-Cervantes Galisteo\nPequeña marcha\,\nCrepúsculo\, J. A. Muro\nIrene Machota Monje\nEn la pradera\nArpegio\nDanza cortesana\, J. A. Muro\nCarla Rodríguez Liñán\nAlalá\, popular gallega\nDanza\, J. A. Muro\nCanción del trovador\, J. A. Muro\nVíctor Pico Molins\nAndantino\, M. Carcassi\nVals\, D. Aguado\nVals en Mi menor\, B. Calatayud\nElena Pardo Elvira\nEstudio nº 46 Libro 1\, J. S. Sagreras\nEstudio abierto\, L. Sanz\nÁngel Aguilera Casado\nLección 19\, D. Aguado\nEstudio simple VI\, L. Brouwer\nGigue\, J. A. Logy\nJimena González Gaspar\nPavana I\, Luis de Milán\nPreludio Lágrima\, F. Tárrega\nGotas de lluvia\, B. Szordikowski
URL:https://www.triarte.net/evento/1830-h-concierto-de-guitarra-alumnos-de-pedro-reina-2/
LOCATION:Sala de Conciertos de Triarte\, Calle Corregidor Antonio de Bobadilla\, 16\, Málaga\, 29006\, España
CATEGORIES:Concierto
ATTACH;FMTTYPE=image/jpeg:https://www.triarte.net/wp-content/uploads/2025/03/WEB-28-12-concierto-de-GUITARRA.jpg
END:VEVENT
BEGIN:VEVENT
DTSTART;TZID=Europe/Madrid:20250328T201500
DTEND;TZID=Europe/Madrid:20250328T213000
DTSTAMP:20260423T003242
CREATED:20250321T175524Z
LAST-MODIFIED:20250328T093142Z
UID:12268-1743192900-1743197400@www.triarte.net
SUMMARY:20:15 h. Concierto de Piano. Alumnos de Maribel Sánchez de Alcázar y Natalia Sakala
DESCRIPTION:Dentro de las actividades programadas por TRIARTE\, está el realizar conciertos con los alumnos para mejorar su formación musical. El Miércoles 28 de marzo a las 20:15 h los alumnos de Piano de nuestra profesora Maribel Sánchez de Alcázar y Natalia Sakala nos ofrecerán un concierto. \n Entrada será libre hasta completar el aforo de nuestra sala de conciertos. \nPROGRAMA\n\n\nPablo Morales Muñoz\nToccatina\, D. Kabalevski\nFernando Parra Pérez\nLa marcha de los santos\, J. S. Bastien\n¡Puf! Va la comadreja\, J. S. Bastien\nHelena Martín Abelardo\nMi cordero\, J. S. Bastien\nLucía Vanhout Ruiz\nMi caballito\, J. S. Bastien\nEl reloj\, J. S. Bastien\nRubén Bataller Arcos\nLos tambores indios\, J. S. Bastien\nA la pata coja\, A. Tchokov\nFrancisco José Oliva Mérida\nLas chiapanecas\, popular mejicana\nPatinando sobre hielo\, A. Tchokov\nAbril Urquízar García\nFrére Jacques\, popular francesa\nHimno a la Alegría\, L. van Beethoven\nJosé Domingo Salinas Soria\nConversación\, G. Iturriaga\nLos escaladores\, E. Fernández\nJia Qi Chen\nMarcha triunfal\, J. S. Bastien\nVals\, J. S. Bastien\nPablo Martín Jurado\nSonatina en Do M\, J. S. Bastien\nRodrigo Núñez Peregrín\nEstudio en Do M\, C. Czerny\nEstudio op. 82 nº 55\, C. Gurlitt\nAna Muñoz Moya\nEstudio en Sol M\, L. Schytte\nEstudio en Re m\, A. Goedike\nJavier Cañete Muñoz\nSonatina nº 6\, L. van Beethoven\nI. Allegro assai\nEl campesino alegre\, R. Schumann\nClaudia Pardo Elvira\nEstudio op. 100 nº 6\, H. Bertini\nCanción francesa\, P. I. Tchaikovsy\nIan Villanueva Gómez\nSonatina Op. 151 nº 1\, A. Diabelli\nVíctor Jiménez López\nVals Op. 28 nº 5\, S. Maykapar\nJulia Cortés Castillo\nEstudio op. 29 nº 15\, H. Bertini\nCuento de hadas\, D. Kabalevski
URL:https://www.triarte.net/evento/2015-h-concierto-de-piano-alumnos-de-maribel-sanchez-de-alcazar-2/
LOCATION:Sala de Conciertos de Triarte\, Calle Corregidor Antonio de Bobadilla\, 16\, Málaga\, 29006\, España
CATEGORIES:Concierto
ATTACH;FMTTYPE=image/jpeg:https://www.triarte.net/wp-content/uploads/2025/03/web-28-03-CONCIERTO-DE-PIANO-MARIBEL-1.jpg
END:VEVENT
END:VCALENDAR