BEGIN:VCALENDAR
VERSION:2.0
PRODID:-//Triarte - Centro de estudios art&iacute;sticos - Conservatorio y escuela de m&uacute;sica, danza y teatro. - ECPv6.15.18//NONSGML v1.0//EN
CALSCALE:GREGORIAN
METHOD:PUBLISH
X-ORIGINAL-URL:https://www.triarte.net
X-WR-CALDESC:Eventos para Triarte - Centro de estudios art&iacute;sticos - Conservatorio y escuela de m&uacute;sica, danza y teatro.
REFRESH-INTERVAL;VALUE=DURATION:PT1H
X-Robots-Tag:noindex
X-PUBLISHED-TTL:PT1H
BEGIN:VTIMEZONE
TZID:Europe/Madrid
BEGIN:DAYLIGHT
TZOFFSETFROM:+0100
TZOFFSETTO:+0200
TZNAME:CEST
DTSTART:20240331T010000
END:DAYLIGHT
BEGIN:STANDARD
TZOFFSETFROM:+0200
TZOFFSETTO:+0100
TZNAME:CET
DTSTART:20241027T010000
END:STANDARD
BEGIN:DAYLIGHT
TZOFFSETFROM:+0100
TZOFFSETTO:+0200
TZNAME:CEST
DTSTART:20250330T010000
END:DAYLIGHT
BEGIN:STANDARD
TZOFFSETFROM:+0200
TZOFFSETTO:+0100
TZNAME:CET
DTSTART:20251026T010000
END:STANDARD
BEGIN:DAYLIGHT
TZOFFSETFROM:+0100
TZOFFSETTO:+0200
TZNAME:CEST
DTSTART:20260329T010000
END:DAYLIGHT
BEGIN:STANDARD
TZOFFSETFROM:+0200
TZOFFSETTO:+0100
TZNAME:CET
DTSTART:20261025T010000
END:STANDARD
END:VTIMEZONE
BEGIN:VEVENT
DTSTART;TZID=Europe/Madrid:20250308T190000
DTEND;TZID=Europe/Madrid:20250308T210000
DTSTAMP:20260422T211309
CREATED:20250304T111514Z
LAST-MODIFIED:20250304T111550Z
UID:12229-1741460400-1741467600@www.triarte.net
SUMMARY:Concierto por el XX Aniversario Banda de Cornetas y Tambores Ntra. Sra. del Carmen
DESCRIPTION:Nos enorgullece anunciar que la Orquesta Triarte se unirá a la 𝐁𝐚𝐧𝐝𝐚 𝐝𝐞 𝐂𝐨𝐫𝐧𝐞𝐭𝐚𝐬 𝐲 𝐓𝐚𝐦𝐛𝐨𝐫𝐞𝐬 𝐍𝐭𝐫𝐚. 𝐒𝐫𝐚. 𝐝𝐞𝐥 𝐂𝐚𝐫𝐦𝐞𝐧  en el 𝗖𝗼𝗻𝗰𝗶𝗲𝗿𝘁𝗼 𝗽𝗼𝗿 𝗲𝗹 𝗫𝗫 𝗔𝗻𝗶𝘃𝗲𝗿𝘀𝗮𝗿𝗶𝗼\, un evento que marcará dos décadas de legado musical. \n\n\n\n Fecha: 8 de marzo\n Lugar: Auditorio Manuel de Falla (Málaga)\n Entradas ya disponibles. ¡Reserven ya las suyas
URL:https://www.triarte.net/evento/concierto-por-el-xx-aniversario-banda-de-cornetas-y-tambores-ntra-sra-del-carmen/
LOCATION:Conservatorio Superior de Málaga\, Plaza del Maestro Artola\, 2\, Málaga\, Málaga\, 29013\, España
CATEGORIES:Concierto
ATTACH;FMTTYPE=image/png:https://www.triarte.net/wp-content/uploads/2025/03/GALA-XX-ANIVERSARIO.png
END:VEVENT
END:VCALENDAR