BEGIN:VCALENDAR
VERSION:2.0
PRODID:-//Triarte - Centro de estudios art&iacute;sticos - Conservatorio y escuela de m&uacute;sica, danza y teatro. - ECPv6.15.18//NONSGML v1.0//EN
CALSCALE:GREGORIAN
METHOD:PUBLISH
X-WR-CALNAME:Triarte - Centro de estudios art&iacute;sticos - Conservatorio y escuela de m&uacute;sica, danza y teatro.
X-ORIGINAL-URL:https://www.triarte.net
X-WR-CALDESC:Eventos para Triarte - Centro de estudios art&iacute;sticos - Conservatorio y escuela de m&uacute;sica, danza y teatro.
REFRESH-INTERVAL;VALUE=DURATION:PT1H
X-Robots-Tag:noindex
X-PUBLISHED-TTL:PT1H
BEGIN:VTIMEZONE
TZID:Europe/Madrid
BEGIN:DAYLIGHT
TZOFFSETFROM:+0100
TZOFFSETTO:+0200
TZNAME:CEST
DTSTART:20240331T010000
END:DAYLIGHT
BEGIN:STANDARD
TZOFFSETFROM:+0200
TZOFFSETTO:+0100
TZNAME:CET
DTSTART:20241027T010000
END:STANDARD
BEGIN:DAYLIGHT
TZOFFSETFROM:+0100
TZOFFSETTO:+0200
TZNAME:CEST
DTSTART:20250330T010000
END:DAYLIGHT
BEGIN:STANDARD
TZOFFSETFROM:+0200
TZOFFSETTO:+0100
TZNAME:CET
DTSTART:20251026T010000
END:STANDARD
BEGIN:DAYLIGHT
TZOFFSETFROM:+0100
TZOFFSETTO:+0200
TZNAME:CEST
DTSTART:20260329T010000
END:DAYLIGHT
BEGIN:STANDARD
TZOFFSETFROM:+0200
TZOFFSETTO:+0100
TZNAME:CET
DTSTART:20261025T010000
END:STANDARD
END:VTIMEZONE
BEGIN:VEVENT
DTSTART;TZID=Europe/Madrid:20250212T190000
DTEND;TZID=Europe/Madrid:20250212T203000
DTSTAMP:20260422T191124
CREATED:20250205T174857Z
LAST-MODIFIED:20250212T155519Z
UID:10875-1739386800-1739392200@www.triarte.net
SUMMARY:19:00 h. Concierto de Música de Cámara y Clarinete. Alumnos de Dolores Navas
DESCRIPTION:Dentro de las actividades programadas por TRIARTE\, está el realizar conciertos con los alumnos para mejorar su formación musical. El Miércoles 12 de febrero a las 19:00 h los alumnos de Música de Cámara y Clarinete de nuestra profesora Dolores Navas nos ofrecerán un concierto. \n🎟 Entrada será libre hasta completar el aforo de nuestra sala de conciertos \nPROGRAMA\nFernando Fernández Escalera | clarinete \nConcierto n° 8\, C. Stamitz\nFive Bagatelles\, G. Finzi \nAlba Rodríguez Jiménez | clarinete\nConcertino\, C. M. von Weber \nEma-Yitong Xu | clarinete\nConcierto n° 1\, C. M. von Weber \nAngelo Alesi Jiménez | guitarra\nFernando Fernández Escalera | clarinete\nSerenade\, H. Neumann \nCarlos González Martos | violín\nRaquel López Espínola | piano\nSicilienne\, G. Fauré \nMario Fernández Gil | flauta\nEma-Yitong Xu | piano\nHamburguer Sonate Allegretto\, C. P. E. Bach\n1° Movimiento \nDolores Navas Valverde | clarinete\nRodrigo Ávila Perales | piano\nAria\, E. Bozza \nAlba Rodríguez Jiménez | clarinete\nEma-Yitong Xu | clarinete\nGrand dúo concertante\, C. M. von Weber
URL:https://www.triarte.net/evento/1900-h-concierto-de-musica-de-camara-y-clarinete-alumnos-de-dolores-navas/
LOCATION:Sala de Conciertos de Triarte\, Calle Corregidor Antonio de Bobadilla\, 16\, Málaga\, 29006\, España
CATEGORIES:Concierto
ATTACH;FMTTYPE=image/jpeg:https://www.triarte.net/wp-content/uploads/2025/02/web-12-02-CONCIERTO-DE-CLARINETE-Y-CAMARA.jpg
ORGANIZER;CN="TRIARTE Centro de Estudios Art%C3%ADsticos":MAILTO:informacion@triarte.net
END:VEVENT
END:VCALENDAR