BEGIN:VCALENDAR
VERSION:2.0
PRODID:-//Triarte - Centro de estudios art&iacute;sticos - Conservatorio y escuela de m&uacute;sica, danza y teatro. - ECPv6.15.18//NONSGML v1.0//EN
CALSCALE:GREGORIAN
METHOD:PUBLISH
X-ORIGINAL-URL:https://www.triarte.net
X-WR-CALDESC:Eventos para Triarte - Centro de estudios art&iacute;sticos - Conservatorio y escuela de m&uacute;sica, danza y teatro.
REFRESH-INTERVAL;VALUE=DURATION:PT1H
X-Robots-Tag:noindex
X-PUBLISHED-TTL:PT1H
BEGIN:VTIMEZONE
TZID:Europe/Madrid
BEGIN:DAYLIGHT
TZOFFSETFROM:+0100
TZOFFSETTO:+0200
TZNAME:CEST
DTSTART:20230326T010000
END:DAYLIGHT
BEGIN:STANDARD
TZOFFSETFROM:+0200
TZOFFSETTO:+0100
TZNAME:CET
DTSTART:20231029T010000
END:STANDARD
BEGIN:DAYLIGHT
TZOFFSETFROM:+0100
TZOFFSETTO:+0200
TZNAME:CEST
DTSTART:20240331T010000
END:DAYLIGHT
BEGIN:STANDARD
TZOFFSETFROM:+0200
TZOFFSETTO:+0100
TZNAME:CET
DTSTART:20241027T010000
END:STANDARD
BEGIN:DAYLIGHT
TZOFFSETFROM:+0100
TZOFFSETTO:+0200
TZNAME:CEST
DTSTART:20250330T010000
END:DAYLIGHT
BEGIN:STANDARD
TZOFFSETFROM:+0200
TZOFFSETTO:+0100
TZNAME:CET
DTSTART:20251026T010000
END:STANDARD
END:VTIMEZONE
BEGIN:VEVENT
DTSTART;TZID=Europe/Madrid:20241219T170000
DTEND;TZID=Europe/Madrid:20241219T180000
DTSTAMP:20260422T154219
CREATED:20241129T194132Z
LAST-MODIFIED:20241217T164320Z
UID:10577-1734627600-1734631200@www.triarte.net
SUMMARY:17:00 h | Concierto de Saxofón. Alumnos de Adrián Ruiz
DESCRIPTION:Como es tradición\, al final del primer trimestre nuestros alumnos participan en el Concierto de Navidad? para mejorar su formación. \nEl jueves 19 de diciembre a las 17:00 h los alumnos de Saxofón de nuestro profesor Adrián Ruiz nos ofrecerán el siguiente concierto. \nLa entrada será libre hasta completar el aforo de nuestra sala de conciertos. \nPrograma\nCarlos Jiménez Sánchez\nOld MacDonald Boogie\, Tradicional\nJingle Bells\, Tradicional\nWhen the saints go marching in\, Tradicional \nDiego Jolion Coronado\nAria\, De Haske \nCarlos Bolín Moreno\nHimno de la Alegría\, L. van Beethoven \nVerónica Casero Hidalgo\nDúo: Archaïsme III\, J.D. Michat \nEmilio-Ziyi Xu\nNostalgie\, J. Ed. Barat \nElba María Varela Miguel\nDúo: Sonate en UT\, J. M. Leclair
URL:https://www.triarte.net/evento/1700-h-concierto-de-saxofon-alumnos-de-adrian-ruiz-2/
LOCATION:Sala de Conciertos de Triarte\, Calle Corregidor Antonio de Bobadilla\, 16\, Málaga\, 29006\, España
CATEGORIES:Concierto
ATTACH;FMTTYPE=image/png:https://www.triarte.net/wp-content/uploads/2024/11/web-19-12-CONCIERTO-DE-SAXOFON.png
END:VEVENT
BEGIN:VEVENT
DTSTART;TZID=Europe/Madrid:20241219T183000
DTEND;TZID=Europe/Madrid:20241219T200000
DTSTAMP:20260422T154219
CREATED:20241216T181436Z
LAST-MODIFIED:20241217T193915Z
UID:10638-1734633000-1734638400@www.triarte.net
SUMMARY:18:30 h | Concierto de Navidad. Alumnos de Cuerda y Orquesta Juvenil
DESCRIPTION:Como es tradición\, al final del primer trimestre nuestros alumnos participan en el Concierto de Navidad? para mejorar su formación. \nEl Jueves 19 de Diciembre a las 18:30 h los alumnos de Cuerda y Orquesta Juvenil nos ofrecerán el siguiente concierto. \nLa entrada será libre hasta completar el aforo de nuestra sala de conciertos. \nPrograma\nLola Jiménez Fructuoso | violín\nJingle Bells\, villancico popular \nRodrigo Núñez Peregrín | viola\nGiga\, Joan Alfaras \nAntonio Javier González Cuenca | violonchelo\nIn Flight\, K&D Blackwell \nPaola Cano Baquero | violín\nMary had a baby\, tradicional americana \nGonzalo López Hijosa | violín\nWe wish you a Merry Christmas\, villancico popular \nJulia López Hijosa | violonchelo\nCity Lights\, K&D Blackwell \nVictoria Ponce Rizo | violín\nThe first Nowell\, tradicional inglesa \nDaniel García de la Nava Triviño | violín\nJingle Bells\, J. Pierpont \nGuillermo Pardo Elvira | violonchelo\nRigadoon\, H. Purcell \nLara Pérez-Muñoz Balan | violín\nDeck the hall\, villancico popular \nJosé Domingo Salinas Soria | violín\nAnde\, Ande\, Ande\, villancico popular \nMirto Jiménez Rodríguez | violonchelo\n(Acompañado por Ana Molina)\nMinuet nº 1\, J. S. Bach \nNora Gordo García | violín\nArre\, burro arre\, villancico popular \nÁlvaro Bolaños Serrano | violín\nCampana sobre campana\, villancico popular \nMelanie Clattenburg | violín\nGavotte\, P. Martini \nElliot Clattenburg | violonchelo\nMelanie Clattenburg | violín\nWe wish you a Merry Christmas\, villancico popular \nElliot Clattenburg | violonchelo\nGavotte\, J. B. Lully \nHugo Macías Vallejo | violonchelo\n(Acompañado por Ana Molina)\nSonata Op. 26 nº 5\, J. B. Boismortier\nAllegro \nLeticia Fructuoso Solano | violín\nHallelujah\, Leonardo Cohen \nOrquesta Juvenil\nViolines\nAna Díaz Ramírez\nHugo Chaneta Chinchilla\nViolas\nManuel de los Santos Vázquez\nMaría Briones Barreiro\nSaxofón\nEmilio-Ziyi Xu\nViolonchelo\nHugo Macías Vallejo \nMoon River\, Henry Mancini\nMy Way\, Frank Sinatra\nWe wish You a Merry Christmas\, villancico popular \nGrupal Alumnos\nSilent Night\, Villancico popular \nGrupal Profesoras\nRin\, Rin\, Villancico popular \n\nPianista acompañante: Carmen Vidal
URL:https://www.triarte.net/evento/1830-h-concierto-de-navidad-alumnos-de-orquesta-juvenil-cuerda-y-viento/
LOCATION:Sala de Conciertos de Triarte\, Calle Corregidor Antonio de Bobadilla\, 16\, Málaga\, 29006\, España
CATEGORIES:Concierto
ATTACH;FMTTYPE=image/png:https://www.triarte.net/wp-content/uploads/2024/12/web-19-12-CONCIERTO-ORQUESTA-JUVENIL-Y-MAS-1.png
END:VEVENT
END:VCALENDAR