BEGIN:VCALENDAR
VERSION:2.0
PRODID:-//Triarte - Centro de estudios art&iacute;sticos - Conservatorio y escuela de m&uacute;sica, danza y teatro. - ECPv6.15.18//NONSGML v1.0//EN
CALSCALE:GREGORIAN
METHOD:PUBLISH
X-WR-CALNAME:Triarte - Centro de estudios art&iacute;sticos - Conservatorio y escuela de m&uacute;sica, danza y teatro.
X-ORIGINAL-URL:https://www.triarte.net
X-WR-CALDESC:Eventos para Triarte - Centro de estudios art&iacute;sticos - Conservatorio y escuela de m&uacute;sica, danza y teatro.
REFRESH-INTERVAL;VALUE=DURATION:PT1H
X-Robots-Tag:noindex
X-PUBLISHED-TTL:PT1H
BEGIN:VTIMEZONE
TZID:Europe/Madrid
BEGIN:DAYLIGHT
TZOFFSETFROM:+0100
TZOFFSETTO:+0200
TZNAME:CEST
DTSTART:20230326T010000
END:DAYLIGHT
BEGIN:STANDARD
TZOFFSETFROM:+0200
TZOFFSETTO:+0100
TZNAME:CET
DTSTART:20231029T010000
END:STANDARD
BEGIN:DAYLIGHT
TZOFFSETFROM:+0100
TZOFFSETTO:+0200
TZNAME:CEST
DTSTART:20240331T010000
END:DAYLIGHT
BEGIN:STANDARD
TZOFFSETFROM:+0200
TZOFFSETTO:+0100
TZNAME:CET
DTSTART:20241027T010000
END:STANDARD
BEGIN:DAYLIGHT
TZOFFSETFROM:+0100
TZOFFSETTO:+0200
TZNAME:CEST
DTSTART:20250330T010000
END:DAYLIGHT
BEGIN:STANDARD
TZOFFSETFROM:+0200
TZOFFSETTO:+0100
TZNAME:CET
DTSTART:20251026T010000
END:STANDARD
END:VTIMEZONE
BEGIN:VEVENT
DTSTART;TZID=Europe/Madrid:20241216T173000
DTEND;TZID=Europe/Madrid:20241216T183000
DTSTAMP:20260422T153854
CREATED:20241128T173808Z
LAST-MODIFIED:20241212T203620Z
UID:10543-1734370200-1734373800@www.triarte.net
SUMMARY:17:30 h | Concierto de Piano. Alumnos de Román Muñoz\, Lucía Muñoz y Natalia Sakala
DESCRIPTION:Como es tradición\, al final del primer trimestre nuestros alumnos participan en el Concierto de Navidad? para mejorar su formación. \nEl lunes 16 de diciembre a las 17:30 h los alumnos de Piano de nuestros profesores Román Muñoz\, Lucía Muñoz y Natalia Sakala nos ofrecerán el siguiente concierto. \nLa entrada será libre hasta completar el aforo de nuestra sala de conciertos. \nPrograma\nMarina Salmerón Rueda\nEstudio 28\, J. Díaz \nEstudio 29\, J. Díaz\n\n\nBelinda Zhou\nEstudio op. 599 nº 19\, C. Czerny\nEstudio op. 599 nº 31\, C. Czerny\n\n\nLara Rodríguez Moreno\nEl artista\, S. Joplin\nEl abeto\, villancico popular alemán \n\n\nLaura María Palomo Sánchez\nLa trompeta llama\, J. Bastien\nFantasmas\, J. Bastien\n\n\nXiaxuan Song\nThe wild Horseman\, R. Schumann\n\n\nPaloma Bueno Sanjuan\nAl compás del swing\, J. Bastien\n\n\nPaula Silva Jaimes\nArabescos\, J. F. F. Burgmüller \n\nSofía Ponce Rizo\nInocencia\, J. F. F. Burgmüller \n\n\nMaría Sierra Prieto\nPequeño preludio n° 8\, J. S. Bach\n\nYixi-Luna Lin \nEstudio op. 100 n° 1\, H. Bertini\n\n\nRemedios Castillo Zamora \nRodolfo el Reno\, Arr. Offelia Rac
URL:https://www.triarte.net/evento/1730-h-concierto-de-piano-alumnos-de-roman-munoz-y-lucia-munoz-triartenavidad2024/
LOCATION:Sala de Conciertos de Triarte\, Calle Corregidor Antonio de Bobadilla\, 16\, Málaga\, 29006\, España
CATEGORIES:Concierto
ATTACH;FMTTYPE=image/png:https://www.triarte.net/wp-content/uploads/2024/11/WEB-16-12-CONCIERTO-DE-PIANO-ROMAN-Y-LUCIA-1.png
END:VEVENT
BEGIN:VEVENT
DTSTART;TZID=Europe/Madrid:20241216T193000
DTEND;TZID=Europe/Madrid:20241216T203000
DTSTAMP:20260422T153854
CREATED:20241128T174709Z
LAST-MODIFIED:20241212T203840Z
UID:10547-1734377400-1734381000@www.triarte.net
SUMMARY:19:30 h | Concierto de Piano. Alumnos de Siliana Zdravkova
DESCRIPTION:Como es tradición\, al final del primer trimestre nuestros alumnos participan en el Concierto de Navidad? para mejorar su formación. \nEl lunes 16 de diciembre a las 19:30 h los alumnos de Piano de nuestros profesores Siliana Zdravkova nos ofrecerán el siguiente concierto. \nLa entrada será libre hasta completar el aforo de nuestra sala de conciertos. \nPrograma\nSalvador Revidiego Reina\nMi cordero\, J. Bastien \nMarina Palma Conde\nEstrellita\nLos peces en el río\, villancico \nDominica Kireyeva\nEl gatito \nEstudio en Do M\, Escuela rusa de piano \nSofía Cruz Carrasco\nCanción Popular Francesa \nAlejandro Mayorga Villena\nEstudio en Do M\, Escuela rusa de piano \nSelina Melwani Nanwani\nEstudio en Do M\, A. Nikolaev \nJimena Jiménez González\nAlegres cascabeles\, popular \nRafael Luque Ruiz de Mier\nAntigua canción francesa\, P. I. Tchaikovsky \nManuel Francisco Morata Ordoñez\nMazurca\, A. Grechanínov \nAna Ruiz González\nEstudio en Do M\, A. Nikolaev \nLuca Jesús Morales Trigo\nBalada\, J. F. F. Burgmüller \nMarco Antonio Morales Trigo\nAdiós\, J. F. F. Burgmüller \nNoa Fernández Gil\nMazurka\, nº 47\, F. Chopin \nNoa López Soriano\nSan Nicolás\, R. Schumann \nSara Melwani Nanwani\nSonata nº 10\, J. Haydn\nMov. I: Allegro \nJosé Antonio Delgado Olmo\nEstudio Op. 299 nº 3\, C. Czerny \nÁngel Luis Fernández Mansilla\nSonatina Op. 55 nº 1\, F. Kuhlau \nDavid Mora Ortega\nEstudio Op. 740 nº 1\, C. Czerny\nFum\, Fum\, Fum\, villancico popular \nFernando Fernández Escalera\nEstudio Op. 740 nº 17\, C. Czerny \nElisa Fernández Rodríguez\nEstudio Op. 32 nº 8\, A. Jensen \nNoelia Gómez Marín\nThe rivers flow in you\, Yiruma\nCampana sobre campana\, villancico popular \nIrene Ambrosio Luque\nCórdoba\, I. Albéniz \nJulia Carrero de Luis\nArabesca nº 1\, C. Debussy \nIsabel Ambrosio Luque\nSonata Op. 31 nº 2 «La Tempestad»\, L. van Beethoven\nMov. III: Allegretto \nÁngel Pavón Muñoz\, violín\nVals\, D. Shostakovich
URL:https://www.triarte.net/evento/1930-h-concierto-de-piano-alumnos-de-silianazdravkova-triartenavidad2024/
LOCATION:Sala de Conciertos de Triarte\, Calle Corregidor Antonio de Bobadilla\, 16\, Málaga\, 29006\, España
CATEGORIES:Concierto
ATTACH;FMTTYPE=image/png:https://www.triarte.net/wp-content/uploads/2024/11/WEB-16-12-CONCIERTO-DE-PIANO-SILIANA.png
END:VEVENT
END:VCALENDAR