BEGIN:VCALENDAR
VERSION:2.0
PRODID:-//Triarte - Centro de estudios art&iacute;sticos - Conservatorio y escuela de m&uacute;sica, danza y teatro. - ECPv6.15.18//NONSGML v1.0//EN
CALSCALE:GREGORIAN
METHOD:PUBLISH
X-ORIGINAL-URL:https://www.triarte.net
X-WR-CALDESC:Eventos para Triarte - Centro de estudios art&iacute;sticos - Conservatorio y escuela de m&uacute;sica, danza y teatro.
REFRESH-INTERVAL;VALUE=DURATION:PT1H
X-Robots-Tag:noindex
X-PUBLISHED-TTL:PT1H
BEGIN:VTIMEZONE
TZID:Europe/Madrid
BEGIN:DAYLIGHT
TZOFFSETFROM:+0100
TZOFFSETTO:+0200
TZNAME:CEST
DTSTART:20230326T010000
END:DAYLIGHT
BEGIN:STANDARD
TZOFFSETFROM:+0200
TZOFFSETTO:+0100
TZNAME:CET
DTSTART:20231029T010000
END:STANDARD
BEGIN:DAYLIGHT
TZOFFSETFROM:+0100
TZOFFSETTO:+0200
TZNAME:CEST
DTSTART:20240331T010000
END:DAYLIGHT
BEGIN:STANDARD
TZOFFSETFROM:+0200
TZOFFSETTO:+0100
TZNAME:CET
DTSTART:20241027T010000
END:STANDARD
BEGIN:DAYLIGHT
TZOFFSETFROM:+0100
TZOFFSETTO:+0200
TZNAME:CEST
DTSTART:20250330T010000
END:DAYLIGHT
BEGIN:STANDARD
TZOFFSETFROM:+0200
TZOFFSETTO:+0100
TZNAME:CET
DTSTART:20251026T010000
END:STANDARD
END:VTIMEZONE
BEGIN:VEVENT
DTSTART;TZID=Europe/Madrid:20241212T193000
DTEND;TZID=Europe/Madrid:20241212T203000
DTSTAMP:20260422T154203
CREATED:20241128T163020Z
LAST-MODIFIED:20241211T165437Z
UID:10530-1734031800-1734035400@www.triarte.net
SUMMARY:19:30 h | Concierto de Guitarra. Alumnos de Pedro Reina
DESCRIPTION:Como es tradición\, al final del primer trimestre nuestros alumnos participan en el Concierto de Navidad? para mejorar su formación. \nEl jueves 12 de diciembre a las 19:30 h. los alumnos de Guitarra de nuestro profesor Pedro Reina nos ofrecerán el siguiente concierto. \nLa entrada será libre hasta completar el aforo de nuestra sala de conciertos. \nPrograma\nDavid Ramón Aranda Durán\nLa gallina (dúo)\, J. A. Muro\nLa cajita de música (dúo)\, J. A. Muro \nMiguel Alcalde Morillas\nEl cucú (dúo)\, J. A. Muro\nCampanitas (dúo)\, villancico francés \nVíctor Gordo García\nCoral (dúo)\, J. A. Muro\nDesfile de trompetas (dúo)\, J. A. Muro\nGood King Wenceslao\, villancico S. XIII \nClaudia Rico Jiménez\nEstudio de arpegio\, L. Sanz\nCampana sobre campana (dúo)\, villancico andaluz \nEsther Rodríguez Morón\nEl árbol (dúo)\, P. Reina\nRima (dúo)\, J. A. Muro \nJosé Luis Pérez-Cervantes Galisteo\nVals de primavera\, J. A. Muro\nDo\, Re\, Mi\, R. Rogers \nIrene Machota Monje\nLa muñeca de trapo (dúo)\, J. A. Muro\nEl flautista (dúo)\, J. A. Muro\nCanción de juego\, J. A. Muro\nOda a la alegría\, L. V. Beethoven \nCarla Rodríguez Liñán\nNoche de paz (dúo)\, F. Gruber\nCrepúsculo\, J. A. Muro \nVíctor Pico Molins\nDivertimento\, A. Cano\nAsturias (fragmento)\, I. Albéniz\nMalagueña\, popular\nJingles Bells\, J. Pierpont \nElena Pardo Elvira\nBranle de poitou\, A. Le Roy\nVals en Mi menor\, B. Calatayud \nRocío Vega Carmona\nAndantino\, M. Carcassi\nLección 7 Op. 60\, F. Sor \nÁngel Aguilera Casado\nVals Op. 241 no. 1\, F. Carulli\nLyrical Study 14\, R. Miles Jackman \nJimena González Gaspar\nRegentropfen (Gotas de lluvia)\, B. Szordikowski\nClassical Mood\, B. Szordikowski\nAdeste fideles\, J. Riding
URL:https://www.triarte.net/evento/1930-h-concierto-de-guitarra-alumnos-de-pedro-reina-navidadtriarte24/
LOCATION:Sala de Conciertos de Triarte\, Calle Corregidor Antonio de Bobadilla\, 16\, Málaga\, 29006\, España
CATEGORIES:Concierto
ATTACH;FMTTYPE=image/png:https://www.triarte.net/wp-content/uploads/2024/11/web-12-12-CONCIERTO-DE-GUITARRA.png
END:VEVENT
END:VCALENDAR