BEGIN:VCALENDAR
VERSION:2.0
PRODID:-//Triarte - Centro de estudios art&iacute;sticos - Conservatorio y escuela de m&uacute;sica, danza y teatro. - ECPv6.15.18//NONSGML v1.0//EN
CALSCALE:GREGORIAN
METHOD:PUBLISH
X-WR-CALNAME:Triarte - Centro de estudios art&iacute;sticos - Conservatorio y escuela de m&uacute;sica, danza y teatro.
X-ORIGINAL-URL:https://www.triarte.net
X-WR-CALDESC:Eventos para Triarte - Centro de estudios art&iacute;sticos - Conservatorio y escuela de m&uacute;sica, danza y teatro.
REFRESH-INTERVAL;VALUE=DURATION:PT1H
X-Robots-Tag:noindex
X-PUBLISHED-TTL:PT1H
BEGIN:VTIMEZONE
TZID:Europe/Madrid
BEGIN:DAYLIGHT
TZOFFSETFROM:+0100
TZOFFSETTO:+0200
TZNAME:CEST
DTSTART:20230326T010000
END:DAYLIGHT
BEGIN:STANDARD
TZOFFSETFROM:+0200
TZOFFSETTO:+0100
TZNAME:CET
DTSTART:20231029T010000
END:STANDARD
BEGIN:DAYLIGHT
TZOFFSETFROM:+0100
TZOFFSETTO:+0200
TZNAME:CEST
DTSTART:20240331T010000
END:DAYLIGHT
BEGIN:STANDARD
TZOFFSETFROM:+0200
TZOFFSETTO:+0100
TZNAME:CET
DTSTART:20241027T010000
END:STANDARD
BEGIN:DAYLIGHT
TZOFFSETFROM:+0100
TZOFFSETTO:+0200
TZNAME:CEST
DTSTART:20250330T010000
END:DAYLIGHT
BEGIN:STANDARD
TZOFFSETFROM:+0200
TZOFFSETTO:+0100
TZNAME:CET
DTSTART:20251026T010000
END:STANDARD
END:VTIMEZONE
BEGIN:VEVENT
DTSTART;TZID=Europe/Madrid:20241211T170000
DTEND;TZID=Europe/Madrid:20241211T183000
DTSTAMP:20260422T153913
CREATED:20241128T160407Z
LAST-MODIFIED:20241210T185406Z
UID:10523-1733936400-1733941800@www.triarte.net
SUMMARY:17:00 h | Concierto de Piano y Música de Cámara. Alumnos de Carmen Vidal\, Aurora Pérez y Maribel Sánchez de Alcázar
DESCRIPTION:Como es tradición\, al final del primer trimestre nuestros alumnos participan en el Concierto de Navidad? para mejorar su formación. \nEl miércoles 11 de Diciembre a las 17:00 h. los alumnos de Piano y Música de Cámara de nuestras profesoras Carmen Vidal\, Aurora Pérez y Maribel Sánchez de Alcázar nos ofrecerán el siguiente concierto. \nLa entrada será libre hasta completar el aforo de nuestra sala de conciertos. \nPrograma\nAlba Rodríguez Jiménez\nAlba Martínez Martínez\nRomantic pieces Op. 75\, A. Dvorak \nJulia Naranjo Guerrero\nEstrellita dónde estás\, J. Bastien \nDarío Naranjo Guerrero\nLos árboles de Navidad\, J. Bastien \nJuan Alberto Tortosa Cuesta\nLlega la Navidad\, J. Bastien \nMartina Flores Broncano\nJingle Bells\, J. Bastien \nDarío De la Vega Rebollo\nLos árboles de Navidad\, J. Bastien\nFeliz Navidad\, H. Pouillard \nAdriana Vivas García\nAll I Want for Christmas Is You\, A. Walter \nYaiza Nadín Lázaro Cano\nLlega la Navidad\, J. Bastien\nEl muñeco de nieve\, J. Bastien\nAlegre San Nicolás\, J. Bastien \nMario Rodríguez Perles\nNoche de paz\, villancico popular \nInés Parra Pérez\nAll I want for Christmas is You\, A. Walter\nPreludio matinal\, J. Bastien \nMarta Corrales López-Quiñones\nJingle Bell Rock\, J. Carleton Beal \nLeo Martín Jurado\nVals\, Hervé y Pouillard\nJingle Bells\, J. Bastien \nPablo Martín Jurado\nGavota\, J. Bastien\nAnde\, ande\, ande\, villancico popular \nRocío Flores Silva\nArabesque\, J. F. F. Burgmúller\nJingle Bell Rock\, J. Carleton Beal \nHao Zheng\nSonatina Op. 36 n° 3 \, Clementi \nAna Del Río Castro\nCorriente cristalina\, J. F. F. Burgmúller\nRunning’ up that hill\, Kate Bush \nCarmen Garrido Montes\nSonata KV 540 (movimiento 1)\, W. A. Mozart \nRafael Delgado Olmo\nSacromonte\, J. Turina \nLara del Carmen Salinas Soria\nAll I want for Christmas is You\, A. Walter \nHéctor Caballero Romero\nSonata en Re M\, M. Albéniz\nDrowning Love\, Chasing Kou
URL:https://www.triarte.net/evento/1700-h-concierto-de-piano-alumnos-de-carmen-vidal-y-aurora-perez/
LOCATION:Sala de Conciertos de Triarte\, Calle Corregidor Antonio de Bobadilla\, 16\, Málaga\, 29006\, España
CATEGORIES:Concierto
ATTACH;FMTTYPE=image/png:https://www.triarte.net/wp-content/uploads/2024/11/web-11-12-CONCIERTO-DE-PIANO-Y-MUSICA-DE-CAMARA-3.png
END:VEVENT
BEGIN:VEVENT
DTSTART;TZID=Europe/Madrid:20241211T193000
DTEND;TZID=Europe/Madrid:20241211T203000
DTSTAMP:20260422T153913
CREATED:20241128T161311Z
LAST-MODIFIED:20250506T152050Z
UID:10527-1733945400-1733949000@www.triarte.net
SUMMARY:19:30 h | Concierto de Piano. Alumnos de Natalia Sakala y Maribel Sánchez de Alcázar
DESCRIPTION:Como es tradición\, al final del primer trimestre nuestros alumnos participan en el Concierto de Navidad? para mejorar su formación. \nEl miércoles 11 de Diciembre a las 19:30 h. los alumnos de Piano de nuestras profesoras Natalia Sakala y Maribel Sánchez de Alcázar nos ofrecerán el siguiente concierto. \nLa entrada será libre hasta completar el aforo de nuestra sala de conciertos. \nPrograma\nYanxin Jin\nYanhong-Leo Jin\nNavidad\, villancico popular \nEmma García Rincón\nMarta Alcoholado Muriel\nPor una cabeza\, C. Gardel \nÁngela Rodríguez Reyes \nMi gatito\, J. Bastien\nEl reloj\, J. Bastien \nAinhoa Rodríguez Reyes \nEl desfile\, Ch.Hervé \nCanto ruso\, Ch. Hervé \nYanxin Jin\nAdiós\, A.Tchokov \nYanhong-Leo Jin\nLindo mes de mayo\, canción popular \nAbel Salido López\n¿Me quieres?\, J. Bastien\nEl burro cantor\, J. Bastien \nPaloma García García\nAntonio García García\nCampanita\, W. A. Mozart\nCascabel\, villancico popular \nGonzalo Paz Mena\nBurlesca\, Z. Nömar\nAladdin\, A. Menken \nRafael Delgado Olmo\nIsmael Andrés Domínguez González\nLa mañana\, E. Grieg \nSusanna Mª Domínguez González\n¡Canta\, pájaro\, canta!\, J. Bastien\n¡Fantasmas!\, J. Bastien \nDiego Rubén Domínguez González\nOda a la alegría\, L. van Beethoven\nLa marcha de los santos\, negro espiritual \nVera González Hernández\nTema de Sonata\, W. A. Mozart\nNoche de paz\, F. Gruber \nAdriana Fonollá González\nHarry Potter\, J. Williams\nAnde\, ande\, ande\, villancico popular \nJavier Vargas Sánchez de Alcázar\nVals Op. 12 nº 2\, E. Grieg \nPablo García de La Nava Triviño\nSan Nicolás Op. 68 nº 12\, R. Schumann \nClaudia Pardo Elvira\nHavana\, C. Cabello\nDime\, Niño\, ¿De quién eres?\, villancico popular \nXun Xuan-Susana Gao\nEstudio Op. 29 nº 11\, H. Bertini\nCampana sobre campana\, villancico popular \nRafael Reguera Domínguez\nNocturno Op. 9 nº 1\, F. Chopin \nMª José Barba León | violonchelo\nFernando Fernández Escalera\nAve María\, Ch. Gounod- J. S. Bach
URL:https://www.triarte.net/evento/1930-h-concierto-de-piano-alumnos-de-natalia-sakala-navidadtriarte2024/
LOCATION:Sala de Conciertos de Triarte\, Calle Corregidor Antonio de Bobadilla\, 16\, Málaga\, 29006\, España
CATEGORIES:Concierto
ATTACH;FMTTYPE=image/png:https://www.triarte.net/wp-content/uploads/2024/11/WEB-11-12-CONCIERTO-DE-PIANO-NATALIA-1.png
ORGANIZER;CN="TRIARTE Centro de Estudios Art%C3%ADsticos":MAILTO:informacion@triarte.net
END:VEVENT
END:VCALENDAR