BEGIN:VCALENDAR
VERSION:2.0
PRODID:-//Triarte - Centro de estudios art&iacute;sticos - Conservatorio y escuela de m&uacute;sica, danza y teatro. - ECPv6.15.18//NONSGML v1.0//EN
CALSCALE:GREGORIAN
METHOD:PUBLISH
X-WR-CALNAME:Triarte - Centro de estudios art&iacute;sticos - Conservatorio y escuela de m&uacute;sica, danza y teatro.
X-ORIGINAL-URL:https://www.triarte.net
X-WR-CALDESC:Eventos para Triarte - Centro de estudios art&iacute;sticos - Conservatorio y escuela de m&uacute;sica, danza y teatro.
REFRESH-INTERVAL;VALUE=DURATION:PT1H
X-Robots-Tag:noindex
X-PUBLISHED-TTL:PT1H
BEGIN:VTIMEZONE
TZID:Europe/Madrid
BEGIN:DAYLIGHT
TZOFFSETFROM:+0100
TZOFFSETTO:+0200
TZNAME:CEST
DTSTART:20230326T010000
END:DAYLIGHT
BEGIN:STANDARD
TZOFFSETFROM:+0200
TZOFFSETTO:+0100
TZNAME:CET
DTSTART:20231029T010000
END:STANDARD
BEGIN:DAYLIGHT
TZOFFSETFROM:+0100
TZOFFSETTO:+0200
TZNAME:CEST
DTSTART:20240331T010000
END:DAYLIGHT
BEGIN:STANDARD
TZOFFSETFROM:+0200
TZOFFSETTO:+0100
TZNAME:CET
DTSTART:20241027T010000
END:STANDARD
BEGIN:DAYLIGHT
TZOFFSETFROM:+0100
TZOFFSETTO:+0200
TZNAME:CEST
DTSTART:20250330T010000
END:DAYLIGHT
BEGIN:STANDARD
TZOFFSETFROM:+0200
TZOFFSETTO:+0100
TZNAME:CET
DTSTART:20251026T010000
END:STANDARD
END:VTIMEZONE
BEGIN:VEVENT
DTSTART;TZID=Europe/Madrid:20240628T183000
DTEND;TZID=Europe/Madrid:20240628T200000
DTSTAMP:20260422T170554
CREATED:20240627T155104Z
LAST-MODIFIED:20240627T183003Z
UID:10266-1719599400-1719604800@www.triarte.net
SUMMARY:18:30 h | Concierto de Guitarra. Alumnos de Pedro Reina
DESCRIPTION:Dentro de las actividades programadas por TRIARTE para el Final de Curso 23/24\, está la de realizar conciertos para mejorar la formación de nuestros alumnos. \n? El viernes 28 de junio a las 18:30 h los alumnos de Guitarra de nuestra profesora Pedro Reina nos ofrecerán un concierto. \n? La entrada será libre hasta completar el aforo de nuestra sala de conciertos. \nPrograma\nJosé Luis Pérez-Cervantes Galisteo\nNubes (dúo)\, J. A. Muro\nMerienda en el campo (dúo)\, J. A. Muro \nErik Rodríguez Gómez\nLa cajita de música (dúo)\, J. A. Muro\nEl cucú (dúo)\, J. A. Muro \nIrene Machota Monje\nVals de primavera (dúo)\, J. A. Muro\nOda a la alegría (dúo)\, L. V. Beethoven\nCrepúsculo\, J. A. Muro \nCarlos Cortés Benítez\nCuento antiguo\, J. A. Muro\nPequeña marcha\, J. A. Muro \nVíctor Pico Molins\nEl vagabundo feliz\, J. A. Muro\nEstudio abierto\, L. Sanz\nEstudio de arpegio\, L. Sanz\nMalagueña\, Popular \nClaudia Rico Jiménez\nEl campanero\, J. A. Muro\nLa primavera\, J. A. Muro\nEl gitanillo\, J. A. Muro \nRocío Vega Carmona\nDivertimento\, A. cano\nVals\, D. Aguado\nAndantino\, M. Carcassi \nElena Pardo Elvira\nAsturias (fragmento)\, I. Álbeniz\nVals\, B. Calatayud
URL:https://www.triarte.net/evento/1830-h-concierto-de-guitarra-alumnos-de-pedro-reina/
LOCATION:Sala de Conciertos de Triarte\, Calle Corregidor Antonio de Bobadilla\, 16\, Málaga\, 29006\, España
CATEGORIES:Concierto
ATTACH;FMTTYPE=image/jpeg:https://www.triarte.net/wp-content/uploads/2024/06/web-28-06-CONCIERTO-DE-GUITARRA.jpg
END:VEVENT
END:VCALENDAR