BEGIN:VCALENDAR
VERSION:2.0
PRODID:-//Triarte - Centro de estudios art&iacute;sticos - Conservatorio y escuela de m&uacute;sica, danza y teatro. - ECPv6.15.18//NONSGML v1.0//EN
CALSCALE:GREGORIAN
METHOD:PUBLISH
X-ORIGINAL-URL:https://www.triarte.net
X-WR-CALDESC:Eventos para Triarte - Centro de estudios art&iacute;sticos - Conservatorio y escuela de m&uacute;sica, danza y teatro.
REFRESH-INTERVAL;VALUE=DURATION:PT1H
X-Robots-Tag:noindex
X-PUBLISHED-TTL:PT1H
BEGIN:VTIMEZONE
TZID:Europe/Madrid
BEGIN:DAYLIGHT
TZOFFSETFROM:+0100
TZOFFSETTO:+0200
TZNAME:CEST
DTSTART:20230326T010000
END:DAYLIGHT
BEGIN:STANDARD
TZOFFSETFROM:+0200
TZOFFSETTO:+0100
TZNAME:CET
DTSTART:20231029T010000
END:STANDARD
BEGIN:DAYLIGHT
TZOFFSETFROM:+0100
TZOFFSETTO:+0200
TZNAME:CEST
DTSTART:20240331T010000
END:DAYLIGHT
BEGIN:STANDARD
TZOFFSETFROM:+0200
TZOFFSETTO:+0100
TZNAME:CET
DTSTART:20241027T010000
END:STANDARD
BEGIN:DAYLIGHT
TZOFFSETFROM:+0100
TZOFFSETTO:+0200
TZNAME:CEST
DTSTART:20250330T010000
END:DAYLIGHT
BEGIN:STANDARD
TZOFFSETFROM:+0200
TZOFFSETTO:+0100
TZNAME:CET
DTSTART:20251026T010000
END:STANDARD
END:VTIMEZONE
BEGIN:VEVENT
DTSTART;TZID=Europe/Madrid:20240627T170000
DTEND;TZID=Europe/Madrid:20240627T180000
DTSTAMP:20260422T170745
CREATED:20240626T155436Z
LAST-MODIFIED:20240626T190714Z
UID:10255-1719507600-1719511200@www.triarte.net
SUMMARY:17:00 h | Concierto de Canto. Alumnos de Ruth García
DESCRIPTION:Dentro de las actividades programadas por TRIARTE para el Final de Curso 23/24\, está la de realizar conciertos para mejorar la formación de nuestros alumnos. \n? El Jueves 27 de junio a las 17:00 h los alumnos de Canto de nuestra profesora Ruth García nos ofrecerán un concierto. \n? La entrada será libre hasta completar el aforo de nuestra sala de conciertos. \nPrograma\nAbril Urquízar García\nEl Zoológico\, Miguel A. Pérez Ureña \nValentina Maldonado Romero\nLa Llorona\, Canción popular mexicana \nPaula Díaz Fernández\nUr so pretty\, Wasia Project \nJorge Luque Leiva\nLo saben mis zapatos\, Pablo López \nAinoa Andrade Martín\nAll that Jazz\, Musical Chicago \nYolanda Márquez Subiri\nLascia ch’io pianga\, G. Haendel
URL:https://www.triarte.net/evento/1700-h-concierto-de-canto-alumnos-de-ruth-garcia/
CATEGORIES:Concierto
ATTACH;FMTTYPE=image/jpeg:https://www.triarte.net/wp-content/uploads/2024/06/web-27-de-junio-canto.jpg
END:VEVENT
BEGIN:VEVENT
DTSTART;TZID=Europe/Madrid:20240627T193000
DTEND;TZID=Europe/Madrid:20240627T210000
DTSTAMP:20260422T170745
CREATED:20240626T191102Z
LAST-MODIFIED:20240626T191102Z
UID:10260-1719516600-1719522000@www.triarte.net
SUMMARY:19:30 h | Concierto de Cámara
DESCRIPTION:Dentro de las actividades programadas por TRIARTE para el Final de Curso 23/24\, está la de realizar conciertos para mejorar la formación de nuestros alumnos. \n? El Jueves 27 de junio a las 19:30 h los alumnos de Cámara de nuestras profesoras Aurora Pérez y Carmen Vidal nos ofrecerán un concierto. \n? La entrada será libre hasta completar el aforo de nuestra sala de conciertos. \nPrograma\nParte I: Música de Cámara\nIrene Pardo Molina\nEva-Yiran Xu\nJulia Carrero de Luis\nSonata en Re Mayor\, J. J. Quantz\nII. Vivace\nIII. Adagio\nIV. Menuet \nSofía López Ruiz\nMario Fernández Gil\nBallade\, C. Reinecke \nDarío Jiménez Carrasco\nAlba Rodríguez Jiménez\nSonata Op. 167\, C. Saint-Saëns \nParte I: Música de Cámara Parte II: Orquesta Barroca\nConcierto grosso nº 1 Op 6\, G. Haendel\nSolista: Alba Rodríguez Jiménez \nConcierto grosso nº 4 Op 6\, G. Haendel\nSolista: Yiran-Eva Xu \nConcierto grosso nº 5 Op 6\, G. Haendel\nSolista: Sofía López Ruíz \nConcierto grosso nº 6 Op 6\, G. Haendel\nSolista: Yiton-Ema Xu \nViolines\nCarlos González Martos\nAna Díaz Ramírez\nMaría José Martín Sánchez\nJavier Hernández Aguilera\nAlba Martínez Martínez\nViola\nSusana Ruíz Hinojosa\nViolonchelo\nAna Molina Muñoz\nCarlos Arrabal Romero\nBeatriz Corpas Garcerán\nGuitarra\nRobert S. Pereanu Caraion\nFlautas\nAurora Pérez López\nEva-Yiran Xu\nMario Fernández Gil\nClarinete\nAlba Rodríguez Jiménez\nEma-Yiton Xu\nSaxofón alto\nTeresa Martos Gutiérrez\nElba María Varela Miguel \n 
URL:https://www.triarte.net/evento/1930-h-concierto-de-camara/
LOCATION:Sala de Conciertos de Triarte\, Calle Corregidor Antonio de Bobadilla\, 16\, Málaga\, 29006\, España
CATEGORIES:Concierto
ATTACH;FMTTYPE=image/jpeg:https://www.triarte.net/wp-content/uploads/2024/06/web-27-06-CONCIERTO-DE-CAMARA-AURORA-Y-CARMEN.jpg
END:VEVENT
END:VCALENDAR