BEGIN:VCALENDAR
VERSION:2.0
PRODID:-//Triarte - Centro de estudios art&iacute;sticos - Conservatorio y escuela de m&uacute;sica, danza y teatro. - ECPv6.15.18//NONSGML v1.0//EN
CALSCALE:GREGORIAN
METHOD:PUBLISH
X-ORIGINAL-URL:https://www.triarte.net
X-WR-CALDESC:Eventos para Triarte - Centro de estudios art&iacute;sticos - Conservatorio y escuela de m&uacute;sica, danza y teatro.
REFRESH-INTERVAL;VALUE=DURATION:PT1H
X-Robots-Tag:noindex
X-PUBLISHED-TTL:PT1H
BEGIN:VTIMEZONE
TZID:Europe/Madrid
BEGIN:DAYLIGHT
TZOFFSETFROM:+0100
TZOFFSETTO:+0200
TZNAME:CEST
DTSTART:20230326T010000
END:DAYLIGHT
BEGIN:STANDARD
TZOFFSETFROM:+0200
TZOFFSETTO:+0100
TZNAME:CET
DTSTART:20231029T010000
END:STANDARD
BEGIN:DAYLIGHT
TZOFFSETFROM:+0100
TZOFFSETTO:+0200
TZNAME:CEST
DTSTART:20240331T010000
END:DAYLIGHT
BEGIN:STANDARD
TZOFFSETFROM:+0200
TZOFFSETTO:+0100
TZNAME:CET
DTSTART:20241027T010000
END:STANDARD
BEGIN:DAYLIGHT
TZOFFSETFROM:+0100
TZOFFSETTO:+0200
TZNAME:CEST
DTSTART:20250330T010000
END:DAYLIGHT
BEGIN:STANDARD
TZOFFSETFROM:+0200
TZOFFSETTO:+0100
TZNAME:CET
DTSTART:20251026T010000
END:STANDARD
END:VTIMEZONE
BEGIN:VEVENT
DTSTART;TZID=Europe/Madrid:20240510T203000
DTEND;TZID=Europe/Madrid:20240510T220000
DTSTAMP:20260422T204117
CREATED:20240430T094434Z
LAST-MODIFIED:20240509T103502Z
UID:9926-1715373000-1715378400@www.triarte.net
SUMMARY:20:30 h. Recital de Guitarra: Sergio A. González
DESCRIPTION:Sergio A. González\n\n\n\nDa sus primeros pasos en el mundo de la guitarra en la peña flamenca El Bastón de la mano de David Retamero\, quien lo anima para que inicie una formación reglada en el conservatorio de música. Es en el CPM Gonzálo Martín Tenllado\, bajo la tutela de María Ángel García Martín\, donde alcanzó el grado profesional. \n\n\n\nEn paralelo\, complementó su formación participando durante varios años en los cursos de verano Música y Naturaleza en Cabra (Córdoba)\, donde recibió instrucción de profesores como Paqui Rivodigo Campos y Juan Antonio Carrillo. En 2021 accedió al Conservatorio Superior de Música de Málaga con la segunda mejor nota en Andalucía en su instrumento. \n\n\n\nActualmente\, está cursando tercero guiado por el maestro D. Javier García Moreno. A lo largo de su trayectoria ha participado en cursos de perfeccionamiento con guitarristas destacados como: Rafael Aguirre\, Marcos Socias\, José Luis Merín\, Antonio Duro\, Berta Rojas\, José Maria Gallardo del Rey\, Joaquín Clerch y David Martínez García. \n\n\n\nHa actuado en numerosas salas tanto como solista como en colaboración con otros músicos en lugares como el Castillo El Bil Bil\, Salón de la ONCE\, Sala Unicaja María Cristina\, Colegio de Médicos\, Pabellón de Juventudes Musicales de Sevilla y La Térmica\, entre otros. \n\n\n\nEntre sus logros destacan: Primer Premio Categoría A en el VII Concurso Nacional de Guitarra Clásica “Ciudad de Castalla” (2019)\, Premio II Concurso Joven de Música Barroca de Málaga (2019)\, Primer Premio Fundación Banco de Alimentos de Granada en el XIII Concurso de Interpretación “José Salinas” (2018). \n\n\n\nPROGRAMA\n\n\n\nPreludio 988\, J. S. BachElegia\, J. K. MertzLágrima\, F. TárregaRecuerdos de la Alhambra\, F. TárregaEn los Trigales\, J. RodrigoBanderillas de tinieblas\, J. Mª Gallardo del ReyLa Catedral\, A. B. MangoreOblivion\, A. PiazzollaSuite del Recuerdo\, J. L. MerlínEvocaciónZambaChacareraEvocaciónJoropo \n\n\n\n* Aforo limitado
URL:https://www.triarte.net/evento/2000-h-recital-de-piano-sergio-a-gonzalez/
LOCATION:Sala de Conciertos de Triarte\, Calle Corregidor Antonio de Bobadilla\, 16\, Málaga\, 29006\, España
CATEGORIES:Concierto
ATTACH;FMTTYPE=image/png:https://www.triarte.net/wp-content/uploads/2024/04/WEB-10-05-2024-CONCIERTO-DE-GUITARRA.png
END:VEVENT
END:VCALENDAR