BEGIN:VCALENDAR
VERSION:2.0
PRODID:-//Triarte - Centro de estudios art&iacute;sticos - Conservatorio y escuela de m&uacute;sica, danza y teatro. - ECPv6.15.18//NONSGML v1.0//EN
CALSCALE:GREGORIAN
METHOD:PUBLISH
X-ORIGINAL-URL:https://www.triarte.net
X-WR-CALDESC:Eventos para Triarte - Centro de estudios art&iacute;sticos - Conservatorio y escuela de m&uacute;sica, danza y teatro.
REFRESH-INTERVAL;VALUE=DURATION:PT1H
X-Robots-Tag:noindex
X-PUBLISHED-TTL:PT1H
BEGIN:VTIMEZONE
TZID:Europe/Madrid
BEGIN:DAYLIGHT
TZOFFSETFROM:+0100
TZOFFSETTO:+0200
TZNAME:CEST
DTSTART:20230326T010000
END:DAYLIGHT
BEGIN:STANDARD
TZOFFSETFROM:+0200
TZOFFSETTO:+0100
TZNAME:CET
DTSTART:20231029T010000
END:STANDARD
BEGIN:DAYLIGHT
TZOFFSETFROM:+0100
TZOFFSETTO:+0200
TZNAME:CEST
DTSTART:20240331T010000
END:DAYLIGHT
BEGIN:STANDARD
TZOFFSETFROM:+0200
TZOFFSETTO:+0100
TZNAME:CET
DTSTART:20241027T010000
END:STANDARD
BEGIN:DAYLIGHT
TZOFFSETFROM:+0100
TZOFFSETTO:+0200
TZNAME:CEST
DTSTART:20250330T010000
END:DAYLIGHT
BEGIN:STANDARD
TZOFFSETFROM:+0200
TZOFFSETTO:+0100
TZNAME:CET
DTSTART:20251026T010000
END:STANDARD
END:VTIMEZONE
BEGIN:VEVENT
DTSTART;TZID=Europe/Madrid:20240322T203000
DTEND;TZID=Europe/Madrid:20240322T220000
DTSTAMP:20260423T000400
CREATED:20240306T174504Z
LAST-MODIFIED:20240322T102220Z
UID:9743-1711139400-1711144800@www.triarte.net
SUMMARY:20:30 h. Concierto de Guitarra
DESCRIPTION:Dentro de las actividades programadas por TRIARTE\, está el realizar conciertos con los alumnos para mejorar su formación musical. El Viernes 22 de marzo a las 20:30 h los alumnos de Guitarra de nuestro centro nos ofrecerán un concierto. La entrada será libre hasta completar el aforo de nuestra sala de conciertos. \nPROGRAMA\nGabriel Uroz Rojas\nUn día de noviembre\, L. Brouwer\nChoro n° 1\, H. Villalobos \nDaniel Luque Quirós\nLa catedral\, A. Barrios Mangoré\nPreludio (Saudade)\nAndante religioso\nNatalia vals venezolano n° 3\, A. Lauro \nÁngelo Alesi Jiménez\nBerceuse\, L. Brouwer\nCapricho árabe\, F. Tárrega \nRobert Stefan Pereanu Caraion\nFantasía X\, Alonso de Mudarra\nFuga BWV 998\, J. S. Bach\nSonata Op. 15b\, F. Sor\nElogio de la danza\, L. Brouwer
URL:https://www.triarte.net/evento/2030-h-concierto-de-guitarra-2/
LOCATION:Sala de Conciertos de Triarte\, Calle Corregidor Antonio de Bobadilla\, 16\, Málaga\, 29006\, España
CATEGORIES:Concierto
ATTACH;FMTTYPE=image/png:https://www.triarte.net/wp-content/uploads/2024/03/web-22-03-2023-CONCIERTO-DE-GUITARRA.png
END:VEVENT
END:VCALENDAR