BEGIN:VCALENDAR
VERSION:2.0
PRODID:-//Triarte - Centro de estudios art&iacute;sticos - Conservatorio y escuela de m&uacute;sica, danza y teatro. - ECPv6.15.18//NONSGML v1.0//EN
CALSCALE:GREGORIAN
METHOD:PUBLISH
X-ORIGINAL-URL:https://www.triarte.net
X-WR-CALDESC:Eventos para Triarte - Centro de estudios art&iacute;sticos - Conservatorio y escuela de m&uacute;sica, danza y teatro.
REFRESH-INTERVAL;VALUE=DURATION:PT1H
X-Robots-Tag:noindex
X-PUBLISHED-TTL:PT1H
BEGIN:VTIMEZONE
TZID:Europe/Madrid
BEGIN:DAYLIGHT
TZOFFSETFROM:+0100
TZOFFSETTO:+0200
TZNAME:CEST
DTSTART:20230326T010000
END:DAYLIGHT
BEGIN:STANDARD
TZOFFSETFROM:+0200
TZOFFSETTO:+0100
TZNAME:CET
DTSTART:20231029T010000
END:STANDARD
BEGIN:DAYLIGHT
TZOFFSETFROM:+0100
TZOFFSETTO:+0200
TZNAME:CEST
DTSTART:20240331T010000
END:DAYLIGHT
BEGIN:STANDARD
TZOFFSETFROM:+0200
TZOFFSETTO:+0100
TZNAME:CET
DTSTART:20241027T010000
END:STANDARD
BEGIN:DAYLIGHT
TZOFFSETFROM:+0100
TZOFFSETTO:+0200
TZNAME:CEST
DTSTART:20250330T010000
END:DAYLIGHT
BEGIN:STANDARD
TZOFFSETFROM:+0200
TZOFFSETTO:+0100
TZNAME:CET
DTSTART:20251026T010000
END:STANDARD
END:VTIMEZONE
BEGIN:VEVENT
DTSTART;TZID=Europe/Madrid:20240320T173000
DTEND;TZID=Europe/Madrid:20240320T190000
DTSTAMP:20260422T222155
CREATED:20240305T185044Z
LAST-MODIFIED:20240319T164232Z
UID:9730-1710955800-1710961200@www.triarte.net
SUMMARY:17:30 h. Concierto de Flauta\, Violín\, Viola y Violonchelo
DESCRIPTION:Dentro de las actividades programadas por TRIARTE\, está el realizar conciertos con los alumnos para mejorar su formación musical. El Miércoles 20 de marzo a las 17:30 h los alumnos de Flauta\, Violín\, Viola y Violonchelo de nuestro centro nos ofrecerán un concierto. La entrada será libre hasta completar el aforo de nuestra sala de conciertos. \nPROGRAMA\nMarcos Jiménez Sánchez | flauta\nLa danza de los payasos \nPablo Jiménez López | violonchelo\nHermano Jacques\, popular francesa \nEmma Mateos Lopera | violín\nOff to París\, popular francesa \nCarla Agüera Gallardo | flauta\nPor valles y montañas \nEdgar Zhan | violín\nReady\, steady\, go now!\, K. y D. Blackwell \nMirto Jiménez Rodríguez | violonchelo\nAllegro\, S. Suzuki \nJulia López Hijosa | violonchelo\nVaquero perezoso\, K. y D. Blackwell \nGonzalo López Hijosa | violín\nChase in the dark\, K. y D. Blackwell \nMaría Briones Barreiro | viola\nAir\, J. S. Bach \nCarmen Núñez Peregrín | viola\nDance\, V. Rebikoff \nMoisés García Rivero | violonchelo\nCoro de “Judas Maccabeus”\, G. F. Handel\n(Dúo con Ana Molina) \nIrene Segura Franco | violín\nShallow\, Lady Gaga y Bradley Cooper \nManuel De los Santos Vázquez | viola\nGigue\, J. Alfaras \nHugo Macías Vallejo | violonchelo\nGavotte\, J. B. Lully \nDaniel García de la Nava Triviño | violín\nDulce estrella\, canción popular \nLara Pérez – Muñoz Mizyniuk | violín\nCanción del viento\, popular \nJosé Domingo Salinas Soria | violín\nAndantino\, S. Suzuki \nRodrigo Núñez Peregrín | viola\nBourrée\, G. F. Handel \nVictoria Ponce Rizo | violín\nLightly Row\, Folk Song \nAndy Hu | violín\nGavotte\, J. Becker
URL:https://www.triarte.net/evento/1800-h-concierto-de-musica-de-camara/
LOCATION:Sala de Conciertos de Triarte\, Calle Corregidor Antonio de Bobadilla\, 16\, Málaga\, 29006\, España
CATEGORIES:Concierto
ATTACH;FMTTYPE=image/png:https://www.triarte.net/wp-content/uploads/2024/03/web-20-03-2023-CONCIERTO-DE-CUERDA-Y-VIENTO-1.png
END:VEVENT
BEGIN:VEVENT
DTSTART;TZID=Europe/Madrid:20240320T193000
DTEND;TZID=Europe/Madrid:20240320T210000
DTSTAMP:20260422T222155
CREATED:20240306T171953Z
LAST-MODIFIED:20240319T170539Z
UID:9739-1710963000-1710968400@www.triarte.net
SUMMARY:19:30 h. Concierto de Saxofón\, Flauta\, Violín y Música de Cámara
DESCRIPTION:Dentro de las actividades programadas por TRIARTE\, está el realizar conciertos con los alumnos para mejorar su formación musical. El Miércoles 20 de marzo a las 19:30 h los alumnos de Saxofón\, Flauta\, Violín y Música de Cámara de nuestro centro nos ofrecerán un concierto. La entrada será libre hasta completar el aforo de nuestra sala de conciertos. \nPROGRAMA\nEva-Yiran Xu | flauta\nIrene Pardo Malina | flauta \nJulia Carrero de Luis | piano \nMaya\, l. Clarke  \nEmilio-Ziyi Xu | saxofón \nDivertissement\, F. A. Tzigane  \nElba María Varela Miguel | saxofón \nSonata\, P. Hindemith \nI. Ruhig bewegt \nII. Lebhaft  \nEstrella-Yixin Xu | violín\nConcierto en La m nº 6 Op. 3\, A. Vivaldi\nIII. Allegro  \nManuel Herrezuelo Jiménez | violín\nConcierto en Si m Op. 35\, O. Rieding \nI. Allegro \nEstrella Thao Malina Samper | flauta\nSonata en Do M\, J. S. Bach \nI. Adagio-presto \nIV. Minuete 1-11 \nEva-Yiran Xu | flauta\nFantasia nº 11\, G. P. Telemann \nI. Allegro \nII. Adagio- Vivace \nIII. Allegro  \nPablo Lara Mendoza | flauta\nRondo en Re M\, W. A. Mozart  \nMiguel Reguera Domínguez | flauta\nConcierto en Sol M\, C. Stamitz  \nIrene Pardo Molina | flauta\nBalada\, C. Reinecke  \nLucía Lara Mendoza | flauta\nSonata FP164\, F. Poulenc \nII. Cantinela  \nMario Fernández Gil | flauta\nLa flauta de pan\, J. Mouquet
URL:https://www.triarte.net/evento/1930-h-concierto-de-musica-de-camara/
LOCATION:Sala de Conciertos de Triarte\, Calle Corregidor Antonio de Bobadilla\, 16\, Málaga\, 29006\, España
CATEGORIES:Concierto
ATTACH;FMTTYPE=image/png:https://www.triarte.net/wp-content/uploads/2024/03/PANTALLA-20-03-2023-CONCIERTO-DE-MUSICA-DE-CAMARA.png
END:VEVENT
END:VCALENDAR