BEGIN:VCALENDAR
VERSION:2.0
PRODID:-//Triarte - Centro de estudios art&iacute;sticos - Conservatorio y escuela de m&uacute;sica, danza y teatro. - ECPv6.15.18//NONSGML v1.0//EN
CALSCALE:GREGORIAN
METHOD:PUBLISH
X-ORIGINAL-URL:https://www.triarte.net
X-WR-CALDESC:Eventos para Triarte - Centro de estudios art&iacute;sticos - Conservatorio y escuela de m&uacute;sica, danza y teatro.
REFRESH-INTERVAL;VALUE=DURATION:PT1H
X-Robots-Tag:noindex
X-PUBLISHED-TTL:PT1H
BEGIN:VTIMEZONE
TZID:Europe/Madrid
BEGIN:DAYLIGHT
TZOFFSETFROM:+0100
TZOFFSETTO:+0200
TZNAME:CEST
DTSTART:20230326T010000
END:DAYLIGHT
BEGIN:STANDARD
TZOFFSETFROM:+0200
TZOFFSETTO:+0100
TZNAME:CET
DTSTART:20231029T010000
END:STANDARD
BEGIN:DAYLIGHT
TZOFFSETFROM:+0100
TZOFFSETTO:+0200
TZNAME:CEST
DTSTART:20240331T010000
END:DAYLIGHT
BEGIN:STANDARD
TZOFFSETFROM:+0200
TZOFFSETTO:+0100
TZNAME:CET
DTSTART:20241027T010000
END:STANDARD
BEGIN:DAYLIGHT
TZOFFSETFROM:+0100
TZOFFSETTO:+0200
TZNAME:CEST
DTSTART:20250330T010000
END:DAYLIGHT
BEGIN:STANDARD
TZOFFSETFROM:+0200
TZOFFSETTO:+0100
TZNAME:CET
DTSTART:20251026T010000
END:STANDARD
END:VTIMEZONE
BEGIN:VEVENT
DTSTART;TZID=Europe/Madrid:20240126T203000
DTEND;TZID=Europe/Madrid:20240126T220000
DTSTAMP:20260423T040016
CREATED:20240123T185130Z
LAST-MODIFIED:20240123T185130Z
UID:9663-1706301000-1706306400@www.triarte.net
SUMMARY:20:30 h. Concierto de Música de Cámara
DESCRIPTION:Dentro de las actividades programadas por TRIARTE\, está el realizar conciertos con los alumnos para mejorar su formación musical. \nEl Viernes 26 de enero a las 20:30 h los alumnos de Música de Cámara de nuestras profesoras Ana Molina y Carmen Vidal nos ofrecerán un concierto. La entrada será libre hasta completar el aforo de nuestra sala de conciertos.
URL:https://www.triarte.net/evento/2030-h-concierto-de-musica-de-camara/
LOCATION:Sala de Conciertos de Triarte\, Calle Corregidor Antonio de Bobadilla\, 16\, Málaga\, 29006\, España
CATEGORIES:Concierto
ATTACH;FMTTYPE=image/png:https://www.triarte.net/wp-content/uploads/2024/01/26-01-2024-Concierto-Musica-de-Camara.png
END:VEVENT
END:VCALENDAR