BEGIN:VCALENDAR
VERSION:2.0
PRODID:-//Triarte - Centro de estudios art&iacute;sticos - Conservatorio y escuela de m&uacute;sica, danza y teatro. - ECPv6.15.18//NONSGML v1.0//EN
CALSCALE:GREGORIAN
METHOD:PUBLISH
X-ORIGINAL-URL:https://www.triarte.net
X-WR-CALDESC:Eventos para Triarte - Centro de estudios art&iacute;sticos - Conservatorio y escuela de m&uacute;sica, danza y teatro.
REFRESH-INTERVAL;VALUE=DURATION:PT1H
X-Robots-Tag:noindex
X-PUBLISHED-TTL:PT1H
BEGIN:VTIMEZONE
TZID:Europe/Madrid
BEGIN:DAYLIGHT
TZOFFSETFROM:+0100
TZOFFSETTO:+0200
TZNAME:CEST
DTSTART:20220327T010000
END:DAYLIGHT
BEGIN:STANDARD
TZOFFSETFROM:+0200
TZOFFSETTO:+0100
TZNAME:CET
DTSTART:20221030T010000
END:STANDARD
BEGIN:DAYLIGHT
TZOFFSETFROM:+0100
TZOFFSETTO:+0200
TZNAME:CEST
DTSTART:20230326T010000
END:DAYLIGHT
BEGIN:STANDARD
TZOFFSETFROM:+0200
TZOFFSETTO:+0100
TZNAME:CET
DTSTART:20231029T010000
END:STANDARD
BEGIN:DAYLIGHT
TZOFFSETFROM:+0100
TZOFFSETTO:+0200
TZNAME:CEST
DTSTART:20240331T010000
END:DAYLIGHT
BEGIN:STANDARD
TZOFFSETFROM:+0200
TZOFFSETTO:+0100
TZNAME:CET
DTSTART:20241027T010000
END:STANDARD
END:VTIMEZONE
BEGIN:VEVENT
DTSTART;TZID=Europe/Madrid:20231122T173000
DTEND;TZID=Europe/Madrid:20231122T193000
DTSTAMP:20260423T073155
CREATED:20231120T153152Z
LAST-MODIFIED:20231120T181833Z
UID:9507-1700674200-1700681400@www.triarte.net
SUMMARY:Concierto de Santa Cecilia 2023\, patrona de la Música
DESCRIPTION:Como es tradición\, TRIARTE – Centro de Estudios Artísticos da la bienvenida al curso con la celebración del Concierto en honor a Santa Cecilia\, patrona de la Música\, efeméride que se conmemora el 22 de noviembre. \nEn esta ocasión nuestros alumnos nos ofrecerán una muestra de lo que llevan trabajado desde principio de curso\, interpretando piezas musicales y haciéndonos disfrutar de un día de fiesta para todos los músicos. \nEntrada libre y gratuita hasta completar aforo. \nPROGRAMA\n\nRemedios Castillo Zamora – piano\nBSO «La familia Addams»\, A. Lippa\n(arr. Lucía Muñoz Romero) \nCarlos Jiménez Sánchez – saxofón\nB Tune\, Graham Lyons \nVictoria Ponce Rizo – violín\nAlly Bally\, D. Blackwell \nMarcos Jiménez Sánchez – flauta\nPor valles y montañas\, canción infantil\nDame cinco\, canción infantil \nNoah Romero Sánchez – piano\nCanta\, pájaro\, canta\, S. Bastien \nÁlvaro Pérez del Pulgar de los Ríos – violín\nChase in the dark\, K&D. Blackwell \nJulia Fernández Pérez – piano\nMinueto en Sol M\, J. S. Bach \nJosé Domingo Salinas Soria – violín\nVe y dile a tía Rhody\, canción popular \nEmilio Ziyi Xu – saxofón\nMarcha Turca\, W. A. Mozart\nEl barbero de Sevilla\, G. Rossini \nHugo Macías Vallejo – violonchelo\nNicolás Berniell Tuda – piano\nBibbidi-Bobbidi-Boo/The Magic song\, BSO\n«Cenicienta» M. David Hoffman\, J. Livingston \nAitana Constanza Torres Becerra – piano\nBella y Bestia\, A. Menken \nManuel de los Santos Vázquez – viola\nGavota en Sol m\, J. S. Bach \nIsmael Andrés Domínguez González\nRubén Domínguez González\nSusana Domínguez González\n(Trío de piano)\nSur le pont de Avigon\, canción popular francesa \nEva Yiran Xu – piano\nEma Yitong Xu – clarinete\nAlba Martínez Martínez – violín\n«Antheia»\, Á. Pérez \nEmma García Rincón\nFernando Fernández Escalera\nRaquel López Espínola\n(Trío de piano)\nRomanza\, S. Rachmaninoff \nDaniel Luque Quirós\nAngelo Alesi Jiménez\n(Dúo de guitarras)\nTema popular de Brasil\, E. Thorlaksson
URL:https://www.triarte.net/evento/concierto-de-santa-cecilia-2023-patrona-de-la-musica/
LOCATION:Sala de Conciertos de Triarte\, Calle Corregidor Antonio de Bobadilla\, 16\, Málaga\, 29006\, España
CATEGORIES:Concierto
ATTACH;FMTTYPE=image/png:https://www.triarte.net/wp-content/uploads/2023/11/santa-cecilia-2023-web.png
END:VEVENT
END:VCALENDAR