BEGIN:VCALENDAR
VERSION:2.0
PRODID:-//Triarte - Centro de estudios art&iacute;sticos - Conservatorio y escuela de m&uacute;sica, danza y teatro. - ECPv6.15.18//NONSGML v1.0//EN
CALSCALE:GREGORIAN
METHOD:PUBLISH
X-WR-CALNAME:Triarte - Centro de estudios art&iacute;sticos - Conservatorio y escuela de m&uacute;sica, danza y teatro.
X-ORIGINAL-URL:https://www.triarte.net
X-WR-CALDESC:Eventos para Triarte - Centro de estudios art&iacute;sticos - Conservatorio y escuela de m&uacute;sica, danza y teatro.
REFRESH-INTERVAL;VALUE=DURATION:PT1H
X-Robots-Tag:noindex
X-PUBLISHED-TTL:PT1H
BEGIN:VTIMEZONE
TZID:Europe/Madrid
BEGIN:DAYLIGHT
TZOFFSETFROM:+0100
TZOFFSETTO:+0200
TZNAME:CEST
DTSTART:20220327T010000
END:DAYLIGHT
BEGIN:STANDARD
TZOFFSETFROM:+0200
TZOFFSETTO:+0100
TZNAME:CET
DTSTART:20221030T010000
END:STANDARD
BEGIN:DAYLIGHT
TZOFFSETFROM:+0100
TZOFFSETTO:+0200
TZNAME:CEST
DTSTART:20230326T010000
END:DAYLIGHT
BEGIN:STANDARD
TZOFFSETFROM:+0200
TZOFFSETTO:+0100
TZNAME:CET
DTSTART:20231029T010000
END:STANDARD
BEGIN:DAYLIGHT
TZOFFSETFROM:+0100
TZOFFSETTO:+0200
TZNAME:CEST
DTSTART:20240331T010000
END:DAYLIGHT
BEGIN:STANDARD
TZOFFSETFROM:+0200
TZOFFSETTO:+0100
TZNAME:CET
DTSTART:20241027T010000
END:STANDARD
END:VTIMEZONE
BEGIN:VEVENT
DTSTART;TZID=Europe/Madrid:20230627T180000
DTEND;TZID=Europe/Madrid:20230627T193000
DTSTAMP:20260423T222139
CREATED:20230523T083457Z
LAST-MODIFIED:20230607T141643Z
UID:9118-1687888800-1687894200@www.triarte.net
SUMMARY:18:00 h | Concierto de Iniciación a la Música – Alumnos de Rosario Hidalgo
DESCRIPTION:Dentro de las actividades programadas por TRIARTE para el Final de Curso 22/23\, está la de realizar conciertos para nuestros alumnos y alumnas con el objetivo de mejorar su formación. \nEl martes 27 de junio a las 18:00 h los alumnos/as de Iniciación a la Música de nuestra profesora Rosario Hidalgo nos ofrecerán un concierto. \nPrograma\nTaller Musical Infantil\nDanza\nLos pajaritos\nCampanitas afinadas\nEl precioso ruiseñor\nCanciones\nCerca del camino\nEl perrito Tic\nCaballito blanco\nEl brujito de Gulubú \nTaller Musical Preparatorio\nDanza\nLa samba de la gamba\nBanda de flautas\nLa lluvia\nLa flauta mágica\nHimno de la alegría\nBanda de Percusión\nLa escuela\nCanciones\nEl burrito Tom\nCuando me siento solo\nMúsica en tí \n 
URL:https://www.triarte.net/evento/1800-h-concierto-de-iniciacion-a-la-musica-alumnos-de-rosario-hidalgo-3/
LOCATION:Sala de Conciertos de Triarte\, Calle Corregidor Antonio de Bobadilla\, 16\, Málaga\, 29006\, España
CATEGORIES:Concierto
ATTACH;FMTTYPE=image/jpeg:https://www.triarte.net/wp-content/uploads/2023/05/WEB-27-06-2023-INICIACION-A-LA-MUSICA-CHARI.jpg
END:VEVENT
BEGIN:VEVENT
DTSTART;TZID=Europe/Madrid:20230627T200000
DTEND;TZID=Europe/Madrid:20230627T213000
DTSTAMP:20260423T222139
CREATED:20230523T141839Z
LAST-MODIFIED:20230623T180433Z
UID:9123-1687896000-1687901400@www.triarte.net
SUMMARY:20:00 h | Concierto de Flauta y Música de Cámara
DESCRIPTION:Dentro de las actividades programadas por TRIARTE para el Final de Curso 22/23\, está la de realizar conciertos para mejorar la formación de nuestros alumnos. \n? El martes 27 de junio a las 20:00 h los alumnos de Flauta y Música de Cámara de nuestras profesoras Aurora Pérez y Sofía Evtimova nos ofrecerán un concierto. \n? La entrada será libre hasta completar el aforo de nuestra sala de conciertos. \nPrograma\nIsabel María Ambrosio Luque\nMaría José Martín Sánchez \nGracia Teresa Serón García\nBagatela\, Josef Suk\nCounting Stars\, One Republic \nLucía Lara Mendoza \nLa flauta de pan\, F. Mouquet\nIII. Allegro molto vivo \nRodrigo Fernández Serrano \nBalada\, C. Reinecke \nLucía Maldonado Montiel \nSonata en La menor\, C. P. E. Bach\nI. Poco adagio\nII. Allegro\nIII. Allegro\nFantasía pastoral húngara\, F. Doppler\nPreludio y Scherzo\, H. Büsser
URL:https://www.triarte.net/evento/2000-h-concierto-de-flauta-alumnos-de-aurora-perez-2/
LOCATION:Sala de Conciertos de Triarte\, Calle Corregidor Antonio de Bobadilla\, 16\, Málaga\, 29006\, España
CATEGORIES:Concierto
ATTACH;FMTTYPE=image/jpeg:https://www.triarte.net/wp-content/uploads/2023/05/web-27-06-2023-CONCIERTO-DE-FLAUTA-1.jpg
END:VEVENT
END:VCALENDAR