BEGIN:VCALENDAR
VERSION:2.0
PRODID:-//Triarte - Centro de estudios art&iacute;sticos - Conservatorio y escuela de m&uacute;sica, danza y teatro. - ECPv6.15.18//NONSGML v1.0//EN
CALSCALE:GREGORIAN
METHOD:PUBLISH
X-WR-CALNAME:Triarte - Centro de estudios art&iacute;sticos - Conservatorio y escuela de m&uacute;sica, danza y teatro.
X-ORIGINAL-URL:https://www.triarte.net
X-WR-CALDESC:Eventos para Triarte - Centro de estudios art&iacute;sticos - Conservatorio y escuela de m&uacute;sica, danza y teatro.
REFRESH-INTERVAL;VALUE=DURATION:PT1H
X-Robots-Tag:noindex
X-PUBLISHED-TTL:PT1H
BEGIN:VTIMEZONE
TZID:Europe/Madrid
BEGIN:DAYLIGHT
TZOFFSETFROM:+0100
TZOFFSETTO:+0200
TZNAME:CEST
DTSTART:20220327T010000
END:DAYLIGHT
BEGIN:STANDARD
TZOFFSETFROM:+0200
TZOFFSETTO:+0100
TZNAME:CET
DTSTART:20221030T010000
END:STANDARD
BEGIN:DAYLIGHT
TZOFFSETFROM:+0100
TZOFFSETTO:+0200
TZNAME:CEST
DTSTART:20230326T010000
END:DAYLIGHT
BEGIN:STANDARD
TZOFFSETFROM:+0200
TZOFFSETTO:+0100
TZNAME:CET
DTSTART:20231029T010000
END:STANDARD
BEGIN:DAYLIGHT
TZOFFSETFROM:+0100
TZOFFSETTO:+0200
TZNAME:CEST
DTSTART:20240331T010000
END:DAYLIGHT
BEGIN:STANDARD
TZOFFSETFROM:+0200
TZOFFSETTO:+0100
TZNAME:CET
DTSTART:20241027T010000
END:STANDARD
END:VTIMEZONE
BEGIN:VEVENT
DTSTART;TZID=Europe/Madrid:20230623T170000
DTEND;TZID=Europe/Madrid:20230623T170000
DTSTAMP:20260423T181248
CREATED:20230518T180018Z
LAST-MODIFIED:20230620T180820Z
UID:9085-1687539600-1687539600@www.triarte.net
SUMMARY:17:00 h | Concierto de Iniciación a la Música
DESCRIPTION:Dentro de las actividades programadas por TRIARTE para el Final de Curso 22/23\, está la de realizar conciertos para nuestros alumnos y alumnas con el objetivo de mejorar su formación. \nEl viernes 23 de junio los alumnos/as de Iniciación a la Música de nuestro centro nos ofrecerán un concierto. \nPrograma\nTaller Musical Preescolar\nCampanitas afinadas\nDo\, re\, mi\, fa sol\nJuego rítmico\nClap\, clap song\nCanciones\nEn mi tribu\nLos peces en el mar\nCangrejito de coral \nTaller Musical Infantil\nCanciones\nEl perrito tic\nLa reina Berenguela\nEn el camino vi
URL:https://www.triarte.net/evento/concierto-de-iniciacion-a-la-musica/
CATEGORIES:Concierto
ATTACH;FMTTYPE=image/jpeg:https://www.triarte.net/wp-content/uploads/2023/05/web-23-06-2023-INICIACION-A-LA-MUSICA-FATIMA.jpg
END:VEVENT
BEGIN:VEVENT
DTSTART;TZID=Europe/Madrid:20230623T193000
DTEND;TZID=Europe/Madrid:20230623T203000
DTSTAMP:20260423T181248
CREATED:20230619T183001Z
LAST-MODIFIED:20230621T154218Z
UID:9272-1687548600-1687552200@www.triarte.net
SUMMARY:19:30 h | Concierto de Piano – Alumnos de Natalia Sakala
DESCRIPTION:Dentro de las actividades programadas por TRIARTE\, está el realizar conciertos con los alumnos para mejorar su formación musical. \nEl viernes 23 de junio a las 17:30 h los alumnos de Piano de nuestra profesora Natalia Sakala nos ofrecerán un concierto. La entrada será libre hasta completar el aforo de nuestra sala de conciertos. \nPrograma\nRafael Reguera Domínguez\nPequeño vals Op. 25 nº 1\, I.Albéniz \nIsmael Andrés Domínguez González\nTristeza\, E. Granados \nRafael Delgado Olmo\nVals en La bemol M Op. Post.\, F. Chopin \nAndrea Ruiz Alcarazo\nPassacaglia en Sol m\, G. F. Handel\nRiver flows in your\, Yiruma \nMarta Alcoholado Muriel\nSonata nº 14 en Do sostenido m\, L. van Beethoven\nMov. I: Adagio sostenuto \nAlba Rodríguez Jiménez\nCapricho español Op. 39\, E. Granados \nEma-Yitong Xu\nPassepied\, C. Debussy \nBeatriz Corpas Garcerán\nVals en Mi bemol M Op. Post.\, F. Chopin
URL:https://www.triarte.net/evento/1930-h-concierto-de-piano-alumnos-de-natalia-sakala-3/
LOCATION:Sala de Conciertos de Triarte\, Calle Corregidor Antonio de Bobadilla\, 16\, Málaga\, 29006\, España
CATEGORIES:Concierto
ATTACH;FMTTYPE=image/jpeg:https://www.triarte.net/wp-content/uploads/2023/06/web-23-06-2023-CONCIERTO-PIANO-EEPP-NATALIA.jpg
END:VEVENT
END:VCALENDAR