BEGIN:VCALENDAR
VERSION:2.0
PRODID:-//Triarte - Centro de estudios art&iacute;sticos - Conservatorio y escuela de m&uacute;sica, danza y teatro. - ECPv6.15.18//NONSGML v1.0//EN
CALSCALE:GREGORIAN
METHOD:PUBLISH
X-WR-CALNAME:Triarte - Centro de estudios art&iacute;sticos - Conservatorio y escuela de m&uacute;sica, danza y teatro.
X-ORIGINAL-URL:https://www.triarte.net
X-WR-CALDESC:Eventos para Triarte - Centro de estudios art&iacute;sticos - Conservatorio y escuela de m&uacute;sica, danza y teatro.
REFRESH-INTERVAL;VALUE=DURATION:PT1H
X-Robots-Tag:noindex
X-PUBLISHED-TTL:PT1H
BEGIN:VTIMEZONE
TZID:Europe/Madrid
BEGIN:DAYLIGHT
TZOFFSETFROM:+0100
TZOFFSETTO:+0200
TZNAME:CEST
DTSTART:20220327T010000
END:DAYLIGHT
BEGIN:STANDARD
TZOFFSETFROM:+0200
TZOFFSETTO:+0100
TZNAME:CET
DTSTART:20221030T010000
END:STANDARD
BEGIN:DAYLIGHT
TZOFFSETFROM:+0100
TZOFFSETTO:+0200
TZNAME:CEST
DTSTART:20230326T010000
END:DAYLIGHT
BEGIN:STANDARD
TZOFFSETFROM:+0200
TZOFFSETTO:+0100
TZNAME:CET
DTSTART:20231029T010000
END:STANDARD
BEGIN:DAYLIGHT
TZOFFSETFROM:+0100
TZOFFSETTO:+0200
TZNAME:CEST
DTSTART:20240331T010000
END:DAYLIGHT
BEGIN:STANDARD
TZOFFSETFROM:+0200
TZOFFSETTO:+0100
TZNAME:CET
DTSTART:20241027T010000
END:STANDARD
END:VTIMEZONE
BEGIN:VEVENT
DTSTART;TZID=Europe/Madrid:20230622T173000
DTEND;TZID=Europe/Madrid:20230622T183000
DTSTAMP:20260423T181152
CREATED:20230519T173330Z
LAST-MODIFIED:20230619T165621Z
UID:9097-1687455000-1687458600@www.triarte.net
SUMMARY:17:30 h | Concierto de Piano – Alumnos de Natalia Sakala
DESCRIPTION:Dentro de las actividades programadas por TRIARTE\, está el realizar conciertos con los alumnos para mejorar su formación musical. \nEl jueves 22 de junio a las 17:30 h los alumnos de Piano de nuestra profesora Natalia Sakala nos ofrecerán un concierto. La entrada será libre hasta completar el aforo de nuestra sala de conciertos. \nPrograma\nMalena Lanzas Delgado \nMi perro\, J. Bastien\nCampanita\, W. A. Mozart \nMaría Medina Bernárdez\nEl columpio\, J. Bastien\nEl trenecito\, J. Bastien \nLara Rodríguez Moreno\nEl vals de los elefantes\, J. Bastien\nLargo\, A. Dvorak \nVera González Hernández\nAlicita\, canción popular francesa\nOda a la Alegría\, L. van Beethoven \nPatricia Medina Bernárdez\nSinfonía del Nuevo Mundo\, A. Dvorak\nTamboril\, Ch. Hervé \nMaría Vera Gómez\nRigaudon\, A. Goedicke\nAllegro\, D. G. Türk \nIan Villanueva Gómez\nUn bon devoir\, A. Gretchaninoff\nCarillón\, E. Gnyesina \nAdriana Fonollá González\nEstudio en Do M\, C. Czerny\nLeyenda del conejo blanco\, Ch. Hervé \nClaudia Pardo Elvira\nMinueto\, Ch. Hervé\nBoogie nº 1\, G. Martin \nJavier Vargas Sánchez de Alcázar\nEstudio Op. 82\, C. Gurlitt\nMusette en Re M\, J. S. Bach \nAitana Constanza Torres Becerra\nMinueto en Sol M\, J. S. Bach\nHarry Potter\, J. Williams \nPablo García de La Nava Triviño\nPequeña broma musical\, L. Mozart\nThe Pink Panther Theme\, H. Mancini \nIsabel Morcillo Midorikawa\nPequeño preludio en Do M\, J. S. Bach\nSonatina Op. 151 nº 1 en Sol M\, A. Diabelli\nMov. II: Scherzo. Allegro. \nMaría Dolores Alonso Valea\nEstudio Op. 37 nº 5\, A. Lemoine\nPrimer dolor Op. 68 nº 16\, R .Schumann \nÓscar Enrique Aranda\nEstudio Op. 37 nº 24\, A. Lemoine\nComptine d’un autre été: I’apres midi\, Y.Tiersen
URL:https://www.triarte.net/evento/1730-h-concierto-de-piano-alumnos-de-natalia-sakala-3/
CATEGORIES:Concierto
ATTACH;FMTTYPE=image/jpeg:https://www.triarte.net/wp-content/uploads/2023/05/web-22-06-2023-CONCIERTO-PIANO-NATALIA.jpg
END:VEVENT
BEGIN:VEVENT
DTSTART;TZID=Europe/Madrid:20230622T200000
DTEND;TZID=Europe/Madrid:20230622T213000
DTSTAMP:20260423T181152
CREATED:20230522T155916Z
LAST-MODIFIED:20230615T180649Z
UID:9102-1687464000-1687469400@www.triarte.net
SUMMARY:20:00 h | Concierto de Piano – Alumnos de Maribel Sánchez de Alcázar
DESCRIPTION:Dentro de las actividades programadas por TRIARTE\, está el realizar conciertos con los alumnos para mejorar su formación musical. \n\n\n\nEl jueves 22 de junio a las 20:00 h los alumnos de Piano de nuestra profesora Maribel Sánchez de Alcázar nos ofrecerán un concierto. La entrada será libre hasta completar el aforo de nuestra sala de conciertos. \n\n\n\nPrograma\n\n\n\nJesús Rivera Vera Asturias\, I. Albéniz \nValeria Coro MuñozEl funeral de la muñeca\, P. I. Chaikovski  \nMartina Baeza Reyes Vals\, D. Shostakovich  \nElena San Emeterio EscalanteGymnopedie n° 1\, E. SatieLa calle de los tres hermanos\, F. Paterlini \nEsteban Morales MuñozRiver flows in your\, Yiruma \nAna Borrego OrtizSonatina op. 20 nº 1\, F. Kuhlau Mov. I: AllegroVals en Si menor\, F. Schubert  \nAlba Martínez Martínez Orobroy\, D. Dorantes \nNicolás Aranda González El piano\, M. Nyman \nMar García Márquez Arabesca nº 1\, C. Debussy
URL:https://www.triarte.net/evento/2000-h-concierto-de-piano-alumnos-de-maribel-sanchez-de-alcazar/
LOCATION:Sala de Conciertos de Triarte\, Calle Corregidor Antonio de Bobadilla\, 16\, Málaga\, 29006\, España
CATEGORIES:Concierto
ATTACH;FMTTYPE=image/jpeg:https://www.triarte.net/wp-content/uploads/2023/05/22-06-2023-CONCIERTO-PIANO-MARIBEL.jpg
END:VEVENT
END:VCALENDAR