BEGIN:VCALENDAR
VERSION:2.0
PRODID:-//Triarte - Centro de estudios art&iacute;sticos - Conservatorio y escuela de m&uacute;sica, danza y teatro. - ECPv6.15.18//NONSGML v1.0//EN
CALSCALE:GREGORIAN
METHOD:PUBLISH
X-ORIGINAL-URL:https://www.triarte.net
X-WR-CALDESC:Eventos para Triarte - Centro de estudios art&iacute;sticos - Conservatorio y escuela de m&uacute;sica, danza y teatro.
REFRESH-INTERVAL;VALUE=DURATION:PT1H
X-Robots-Tag:noindex
X-PUBLISHED-TTL:PT1H
BEGIN:VTIMEZONE
TZID:Europe/Madrid
BEGIN:DAYLIGHT
TZOFFSETFROM:+0100
TZOFFSETTO:+0200
TZNAME:CEST
DTSTART:20220327T010000
END:DAYLIGHT
BEGIN:STANDARD
TZOFFSETFROM:+0200
TZOFFSETTO:+0100
TZNAME:CET
DTSTART:20221030T010000
END:STANDARD
BEGIN:DAYLIGHT
TZOFFSETFROM:+0100
TZOFFSETTO:+0200
TZNAME:CEST
DTSTART:20230326T010000
END:DAYLIGHT
BEGIN:STANDARD
TZOFFSETFROM:+0200
TZOFFSETTO:+0100
TZNAME:CET
DTSTART:20231029T010000
END:STANDARD
BEGIN:DAYLIGHT
TZOFFSETFROM:+0100
TZOFFSETTO:+0200
TZNAME:CEST
DTSTART:20240331T010000
END:DAYLIGHT
BEGIN:STANDARD
TZOFFSETFROM:+0200
TZOFFSETTO:+0100
TZNAME:CET
DTSTART:20241027T010000
END:STANDARD
END:VTIMEZONE
BEGIN:VEVENT
DTSTART;TZID=Europe/Madrid:20230621T200000
DTEND;TZID=Europe/Madrid:20230621T213000
DTSTAMP:20260423T195740
CREATED:20230518T161835Z
LAST-MODIFIED:20230619T154015Z
UID:9081-1687377600-1687383000@www.triarte.net
SUMMARY:20:00 h | Concierto de Violín
DESCRIPTION:Dentro de las actividades programadas por TRIARTE\, está el realizar conciertos con los alumnos para mejorar su formación musical. \nEl miércoles 21 de junio a las 20:00 h los alumnos de Violín de nuestras profesoras Fátima Fernández y Sofía Evtimova nos ofrecerán un concierto. La entrada será libre hasta completar el aforo de nuestra sala de conciertos. \nPrograma\nAndy Hu\nGavota en La m\, J. B. Lully  \nAna Díaz Ramírez \nGavota en Sol m\, J. Becker  \nPablo Morales Muñoz\nConcierto en La m\, A. Vivaldi\nIII. Presto \nBruno Gomez Da Silva\nConcertino Op. 21 en La m\, O. Rieding \nAlba Martínez Martínez\nInvierno\, A. Vivaldi\nI. Allegro non motto \nRafael Luque Ruiz De Mier\nInvierno\, A. Vivaldi\nII. Largo \nRebeca Del Pino Morte\nDanza Pastoral\, A. Vivaldi \nCarlos González Martos\nDanzas Españolas “Playera”\, Granados-Kreisler \nEsteban Morales Muñoz\nLiebesleid\, F. Kreisler \nJavier Hernández Aguilera\nConcierto nº 2 en Re M\, W. A. Mozart \nMaría José Martín Sánchez \nAdiós a la Alhambra\, J. Monasterio \nPablo Rivero Miguel\nRomanza Andaluza\, P. Sarasate \nCarlos González Martos\nAlba Martínez Martínez\nLa esperanza de María\, A. B. Hernández
URL:https://www.triarte.net/evento/2000-h-concierto-de-violin-2/
LOCATION:Sala de Conciertos de Triarte\, Calle Corregidor Antonio de Bobadilla\, 16\, Málaga\, 29006\, España
CATEGORIES:Concierto
ATTACH;FMTTYPE=image/jpeg:https://www.triarte.net/wp-content/uploads/2023/05/WEB-21-06-2023-CONCIERTO-DE-VIOLIN-1.jpg
END:VEVENT
END:VCALENDAR