BEGIN:VCALENDAR
VERSION:2.0
PRODID:-//Triarte - Centro de estudios art&iacute;sticos - Conservatorio y escuela de m&uacute;sica, danza y teatro. - ECPv6.15.18//NONSGML v1.0//EN
CALSCALE:GREGORIAN
METHOD:PUBLISH
X-WR-CALNAME:Triarte - Centro de estudios art&iacute;sticos - Conservatorio y escuela de m&uacute;sica, danza y teatro.
X-ORIGINAL-URL:https://www.triarte.net
X-WR-CALDESC:Eventos para Triarte - Centro de estudios art&iacute;sticos - Conservatorio y escuela de m&uacute;sica, danza y teatro.
REFRESH-INTERVAL;VALUE=DURATION:PT1H
X-Robots-Tag:noindex
X-PUBLISHED-TTL:PT1H
BEGIN:VTIMEZONE
TZID:Europe/Madrid
BEGIN:DAYLIGHT
TZOFFSETFROM:+0100
TZOFFSETTO:+0200
TZNAME:CEST
DTSTART:20220327T010000
END:DAYLIGHT
BEGIN:STANDARD
TZOFFSETFROM:+0200
TZOFFSETTO:+0100
TZNAME:CET
DTSTART:20221030T010000
END:STANDARD
BEGIN:DAYLIGHT
TZOFFSETFROM:+0100
TZOFFSETTO:+0200
TZNAME:CEST
DTSTART:20230326T010000
END:DAYLIGHT
BEGIN:STANDARD
TZOFFSETFROM:+0200
TZOFFSETTO:+0100
TZNAME:CET
DTSTART:20231029T010000
END:STANDARD
BEGIN:DAYLIGHT
TZOFFSETFROM:+0100
TZOFFSETTO:+0200
TZNAME:CEST
DTSTART:20240331T010000
END:DAYLIGHT
BEGIN:STANDARD
TZOFFSETFROM:+0200
TZOFFSETTO:+0100
TZNAME:CET
DTSTART:20241027T010000
END:STANDARD
END:VTIMEZONE
BEGIN:VEVENT
DTSTART;TZID=Europe/Madrid:20230619T180000
DTEND;TZID=Europe/Madrid:20230619T190000
DTSTAMP:20260423T181304
CREATED:20230530T165849Z
LAST-MODIFIED:20230614T160033Z
UID:9173-1687197600-1687201200@www.triarte.net
SUMMARY:18:00 h | XVIII Festival de Teatro. “PRONÓSTICO RESERVADO” A cargo de los Alumnos de Taller de Teatro Juvenil
DESCRIPTION:Sinopsis:\nPaco se encuentra en coma profundo tras un accidente de bicicleta. El hospital avisa a sus allegados\, que hace tiempo le ignoran\, para que decidan su suerte a fin de evitar mantenerlo artificialmente con vida. Pero\, la decisión es difícil de tomar ya que el paciente parece no ser exactamente quien parecía ser y que guarda un secreto que podría acarrear grandes… \nActores:\nLUISA: Lucía González Pineda\nJOSEFINA: Alba Coín Bustamante\nENFERMERA: Sara de Lara Medina\nDOCTOR GRACIA y SÁNCHEZ: Enrique Gallardo Bugallo\nALBERTO: Manuel Salido Martín \nDirección: Jesús López
URL:https://www.triarte.net/evento/xviii-festival-de-teatro-pronostico-reservado-a-cargo-de-los-alumnos-de-taller-de-teatro-juvenil/
LOCATION:La Caja Blanca\, Av. del Editor Ángel Caffarena\, 8\, Málaga\, MA\, 29010
CATEGORIES:Concierto
ATTACH;FMTTYPE=image/png:https://www.triarte.net/wp-content/uploads/2023/05/02.-19-06-2023-CAJA-BLANCA-Pronostico-reservado-FESTIVAL-DE-TEATRO.png
END:VEVENT
BEGIN:VEVENT
DTSTART;TZID=Europe/Madrid:20230619T180000
DTEND;TZID=Europe/Madrid:20230619T193000
DTSTAMP:20260423T181304
CREATED:20230518T100419Z
LAST-MODIFIED:20230616T160000Z
UID:9077-1687197600-1687203000@www.triarte.net
SUMMARY:18:00 h | Concierto de Piano – Alumnos de Siliana y Maribel
DESCRIPTION:Dentro de las actividades programadas por TRIARTE\, está el realizar conciertos con los alumnos para mejorar su formación musical. \n\n\n\nEl lunes 19 de junio a las 18:00 h los alumnos de Piano de nuestra profesora Siliana Zdravkova y Maribel Sánchez de Alcázar nos ofrecerán un concierto. La entrada será libre hasta completar el aforo de nuestra sala de conciertos. \n\n\n\nPrograma\n\n\n\nVictoria Ángela Cañero LeónVals de las flores\, P. I. Tchaikovsky \nJuan Manuel Bermúdez AriasJosé La lluviaUna flor\, Escuela rusa de piano \nYanin Lozano UreñaEstudio y Canción de cuna\, E. Philippe \nDavid García RincónEstudio en Do Mayor\, A. Nikonaev \nLourdes Mira RuedaEstudio en Sol Mayor\, T. Schitte \nInmaculada Trigo SánchezEstudio\, E. Tetsel \nLuca Jesús Morales MuñozAdagio\, D. Steibelt \nMarco Antonio Morales TrigoMinueto\, L. Mozart \nRafael Luque Ruiz de MierMinueto en Sol Mayor\, J. S. Bach \nPablo Lara MendozaAdagio\, D. Steibev \nJulia Fernández PérezSonatina Op. 55 nº 1\, F. KuhlauI movimiento  \nDavid Mora OrtegaMalagueña\, I. Albéniz \nRocío Alba YahyaouiPreludio nº 4\, F. Chopin \nDarío San Emeterio EscalanteSonatina Op. 36 nº 3\, M. ClementiI movimiento  \nFernando Fernández EscaleraEstudio nº 11Estudio Op. 299 nº 27\, C. Czerny \nIrene Ambrosio LuqueSonata KV 545 Do Mayor\, W. A. MozartI movimiento \nMaría Fernández BravoCuento de hadas\, D. Kabalevski \nEmma García RincónEstudio Op.299 nº 21\, C. Czerny \nSofía López RuizSonata Op. 13\, «Patética»\, L. van BeethovenI movimiento \nRodrigo Ávila PeralesConcierto en Re Mayor\, J. Haydn
URL:https://www.triarte.net/evento/1800-h-concierto-de-piano-alumnos-de-siliana-zdravkova-2/
LOCATION:Sala de Conciertos de Triarte\, Calle Corregidor Antonio de Bobadilla\, 16\, Málaga\, 29006\, España
CATEGORIES:Concierto
ATTACH;FMTTYPE=image/jpeg:https://www.triarte.net/wp-content/uploads/2023/05/web-20-06-2023-CONCIERTO-PIANO.jpg
END:VEVENT
END:VCALENDAR