BEGIN:VCALENDAR
VERSION:2.0
PRODID:-//Triarte - Centro de estudios art&iacute;sticos - Conservatorio y escuela de m&uacute;sica, danza y teatro. - ECPv6.15.18//NONSGML v1.0//EN
CALSCALE:GREGORIAN
METHOD:PUBLISH
X-WR-CALNAME:Triarte - Centro de estudios art&iacute;sticos - Conservatorio y escuela de m&uacute;sica, danza y teatro.
X-ORIGINAL-URL:https://www.triarte.net
X-WR-CALDESC:Eventos para Triarte - Centro de estudios art&iacute;sticos - Conservatorio y escuela de m&uacute;sica, danza y teatro.
REFRESH-INTERVAL;VALUE=DURATION:PT1H
X-Robots-Tag:noindex
X-PUBLISHED-TTL:PT1H
BEGIN:VTIMEZONE
TZID:Europe/Madrid
BEGIN:DAYLIGHT
TZOFFSETFROM:+0100
TZOFFSETTO:+0200
TZNAME:CEST
DTSTART:20220327T010000
END:DAYLIGHT
BEGIN:STANDARD
TZOFFSETFROM:+0200
TZOFFSETTO:+0100
TZNAME:CET
DTSTART:20221030T010000
END:STANDARD
BEGIN:DAYLIGHT
TZOFFSETFROM:+0100
TZOFFSETTO:+0200
TZNAME:CEST
DTSTART:20230326T010000
END:DAYLIGHT
BEGIN:STANDARD
TZOFFSETFROM:+0200
TZOFFSETTO:+0100
TZNAME:CET
DTSTART:20231029T010000
END:STANDARD
BEGIN:DAYLIGHT
TZOFFSETFROM:+0100
TZOFFSETTO:+0200
TZNAME:CEST
DTSTART:20240331T010000
END:DAYLIGHT
BEGIN:STANDARD
TZOFFSETFROM:+0200
TZOFFSETTO:+0100
TZNAME:CET
DTSTART:20241027T010000
END:STANDARD
END:VTIMEZONE
BEGIN:VEVENT
DTSTART;TZID=Europe/Madrid:20230613T173000
DTEND;TZID=Europe/Madrid:20230613T190000
DTSTAMP:20260423T213653
CREATED:20230509T104346Z
LAST-MODIFIED:20230609T104040Z
UID:9048-1686677400-1686682800@www.triarte.net
SUMMARY:17:30 h | Concierto de Violín - Alumnos de Sofía Evtimova
DESCRIPTION:Dentro de las actividades programadas por TRIARTE para el Final de Curso 22/23\, está la de realizar conciertos para mejorar la formación de nuestros alumnos. \n? El martes 13 de junio a las 17:30 h los alumnos de Violín nos ofrecerán un concierto. \n? La entrada será libre hasta completar el aforo de nuestra sala de conciertos. \nPrograma\nJade Tamarit Fernández \nLuces de ciudad\, K. y D. Blackwell \nEsteban Santiago Moreno\nA París\, canción francesa \nÁlvaro Pérez del Pulgar de los Ríos \nNeblina de calor\, K. y D. Blackwell \nSira Mateos Lopera\nVa feliz\, K. y D. Blackwell \nAlma Benito Lorite\nHace mucho\, mucho tiempo\, T. H. Bayley  \nJosé Domingo Salinas Soria\nEn el surco\, K. y D. Blackwell  \nNora Gordo García\nBaile estampado\, popular checa \nBlanca Martín Abelardo\nCalypso time\, K. y D. Blackwell  \nPablo Betancourt Pérez \nCarrion crow\, K. y D. Blackwell  \nManuela Arribas de Rivas\nHora del violín\, K. y D. Blackwell  \nGonzalo López Hijosa\nMovimiento perpetuo en La M\, S. Suzuki \nÁlvaro Bolaños Serrano\nMinueto nº 1\, J. S. Bach \nMaría Moral Ruíz\nHumoresque\, A. Dvorak \nEstrella – YiXin Xu\nGavota en Re M\, J. S. Bach
URL:https://www.triarte.net/evento/130623-concierto-de-violin/
LOCATION:Sala de Conciertos de Triarte\, Calle Corregidor Antonio de Bobadilla\, 16\, Málaga\, 29006\, España
CATEGORIES:Concierto
ATTACH;FMTTYPE=image/jpeg:https://www.triarte.net/wp-content/uploads/2023/05/web-13-06-2023-CONCIERTO-DE-VIOLIN.jpg
END:VEVENT
BEGIN:VEVENT
DTSTART;TZID=Europe/Madrid:20230613T203000
DTEND;TZID=Europe/Madrid:20230613T203000
DTSTAMP:20260423T213653
CREATED:20230428T150441Z
LAST-MODIFIED:20230609T104706Z
UID:9024-1686688200-1686688200@www.triarte.net
SUMMARY:19:30 h | Concierto de Violonchelo – Alumnos de Ana Molina
DESCRIPTION:Dentro de las actividades programadas por TRIARTE para el Final de Curso 22/23\, está la de realizar conciertos para mejorar la formación de nuestros alumnos. \n? El martes 13 de junio a las 19:30 h los alumnos de Violonchelo de nuestra profesora Ana Molina nos ofrecerán un concierto. \n? La entrada será libre hasta completar el aforo de nuestra sala de conciertos. \nPrograma\nMoisés García Rivero\n(pianista acompañante: Ana Molina)\nMinuet nº 1\, J. S. Bach \nFrancisco Jurado Zambrana\nIsabel Brichette Mieg\nDúos para violonchelo Op. 49\, J. Offenbach\nNº 4: Allegro\nNº 1: Rondo \nBeatriz Corpas Garcerán\n(pianista acompañante: Natalia Sakala)\nConcierto para violonchelo y orquesta\nen Mi m Op. 85\, E. Elgar\nI Movimiento \nJoaquín Manuel Cabezas Santiago\n(pianista acompañante: Siliana Zdravkova)\nThe two Grenadiers\, R. Schumann \nMarcos Núñez Muñoz\n(pianista acompañante: Siliana Zdravkova)\nSiete canciones populares\, M. De Falla\nNº 1: El paño moruno \nMaría José Barba León\n(pianista acompañante: Siliana Zdravkova)\nAprès un rêve – Gabriel Fauré\nSerenata: “Rogando en silencio”\, Fr. Schubert \nCarlos Arrabal Romero\n(pianista acompañante: Siliana Zdravkova)\nConcierto nº 1 en La m Op. 33\, C. Saint-Saëns\nI Movimiento
URL:https://www.triarte.net/evento/1930-h-concierto-de-violonchelo-alumnos-de-ana-molina/
LOCATION:Sala de Conciertos de Triarte\, Calle Corregidor Antonio de Bobadilla\, 16\, Málaga\, 29006\, España
CATEGORIES:Concierto
ATTACH;FMTTYPE=image/jpeg:https://www.triarte.net/wp-content/uploads/2023/04/WEB-19-06-2023-CONCIERTO-DE-VIOLONCHELO.jpg
END:VEVENT
END:VCALENDAR