BEGIN:VCALENDAR
VERSION:2.0
PRODID:-//Triarte - Centro de estudios art&iacute;sticos - Conservatorio y escuela de m&uacute;sica, danza y teatro. - ECPv6.15.18//NONSGML v1.0//EN
CALSCALE:GREGORIAN
METHOD:PUBLISH
X-ORIGINAL-URL:https://www.triarte.net
X-WR-CALDESC:Eventos para Triarte - Centro de estudios art&iacute;sticos - Conservatorio y escuela de m&uacute;sica, danza y teatro.
REFRESH-INTERVAL;VALUE=DURATION:PT1H
X-Robots-Tag:noindex
X-PUBLISHED-TTL:PT1H
BEGIN:VTIMEZONE
TZID:Europe/Madrid
BEGIN:DAYLIGHT
TZOFFSETFROM:+0100
TZOFFSETTO:+0200
TZNAME:CEST
DTSTART:20220327T010000
END:DAYLIGHT
BEGIN:STANDARD
TZOFFSETFROM:+0200
TZOFFSETTO:+0100
TZNAME:CET
DTSTART:20221030T010000
END:STANDARD
BEGIN:DAYLIGHT
TZOFFSETFROM:+0100
TZOFFSETTO:+0200
TZNAME:CEST
DTSTART:20230326T010000
END:DAYLIGHT
BEGIN:STANDARD
TZOFFSETFROM:+0200
TZOFFSETTO:+0100
TZNAME:CET
DTSTART:20231029T010000
END:STANDARD
BEGIN:DAYLIGHT
TZOFFSETFROM:+0100
TZOFFSETTO:+0200
TZNAME:CEST
DTSTART:20240331T010000
END:DAYLIGHT
BEGIN:STANDARD
TZOFFSETFROM:+0200
TZOFFSETTO:+0100
TZNAME:CET
DTSTART:20241027T010000
END:STANDARD
END:VTIMEZONE
BEGIN:VEVENT
DTSTART;TZID=Europe/Madrid:20230609T203000
DTEND;TZID=Europe/Madrid:20230609T213000
DTSTAMP:20260423T200918
CREATED:20230529T143833Z
LAST-MODIFIED:20230605T150630Z
UID:9139-1686342600-1686346200@www.triarte.net
SUMMARY:20:30 h | Concierto de Canto – Alumnos de Lina Isabel García-Salcedo
DESCRIPTION:Dentro de las actividades programadas por TRIARTE\, está el realizar conciertos con los alumnos para mejorar su formación musical. \nEl viernes 9 de mayo a las 20:30 h los alumnos de Canto de nuestra profesora Lina Isabel García-Salcedo nos ofrecerán un concierto. La entrada será libre hasta completar el aforo de nuestra sala de conciertos. \nPrograma\nSofía Valle Olsen\nKarina Valle Olsen\nImagine – John Lennon \nSofía Valle Olsen\nMake you feel my love – Adele \nJorge Luque Leiva\nUntil I Found You – Stephen Sanchez / Ed Sheeran \n11 Besos – Morat \nMarta Tozer Brichette\nValerie – Amy Winehouse\nFor once in my life – Stevie Wonder
URL:https://www.triarte.net/evento/2030-h-concierto-de-canto-alumnos-lina/
LOCATION:Sala de Conciertos de Triarte\, Calle Corregidor Antonio de Bobadilla\, 16\, Málaga\, 29006\, España
CATEGORIES:Concierto
ATTACH;FMTTYPE=image/jpeg:https://www.triarte.net/wp-content/uploads/2023/05/09-06-2023-CONCIERTO-DE-CANTO.jpg
END:VEVENT
END:VCALENDAR