BEGIN:VCALENDAR
VERSION:2.0
PRODID:-//Triarte - Centro de estudios art&iacute;sticos - Conservatorio y escuela de m&uacute;sica, danza y teatro. - ECPv6.15.18//NONSGML v1.0//EN
CALSCALE:GREGORIAN
METHOD:PUBLISH
X-WR-CALNAME:Triarte - Centro de estudios art&iacute;sticos - Conservatorio y escuela de m&uacute;sica, danza y teatro.
X-ORIGINAL-URL:https://www.triarte.net
X-WR-CALDESC:Eventos para Triarte - Centro de estudios art&iacute;sticos - Conservatorio y escuela de m&uacute;sica, danza y teatro.
REFRESH-INTERVAL;VALUE=DURATION:PT1H
X-Robots-Tag:noindex
X-PUBLISHED-TTL:PT1H
BEGIN:VTIMEZONE
TZID:Europe/Madrid
BEGIN:DAYLIGHT
TZOFFSETFROM:+0100
TZOFFSETTO:+0200
TZNAME:CEST
DTSTART:20250330T010000
END:DAYLIGHT
BEGIN:STANDARD
TZOFFSETFROM:+0200
TZOFFSETTO:+0100
TZNAME:CET
DTSTART:20251026T010000
END:STANDARD
BEGIN:DAYLIGHT
TZOFFSETFROM:+0100
TZOFFSETTO:+0200
TZNAME:CEST
DTSTART:20260329T010000
END:DAYLIGHT
BEGIN:STANDARD
TZOFFSETFROM:+0200
TZOFFSETTO:+0100
TZNAME:CET
DTSTART:20261025T010000
END:STANDARD
BEGIN:DAYLIGHT
TZOFFSETFROM:+0100
TZOFFSETTO:+0200
TZNAME:CEST
DTSTART:20270328T010000
END:DAYLIGHT
BEGIN:STANDARD
TZOFFSETFROM:+0200
TZOFFSETTO:+0100
TZNAME:CET
DTSTART:20271031T010000
END:STANDARD
END:VTIMEZONE
BEGIN:VEVENT
DTSTART;TZID=Europe/Madrid:20260202T180000
DTEND;TZID=Europe/Madrid:20260202T200000
DTSTAMP:20260422T205137
CREATED:20260129T172036Z
LAST-MODIFIED:20260202T155210Z
UID:13231-1770055200-1770062400@www.triarte.net
SUMMARY:18:00 h | Concierto de Alumnos: Piano\, Violín\, Flauta y Clarinete
DESCRIPTION:Dentro de las actividades programadas por TRIARTE está la de realizar conciertos para mejorar la formación de nuestros alumnos. \nEl lunes 2 de febrero a las 18:00 h nuestro alumnado de Piano\, Violín\, Flauta y Clarinete nos ofrecerán un concierto. \nLa entrada será libre hasta completar el aforo de nuestra sala de conciertos. \nPrograma\nLidia Cádiz Zaragoza\nPiano\nBalada\, J. F. Burgmüller \nNoa López Soriano\nPiano\nSinfonía nº 13\, J. S. Bach\nRumores de la Caleta\, I. Albéniz \nEmma García Rincón\nPiano\nNocturno nº 2 Op. 9\, F. Chopin \nDavid Mora Ortega\nPiano\nSonata KV 331\, W. A. Mozart\nI. Allegro\nII. Andante \nJosé Antonio Delgado Olmo\nPiano\nSinfonía nº 15\, J. S. Bach\nEstudio nº 8 Op. 32\, A. Jensen \nLaura Villalba Jaén\nPiano\nVals nº 2 Op. 69\, F. Chopin \nRocío Alba Yahyaoui\nPiano\nSonata nº 14 Op. 27 nº 2 “Claro de luna”\, L. van Beethoven\nI. Adagio sostenuto\nEstudio Op. 32 nº 12\, A. Jensen \nCarlos González Martos\nViolín\nPartita nº 3 para violín solo\, J. S. Bach\nI. Preludio y gavota\nII. Rondó \nSara Melwani Nanwani\nPiano\nConcierto en Re M para piano y orquesta\, J. Haydn\nI. Allegro \nBruno Gómez Da Silva\nViolín\nConcierto nº 2 para violín y orquesta\, W. A. Mozart\nI. Allegro \nIrene Ambrosio Luque\nPiano\nConcierto nº 23 para piano y orquesta en La M\, W. A. Mozart\nI. Allegro \nRodrigo Ávila Perales\nPiano\nConcierto italiano\, J. S. Bach\nI. Allegro \nYiran Xu Ye\nFlauta\nConcierto nº 7 para flauta y orquesta\, F. Devienne\nI. Allegro \nIsabel Mª Ambrosio Luque\nPiano\nSonata Op. 31 nº 2 “Tempestad”\, L. van Beethoven
URL:https://www.triarte.net/evento/1830-h-concierto-de-alumnos-piano-violin-y-flauta/
CATEGORIES:Concierto
ATTACH;FMTTYPE=image/png:https://www.triarte.net/wp-content/uploads/2026/01/WEB-02-02-CONCIERTO-DE-PIANO-SILIANA-1.png
END:VEVENT
BEGIN:VEVENT
DTSTART;TZID=Europe/Madrid:20260205T200000
DTEND;TZID=Europe/Madrid:20260205T213000
DTSTAMP:20260422T205137
CREATED:20260202T171725Z
LAST-MODIFIED:20260203T194456Z
UID:13240-1770321600-1770327000@www.triarte.net
SUMMARY:20:00 h | Concierto de Alumnos: Piano y Música de Cámara
DESCRIPTION:Dentro de las actividades programadas por TRIARTE está la de realizar conciertos para mejorar la formación de nuestros alumnos. \nEl jueves 5 de febrero a las 20:00 h nuestro alumnado de Piano y Música de Cámara nos ofrecerán un concierto. Alumnos de Natalia Sakala. \nLa entrada será libre hasta completar el aforo de nuestra sala de conciertos. \nPrograma\nMarta Alcoholado Muriel \nEl cisne\, C. Saint-Saëns \nBruno Gómez Da Silva | violín\nSara Melwani Nanwani | piano\nBerceuse\, C. César  \nAntonio Vargas Sánchez de Alcázar \nJazz-waltz\, G. Sasko \nAdriana Fonollá González \nEstudio Op. 29 n° 7\, H. Bertini\nVals Op. 12 n° 2\, E. Grieg \nJulia Cortés Castillo \nSonatina Op. 20 n° 1 en Do M\, F. Kuhlau\nMov. I : Allegro \nClaudia Pardo Elvira \nEstudio Op. 29 n° 11\, H. Bertini\nRomanza sin palabras Op. 30 n° 6\, F. Mendelssohn \nJavier Vargas Sánchez de Alcázar \nEl hada y el niño\, E. Granados \nHao Zheng \nEstudio Op. 29 n° 8\, H. Bertini\nPreludio Op. 28 n° 4\, F. Chopin \nXun Xuan-Susana Gao\nEstudio Op. 299 n° 2\, C. Czerny\nEstudio Op. 299 n° 5\, C. Czerny \nJimena González Gaspar \nInvención n° 4 en Re m\, J. S. Bach\nOriental Op. 5 n° 2\, E. Granados \nIsmael Andrés Domínguez González \nNocturno Op. 9 n° 2\, F. Chopin \nRafael Reguera Domínguez \nNocturno Op. Post. en Do # m\, F. Chopin \nRafael Delgado Olmo \nEstudio Op. Post. n° 1\, F. Chopin\nSonata Op. 27 n° 2 en Do # m\, L. van Beethoven\nMov. I : Adagio sostenuto
URL:https://www.triarte.net/evento/2000-h-concierto-de-alumnos-piano-y-musica-de-camara/
LOCATION:Sala de Conciertos de Triarte\, Calle Corregidor Antonio de Bobadilla\, 16\, Málaga\, 29006\, España
CATEGORIES:Concierto
ATTACH;FMTTYPE=image/png:https://www.triarte.net/wp-content/uploads/2026/02/web-05-02-CONCIERTO-DE-NATALIA-PIANO-Y-CAMARA.png
END:VEVENT
BEGIN:VEVENT
DTSTART;TZID=Europe/Madrid:20260213T193000
DTEND;TZID=Europe/Madrid:20260213T210000
DTSTAMP:20260422T205137
CREATED:20260210T191509Z
LAST-MODIFIED:20260210T191509Z
UID:13256-1771011000-1771016400@www.triarte.net
SUMMARY:19:30 h | Concierto de Piano
DESCRIPTION:Dentro de las actividades programadas por TRIARTE está la de realizar conciertos para mejorar la formación de nuestros alumnos. \nEl viernes 13 de febrero a las 19:30 h nuestro alumnado de Piano nos ofrecerán un concierto. Alumnos de Maribel Sánchez de Alcázar y José María Cano. \nLa entrada será libre hasta completar el aforo de nuestra sala de conciertos. \nPrograma\nSalvador Rodríguez Gómez \nTormenta de Invierno\, J. S. Bastien \nPablo García de la Nava Triviño \nSonatina nº 4\, L. van Beethoven \nI. Allegro \nAna Del Río Castro \nCanción de Góndola Veneciana\, F. Mendelssohn \nCarmen Garrido Montes\nJunio\, P. I. Tchaikovsky  \nJesús Rivera Vera \nPreludio en do m op. 3 nº 2\, S. Rachmaninov \nÁlvaro Perea Fenech\nVals nº op. 69 nº 2\, F. Chopin  \nJuan Guzmán Herrera \nGranada de Suit española\, I. Albéniz  \nAna Borrego Ortiz\nVals El deseo\, L. van Beethoven \nPreludio Op. 28 nº 4\, F. Chopin  \nAlba Martínez Martínez \nFantasía en re menor\, W. A. Mozart  \nMar García Márquez \nSonata nº 8\, L. van Beethoven \nII. Adagio cantabile
URL:https://www.triarte.net/evento/1930-h-concierto-de-piano-5/
CATEGORIES:Concierto
ATTACH;FMTTYPE=image/png:https://www.triarte.net/wp-content/uploads/2026/02/WEB-13-02-CONCIERTO-DE-PIANO-MARIBEL-y-JOSE.png
END:VEVENT
END:VCALENDAR