BEGIN:VCALENDAR
VERSION:2.0
PRODID:-//Triarte - Centro de estudios art&iacute;sticos - Conservatorio y escuela de m&uacute;sica, danza y teatro. - ECPv6.15.18//NONSGML v1.0//EN
CALSCALE:GREGORIAN
METHOD:PUBLISH
X-ORIGINAL-URL:https://www.triarte.net
X-WR-CALDESC:Eventos para Triarte - Centro de estudios art&iacute;sticos - Conservatorio y escuela de m&uacute;sica, danza y teatro.
REFRESH-INTERVAL;VALUE=DURATION:PT1H
X-Robots-Tag:noindex
X-PUBLISHED-TTL:PT1H
BEGIN:VTIMEZONE
TZID:Europe/Madrid
BEGIN:DAYLIGHT
TZOFFSETFROM:+0100
TZOFFSETTO:+0200
TZNAME:CEST
DTSTART:20240331T010000
END:DAYLIGHT
BEGIN:STANDARD
TZOFFSETFROM:+0200
TZOFFSETTO:+0100
TZNAME:CET
DTSTART:20241027T010000
END:STANDARD
BEGIN:DAYLIGHT
TZOFFSETFROM:+0100
TZOFFSETTO:+0200
TZNAME:CEST
DTSTART:20250330T010000
END:DAYLIGHT
BEGIN:STANDARD
TZOFFSETFROM:+0200
TZOFFSETTO:+0100
TZNAME:CET
DTSTART:20251026T010000
END:STANDARD
BEGIN:DAYLIGHT
TZOFFSETFROM:+0100
TZOFFSETTO:+0200
TZNAME:CEST
DTSTART:20260329T010000
END:DAYLIGHT
BEGIN:STANDARD
TZOFFSETFROM:+0200
TZOFFSETTO:+0100
TZNAME:CET
DTSTART:20261025T010000
END:STANDARD
END:VTIMEZONE
BEGIN:VEVENT
DTSTART;TZID=Europe/Madrid:20251210T190000
DTEND;TZID=Europe/Madrid:20251210T203000
DTSTAMP:20260423T022019
CREATED:20251126T155718Z
LAST-MODIFIED:20251209T195503Z
UID:13069-1765393200-1765398600@www.triarte.net
SUMMARY:19:00 h | Concierto de Violín. Alumnos de Sofía Higueras y Laura Muñoz
DESCRIPTION:Como es tradición\, al final del primer trimestre nuestros alumnos participan en el Concierto de Navidad para mejorar su formación. \nEl miércoles 10 de diciembre a las 19:00 h. los alumnos de Violín de nuestras profesoras Sofía Higueras y Laura Muñoz nos ofrecerán el siguiente concierto. \nLa entrada será libre hasta completar el aforo de nuestra sala de conciertos. \nPrograma\nChiara Elena Arcella Bastidas\nMar de Coral\nEl submarino\, Stradivari \nPaola Cano Baquero\nIn the groove\, Fiddle Time Jogger \nAlejandra Ossorio Benítez\nLift off!\, Fiddle Time Jogger \nVarvara Zimahorava\nCity lights\, Fiddle Time Jogger \nFabiana Nicole Barboza Navarro\nThe three friends\, popular \nDaniel García de la Nava Triviño\nMinueto n° 3\, J. S. Bach \nOliver Soler Moreno\nNoche de paz\, popular \nJosé Domingo Salinas Soria\nMinueto en Sol\, L. van Beethoven \nVictoria Ponce Rizo\nMinueto n° 3\, J. S. Bach \nNora Gordo García\nMinuet\, J. S. Bach\nO Christmas tree\, tradicional alemana \nRafael Luque Ruiz de Mier\n12 Petits Duos faciles Op. 87 n° 5\, Ch. De Beriot
URL:https://www.triarte.net/evento/1700-h-concierto-de-violin-alumnos-de-sofia-higueras-y-laura-munoz/
LOCATION:Sala de Conciertos de Triarte\, Calle Corregidor Antonio de Bobadilla\, 16\, Málaga\, 29006\, España
CATEGORIES:Concierto
ATTACH;FMTTYPE=image/png:https://www.triarte.net/wp-content/uploads/2025/11/web-10-12-CONCIERTO-DE-VIOLIN.png
END:VEVENT
BEGIN:VEVENT
DTSTART;TZID=Europe/Madrid:20251215T193000
DTEND;TZID=Europe/Madrid:20251215T210000
DTSTAMP:20260423T022019
CREATED:20251125T172333Z
LAST-MODIFIED:20251212T203927Z
UID:13054-1765827000-1765832400@www.triarte.net
SUMMARY:19:30 h | Concierto de Piano. Alumnos de Siliana Zdravkova
DESCRIPTION:Como es tradición\, al final del primer trimestre nuestros alumnos participan en el Concierto de Navidad para mejorar su formación. \nEl lunes 15 de diciembre a las 19:30 h. los alumnos de Piano de nuestro profesor Siliana Zdravkova nos ofrecerán el siguiente concierto. \nLa entrada será libre hasta completar el aforo de nuestra sala de conciertos. \nPrograma\nSalvador Revidiego Reina\nCanción de cuna\, P. Philippe \nAlegres cascabeles\, popular \nMarina Palma Conde \nVals\, D. M. Kabalevsky \nVals de «La Bella Durmiente»\, P. I. Tchaikovsky \nJulia López Hijosa\nEstrellita\, popular\nLos peces en el río\, popular \nAlejandro Jesús Mayorga Villena \nMinueto en Sol M\, J. S. Bach \nSelina Melwani Nanwani \nDanza\, A. F. Goedike \nNakor Carballal Pérez \nEstudio 1 Op. 299\, C. Czerny \nEl jardín\, S. M. Maikapar \nLaura Rodriguez Liñán \nEstudio\, I. Berkovitz \nEstudio en Do M\, A. F. Goedike \nLuca Morales Trigo\nInvención nº 1\, J. S. Bach \nMarco Jesús Morales Trigo\nInvención nº 4\, J. S. Bach \nNoa López Soriano\nInvención nº 13\, J. S. Bach \nNoelia Gómez Marín \nVals Op. 69 nº 2\, F. Chopin\nCampana sobre Campana\, popular \nÁngel Pavón Muñoz (violín)\nRafael Luque Ruiz de Mier (piano)\nEl Cisne\, C. Saint-Saëns
URL:https://www.triarte.net/evento/1930-h-concierto-de-piano-alumnos-de-siliana-zdravkova-3/
LOCATION:Sala de Conciertos de Triarte\, Calle Corregidor Antonio de Bobadilla\, 16\, Málaga\, 29006\, España
CATEGORIES:Concierto
ATTACH;FMTTYPE=image/png:https://www.triarte.net/wp-content/uploads/2025/11/web-concierto-siliana-navidad-2025.png
END:VEVENT
BEGIN:VEVENT
DTSTART;TZID=Europe/Madrid:20251216T170000
DTEND;TZID=Europe/Madrid:20251216T183000
DTSTAMP:20260423T022019
CREATED:20251125T175834Z
LAST-MODIFIED:20251215T205208Z
UID:13056-1765904400-1765909800@www.triarte.net
SUMMARY:17:00 h | Concierto de Piano. Alumnos de Maribel Sánchez de Alcázar
DESCRIPTION:Como es tradición\, al final del primer trimestre nuestros alumnos participan en el Concierto de Navidad para mejorar su formación. \nEl martes 16 de diciembre a las 17:00 h. los alumnos de Piano de nuestro profesora Maribel Sánchez de Alcázar nos ofrecerán el siguiente concierto. \nLa entrada será libre hasta completar el aforo de nuestra sala de conciertos. \nPrograma\nÁngela Rodríguez Reyes\nNicanor dormilón\, J. S. Bastien\nEl trineo de Santa Claus\, J. S. Bastien \nAinhoa Rodríguez Reyes\nGavota\, J. S. Bastien\nEstudio de tresillos\, J. S. Bastien \nHelena Martín Abelardo\nEl pequeño pony\, Ch. Hervé\nEnsueño\, Ch. Hervé \nFrancisco José Oliva Mérida\nValentía en el Mar\, popular francesa\nNoche de Paz\, F. Grüber \nAlejandro Zambrana Alcalde\nGrupo de rock\, J. S. Bastien\nPatinando sobre hielo\, J. S. Bastien \nAbril Urquízar García\nLa marcha de los santos\, J. S. Bastien\nVals de los elefantes\, J. S. Bastien \nAdriana Vivas García\nLargo de Sinfonía del Nuevo Mundo\, A. Dvorak\nEl mercado persa\, J. Bastien \nJosé Domingo Salinas Soria\nAnde\, ande\, ande\, villancico popular. \nAna Muñoz Moya\nSonatina op. 151 nº 1\, A. Diabelli \nJia Qi Chen\nVals en re mayor\, S. Maykapar\nEstudio op. 37 nº 4\, A. Lemoine \nRodrigo Núñez Peregrín\nMinueto en Do Mayor\, W. A. Mozart \nIan Villanueva Gómez\nEstudio op. 29 nº 7\, H. Bertini\nPreludio op. 28 nº 4\, F. Chopin \nVíctor Jiménez López\nEstudio op 29 nº 15\, H. Bertini\nVals op 12 nº 2\, E. Grieg \nJavier Cañete Muñoz\nVals op. post.\, F. Chopin
URL:https://www.triarte.net/evento/1700-h-concierto-de-piano-alumnos-de-maribel-sanchez-de-alcazar-2/
CATEGORIES:Concierto
ATTACH;FMTTYPE=image/png:https://www.triarte.net/wp-content/uploads/2025/11/WEB-16-12-CONCIERTO-DE-PIANO-MARIBEL.png
END:VEVENT
BEGIN:VEVENT
DTSTART;TZID=Europe/Madrid:20251216T190000
DTEND;TZID=Europe/Madrid:20251216T200000
DTSTAMP:20260423T022019
CREATED:20251125T180353Z
LAST-MODIFIED:20251215T191356Z
UID:13058-1765911600-1765915200@www.triarte.net
SUMMARY:19:00 h | Concierto de Piano. Alumnos de Natalia Sakala y Maribel Sánchez de Alcázar
DESCRIPTION:Como es tradición\, al final del primer trimestre nuestros alumnos participan en el Concierto de Navidad para mejorar su formación. \nEl martes 16 de diciembre a las 19:00 h. los alumnos de Piano de nuestra profesora Natalia Sakala y Maribel Sánchez de Alcázar nos ofrecerán el siguiente concierto. \nLa entrada será libre hasta completar el aforo de nuestra sala de conciertos. \nPrograma\nAbel Salido López\nNavidad\, villancico popular\nLa marcha de los santos\, negro espiritual \nClaudia Pardo Elvira\nEstudio Op. 29 nº 11\, H. Bertini \nGonzalo Meléndez Rodríguez\nCumpleaños feliz\, M. J. Hill \nSofía García Fernández\nEl reloj\, J. Bastien \nJulia Naranjo Guerrero\nEn la granja de Pepín\, J. Bastien \nRubén Bataller Arcos\nDesfile\, Ch. Hervé\nLa mañana clara\, Ch. Hervé \nDarío Naranjo Guerrero\nYanki Dudel\, J. Bastien\nMi caballito\, J. Bastien \nLara Bataller Arcos\nMi perro\, J. Bastien\nCumpleaños\, J. Bastien \nJulia Ortigosa Sánchez\nCampanita\, W. A. Mozart \nDiego Rubén Domínguez González\nSusanna Mª Domínguez González\nVals del ballet «Bella durmiente»\, P. I. Tchaikovsky \nJimena Fonollá González\nAdriana Fonollá González\nAladdin\, A. Menken \nJosé Mª Reinoso Pérez\nNavegando\, A. Tchokov\nLego Diego\, canción francesa \nJimena Fonollá González\nOda a la alegría\, L. van Beethoven \nSusanna Mª Domínguez González\nEstudio Op. 82 nº 35\, C. Gurlitt\nAnde\, ande\, ande\, villancico popular \nDiego Rubén Domínguez González\nHe’s a pirate\, K. Badelt\nWe wish you a Merry Christmas\, popular inglesa \nYanxin Jin\nEstudio Op. 599\, C. Czerny\nFlores por el camino\, canción folklórica china \nYanhong-Leo Jin\nEstudio Op. 100 nº 2 «Arabesco»\, J. F. Burgmüller\nVienen los tres reyes hoy\, popular alemana \nVera González Hernández\nLa entrada de los payasos\, J. Fucik\nCampana sobre campana\, villancico popular \nMartín Cobos Rodríguez\nEl himno de los marinos\, J. Bastien\nEl artista\, S. Joplin \nAdriana Fonollá González\nChiquirriquitín\, villancico popular \nRocío Flores Silva\nBeauty and the Beast\, A. Menken\nNoche de paz\, F. Grüber \nHao Zheng\nPreludio Op. 28 nº 4\, F. Chopin \nJimena González Gaspar\nDanza española Op. 5 nº 2 «Oriental»\, E. Granados
URL:https://www.triarte.net/evento/1900-h-concierto-de-piano-alumnos-de-natalia-sakala/
LOCATION:Sala de Conciertos de Triarte\, Calle Corregidor Antonio de Bobadilla\, 16\, Málaga\, 29006\, España
CATEGORIES:Concierto
ATTACH;FMTTYPE=image/png:https://www.triarte.net/wp-content/uploads/2025/11/web-16-12-CONCIERTO-DE-PIANO-NATALIA-Y-MARIBEL.png
END:VEVENT
BEGIN:VEVENT
DTSTART;TZID=Europe/Madrid:20251217T170000
DTEND;TZID=Europe/Madrid:20251217T183000
DTSTAMP:20260423T022019
CREATED:20251125T182025Z
LAST-MODIFIED:20251216T184138Z
UID:13062-1765990800-1765996200@www.triarte.net
SUMMARY:17:00 h | Concierto de Canto. Alumnos de María Pino
DESCRIPTION:Como es tradición\, al final del primer trimestre nuestros alumnos participan en el Concierto de Navidad para mejorar su formación. \nEl miércoles 16 de diciembre a las 17:00 h. los alumnos de Canto de nuestra profesora María Piano nos ofrecerán el siguiente concierto. \nLa entrada será libre hasta completar el aforo de nuestra sala de conciertos. \nPrograma\nGloria Corpas Pastor\nSe Florindo è fedele\, A. Scarlatti\nNel cor più non mi sento\, G. Paisiello \nPaula Díaz Fernández\nHappier than ever\, Billie Ellish \nJorge Luque Leiva\nSaturno\, Pablo Alborán\n¿Cuántas penas vale tu amor?\, Walls \nMarina Salmerón Rueda\nEl mismo aire\, Camilo y Pablo Alborán\n6 de febrero\, Aitana \nZoe Montilla Buhera\nÉl no soy yo\, Blas Cantó\nSolo si es contigo\, Bombai \nJulio Bravo Pérez\nLa amapola\, José María Lacalle\nSi a veces hablo de ti\, Jose Luis Rodríguez \nYolanda Márquez Subiri\nAve María\, G. Caccini\nVissi d’arte\, G. Puccini \nLara Pérez-Muñoz Balan\nSerá breve\, Musical Wonka\nA million dream\, El gran showman
URL:https://www.triarte.net/evento/1700-h-concierto-de-canto-alumnos-de-maria-pino/
CATEGORIES:Concierto
ATTACH;FMTTYPE=image/png:https://www.triarte.net/wp-content/uploads/2025/11/web-17-12-CONCIERTO-DE-CANTO.png
END:VEVENT
BEGIN:VEVENT
DTSTART;TZID=Europe/Madrid:20251217T190000
DTEND;TZID=Europe/Madrid:20251217T203000
DTSTAMP:20260423T022019
CREATED:20251125T182848Z
LAST-MODIFIED:20251215T184627Z
UID:13064-1765998000-1766003400@www.triarte.net
SUMMARY:19:00 h | Concierto de Cuerda y Viento-Madera
DESCRIPTION:Como es tradición\, al final del primer trimestre nuestros alumnos participan en el Concierto de Navidad para mejorar su formación. \nEl miércoles 16 de diciembre a las 19:00 h. los alumnos de Cuerda y Viento-Madera nos ofrecerán el siguiente concierto. \nLa entrada será libre hasta completar el aforo de nuestra sala de conciertos. \nPrograma\nValentina Parras García flauta\nHimno de la Alegría\, L. van Beethoven\nEstrellita ¿dónde estás?\, Canción popular \nLola Jiménez Fructuoso – violín\nLeticia Fructuoso Solano – violín\nNoche de Paz\, villancico \nLeticia Fructuoso Solano – violín\nThe first Nowell\, villancico \nYewu Zeng – violín\nSalut d’Amour\, E. Elgar \nMelanie Clattenburg – violín\nConcierto nº 5\, F. Seitz  \nFamilia Clattenburg\nviolín – guitarra – violonchelo\nJingle Bells\, villancico \nMirto Jiménez Rodríguez – violonchelo \nMoon over the ruined castle\, R. Taki \nPablo Jiménez López – violonchelo\nFrench folk song\, Folk Song \nGuillermo Pardo Elvira – violonchelo\nMoon over the ruined castle\, R. Taki \nDiego Sánchez Heras – violonchelo\nLong long ago\, T. H. Bayly\nGavotte\, F. J. Gossec \nElliot Clattenburg – violonchelo\nSonata en Do mayor Op. 40 nº 1\, J. B. Bréval \nAntonio Javier González Cuenca – violonchelo\nPhoebe in her petticoat\, American \nLiisa-María Degen – violonchelo\nDúo nº 16\, T. Morley\nDúo nº 17\, R. Schumann
URL:https://www.triarte.net/evento/1900-h-concierto-de-cuerda-y-viento-madera-alumnos-de-cuerda/
CATEGORIES:Concierto
ATTACH;FMTTYPE=image/png:https://www.triarte.net/wp-content/uploads/2025/11/web-17-12-CONCIERTO-DE-CUERDA.png
ORGANIZER;CN="TRIARTE Centro de Estudios Art%C3%ADsticos":MAILTO:informacion@triarte.net
END:VEVENT
BEGIN:VEVENT
DTSTART;TZID=Europe/Madrid:20251218T183000
DTEND;TZID=Europe/Madrid:20251218T200000
DTSTAMP:20260423T022019
CREATED:20251126T162150Z
LAST-MODIFIED:20251216T164247Z
UID:13074-1766082600-1766088000@www.triarte.net
SUMMARY:18:30 h | Concierto de Iniciación a la Música. Taller Musical Preescolar.
DESCRIPTION:Como es tradición\, en Triarte celebramos el final del primer trimestre con diversos Conciertos de Navidad?. En esta ocasión\, nuestros alumnos de Iniciación a la Música nos enseñan la cara amable de la Navidad como más nos gusta: con Música. \nAsí\, el Jueves 18 de diciembre a las 18:30 h. los alumnos de Iniciación a la Música de nuestra profesora Sofía Higueras nos ofrecerán un concierto. \nPrograma\nTaller Musical Preescolar\nHola\, Hola\, ¿cómo estás?\nClaves y cajas chinas \nDanza de las hadas de azúcar del Cascanueces\nCascabeles\, ritmo\, crescendos y decrescendos \nMi burrito sabanero\nCoreografía con pulso en los pies \nJingle Bell Rock\nPulso con brazos y participación padre \n 
URL:https://www.triarte.net/evento/1830-h-concierto-de-iniciacion-a-la-musica-alumnos-de-sofia-higueras/
LOCATION:Sala de Conciertos de Triarte\, Calle Corregidor Antonio de Bobadilla\, 16\, Málaga\, 29006\, España
CATEGORIES:Concierto
ATTACH;FMTTYPE=image/png:https://www.triarte.net/wp-content/uploads/2025/11/WEB-18-12-2024-INICIACION-A-LA-MUSICA.png
END:VEVENT
BEGIN:VEVENT
DTSTART;TZID=Europe/Madrid:20251219T170000
DTEND;TZID=Europe/Madrid:20251219T183000
DTSTAMP:20260423T022019
CREATED:20251125T185312Z
LAST-MODIFIED:20251216T182009Z
UID:13066-1766163600-1766169000@www.triarte.net
SUMMARY:17:00 h | Concierto de Iniciación a la Música. Alumnos de Sofía Higueras
DESCRIPTION:Como es tradición\, en Triarte celebramos el final del primer trimestre con diversos Conciertos de Navidad?. En esta ocasión\, nuestros alumnos de Iniciación a la Música nos enseñan la cara amable de la Navidad como más nos gusta: con Música. \nAsí\, el Viernes 19 de diciembre a las 17:00 h. los alumnos de Iniciación a la Música de nuestra profesora Sofía Higueras nos ofrecerán un concierto. \nPrograma\nHola\, Hola\, ¿cómo estás?\nClaves y cajas chinas \nDanza de las hadas de azúcar del Cascanueces\nCascabeles\, ritmo\, crescendos y decrescendos \nMi burrito sabanero\nCoreografía con pulso en los pies \nJingle Bell Rock\nPulso con brazos y participación padre
URL:https://www.triarte.net/evento/1700-h-concierto-de-iniciacion-a-la-musica-alumnos-de-sofia-higueras/
CATEGORIES:Concierto
ATTACH;FMTTYPE=image/png:https://www.triarte.net/wp-content/uploads/2025/11/web-19-12-INICIACION-A-LA-MUSICA.png
END:VEVENT
BEGIN:VEVENT
DTSTART;TZID=Europe/Madrid:20251219T200000
DTEND;TZID=Europe/Madrid:20251219T213000
DTSTAMP:20260423T022019
CREATED:20251126T170855Z
LAST-MODIFIED:20251218T193309Z
UID:13079-1766174400-1766179800@www.triarte.net
SUMMARY:20:00 h | Coro y Orquesta Sinfónica Triarte – Concierto de Navidad
DESCRIPTION:El viernes 19 de diciembre a las 20:00 h. celebraremos nuestro Concierto de Navidad donde actuarán nuestra Orquesta Sinfónica\, dirigida por Helena y nuestro coro dirigido por María Pino. \nTriarte desea dar las gracias a la Parroquia de Santa María Goretti por poder celebrar este concierto. Y por otro lado desear a todas las personas que hoy nos acompañan\, la mayor felicidad para el año venidero y que la paz\, la tolerancia y la solidaridad sean posibles dentro y fuera de nuestros corazones.\n¡Feliz Navidad ! \nPrograma\nOrquesta Sinfónica Triarte\nDirectora\, Helena Martínez\nLas cuatro estaciones | A. Vivaldi\n“Invierno”\nViolín solista: Carlos González \n“Verano”\nViolín solista: Carlos González \nGabriel oboe (B.S.O. La Misión) | E. Morricone\nFlauta solista: Eva Yiran Xu \nCoro y Orquesta Sinfónica Triarte\nDirectoras\, María Pino y Helena Martínez\nHodie Christus natus est | J. Elberdin \nPopurrí de villancicos | Francisco Jurado \n  \n  \nPróximamente
URL:https://www.triarte.net/evento/2000-h-coro-y-orquesta-sinfonica-triarte-concierto-de-navidad/
CATEGORIES:Concierto
ATTACH;FMTTYPE=image/png:https://www.triarte.net/wp-content/uploads/2025/11/web-19-12-CONCIERTO-GORETTI-1.png
END:VEVENT
END:VCALENDAR