BEGIN:VCALENDAR
VERSION:2.0
PRODID:-//Triarte - Centro de estudios art&iacute;sticos - Conservatorio y escuela de m&uacute;sica, danza y teatro. - ECPv6.15.18//NONSGML v1.0//EN
CALSCALE:GREGORIAN
METHOD:PUBLISH
X-WR-CALNAME:Triarte - Centro de estudios art&iacute;sticos - Conservatorio y escuela de m&uacute;sica, danza y teatro.
X-ORIGINAL-URL:https://www.triarte.net
X-WR-CALDESC:Eventos para Triarte - Centro de estudios art&iacute;sticos - Conservatorio y escuela de m&uacute;sica, danza y teatro.
REFRESH-INTERVAL;VALUE=DURATION:PT1H
X-Robots-Tag:noindex
X-PUBLISHED-TTL:PT1H
BEGIN:VTIMEZONE
TZID:Europe/Madrid
BEGIN:DAYLIGHT
TZOFFSETFROM:+0100
TZOFFSETTO:+0200
TZNAME:CEST
DTSTART:20240331T010000
END:DAYLIGHT
BEGIN:STANDARD
TZOFFSETFROM:+0200
TZOFFSETTO:+0100
TZNAME:CET
DTSTART:20241027T010000
END:STANDARD
BEGIN:DAYLIGHT
TZOFFSETFROM:+0100
TZOFFSETTO:+0200
TZNAME:CEST
DTSTART:20250330T010000
END:DAYLIGHT
BEGIN:STANDARD
TZOFFSETFROM:+0200
TZOFFSETTO:+0100
TZNAME:CET
DTSTART:20251026T010000
END:STANDARD
BEGIN:DAYLIGHT
TZOFFSETFROM:+0100
TZOFFSETTO:+0200
TZNAME:CEST
DTSTART:20260329T010000
END:DAYLIGHT
BEGIN:STANDARD
TZOFFSETFROM:+0200
TZOFFSETTO:+0100
TZNAME:CET
DTSTART:20261025T010000
END:STANDARD
END:VTIMEZONE
BEGIN:VEVENT
DTSTART;TZID=Europe/Madrid:20250403T170000
DTEND;TZID=Europe/Madrid:20250403T190000
DTSTAMP:20260423T003005
CREATED:20250401T104020Z
LAST-MODIFIED:20250401T151844Z
UID:12342-1743699600-1743706800@www.triarte.net
SUMMARY:17:00 h. Concierto de Flauta y Música de Cámara. Alumnos de Aurora Pérez
DESCRIPTION:Dentro de las actividades programadas por TRIARTE\, está el realizar conciertos con los alumnos para mejorar su formación musical. El Jueves 3 de abril a las 17:00 h los alumnos de Flauta y Música de Cámara de nuestra profesora Aurora Pérez nos ofrecerán un concierto. \n Entrada será libre hasta completar el aforo de nuestra sala de conciertos. \nPROGRAMA\nValentina Parra García\nPor valles y montañas\, canción infantil \nVera Palenque Roa\nLa apisonadora\, canción infantil \nSuite en Si m\, J. S. Bach\nSolistas de flauta: Irene Pardo Molina\nYiran Xu\nClave: Mar García Márquez\nRodrigo Ávila Perales\nCarmen Vidal\nViola: Susana Ruiz\nViolonchelo: Ana Molina\nFlauta: Aurora Pérez \nLibertango\, A. Piazzolla\nViolín: Carlos González Martos\nClarinete: Fernando Fernández Escalera\nGuitarra: Angelo Alesi Jiménez\nPiano: Raquel López Espínola \nMar García Márquez\nIrene Pardo Molina\nSonata nº 1\, F. Devienne\nYiran Xu\nI. Allegro \nEstrella Thao Molina Samper\nConcierto en Sol M\, G. Pergolesi\nI. Allegro ma non tanto \nIrene Pardo Molina\nLa flauta de pan\, J. Mouquet\nI. Pan et les berges \nYiran Xu\nMiguel Reguera Domínguez\nDúo brillante op. 81 nº 2\, F. Kuhlau \nMario Fernández Gil\nCantabile y presto\, G. Enesco
URL:https://www.triarte.net/evento/1700-h-concierto-de-flauta-y-musica-de-camara-alumnos-de-aurora-perez/
LOCATION:Sala de Conciertos de Triarte\, Calle Corregidor Antonio de Bobadilla\, 16\, Málaga\, 29006\, España
CATEGORIES:Concierto
ATTACH;FMTTYPE=image/jpeg:https://www.triarte.net/wp-content/uploads/2025/04/WEB-03-04-CONCIERTO-DE-FLAUTA.jpg
END:VEVENT
BEGIN:VEVENT
DTSTART;TZID=Europe/Madrid:20250404T183000
DTEND;TZID=Europe/Madrid:20250404T200000
DTSTAMP:20260423T003005
CREATED:20250401T154221Z
LAST-MODIFIED:20250404T142617Z
UID:12347-1743791400-1743796800@www.triarte.net
SUMMARY:18:30 h. Concierto de Piano. Alumnos de Siliana Zdravkova
DESCRIPTION:Dentro de las actividades programadas por TRIARTE\, está el realizar conciertos con los alumnos para mejorar su formación musical. El Viernes 4 de abril a las 18:30 h los alumnos de Piano de nuestra profesora Siliana Zdravkova nos ofrecerán un concierto. \n Entrada será libre hasta completar el aforo de nuestra sala de conciertos. \nPROGRAMA\n\nFernando Fernández Escalera\nPreludio y fuga nº 2 vol. 1 «El Clave bien temperado»\, J. S. Bach\nSalvador Revidiego Reina\nLos gatitos\nEstudio en Do M\, Escuela rusa\nMarina Palma Conde\nEl pequeño cosaco\nLa canción de Pedro\, Escuela rusa\nSofía Cruz Carrasco\nEl pajarito\, Escuela rusa\nNakor Carballal Pérez\nEl pequeño cosaco\nEstudio en Do M\, E. Gnesina\nVictoria Ponce Rizo\nEstrellita\, Escuela rusa\nDominika Kireyeva\nEl pajarito\nLa grulla\, Escuela rusa\nJimena Jiménez González\nCanción de cuna\, E. Philippe\nUn millón de sueños\, BSO Gran Showman\nLaura Rodríguez Liñán\nArioso\, D. Gottlöb Türk\nAlejandro Jesús Mayorga Villena\nCanción de cuna\, E. Philippe\nEstudio en Do M\, E. Gnesina\nAna Ruiz González\nEl jardín\, S. Maikapar\nLidia Cádiz Zaragoza\nEl Candor\, J. F. F. Burgmüller\nSelina Melwani Nanwani\nEl pequeño mendigo\, J. Grechaninoff\nLuca Jesús Morales Trigo\nInvención nº 1\, J. S. Bach\nMarco Antonio Morales Trigo\nInvención nº 1\, J. S. Bach\nInmaculada Trigo Sánchez\nArmonía de Ángeles\, J. F. F. Burgmüller\nNoa López Soriano\nSonatina Op. 36 nº 2\, M. Clementi\nI. Allegro\nRafael Luque Ruiz de Mier\nLo saben mis zapatos\, Pablo López\nLaura Villalba Jaén\nInvención nº 1\, J. S. Bach\nSonatina del Verano\, A. García Abril\nÁngel Luis Fernández Mansilla\nMalagueña\, I. Albéniz\nRocío Alba Yahyaoui\nDanza de la seducción\, E. Granados\nIrene Ambrosio Luque\nImpromptu nº 3\, F. Schubert\nNoelia Gómez Marín\nVals Op. 69 nº 2\, F. Chopin\nJulia Carrero de Luis\nArabesca nº 1\, C. Debussy\nRodrigo Ávila Perales\nConcierto nº 21\, W. A. Mozart
URL:https://www.triarte.net/evento/1830-h-concierto-de-piano-alumnos-de-siliana-zdravkova-2/
LOCATION:Sala de Conciertos de Triarte\, Calle Corregidor Antonio de Bobadilla\, 16\, Málaga\, 29006\, España
CATEGORIES:Concierto
ATTACH;FMTTYPE=image/jpeg:https://www.triarte.net/wp-content/uploads/2025/04/web-04-04-CONCIERTO-DE-PIANO-SILIANA.jpg
END:VEVENT
BEGIN:VEVENT
DTSTART;TZID=Europe/Madrid:20250410T170000
DTEND;TZID=Europe/Madrid:20250410T190000
DTSTAMP:20260423T003005
CREATED:20250407T174701Z
LAST-MODIFIED:20250409T160309Z
UID:12363-1744304400-1744311600@www.triarte.net
SUMMARY:17:00 h. Concierto de Violonchelo\, Violín y Viola
DESCRIPTION:Dentro de las actividades programadas por TRIARTE\, está el realizar conciertos con los alumnos para mejorar su formación musical. El Jueves 10 de abril a las 17:00 h los alumnos de Violonchelo\, Violín y Viola nos ofrecerán un concierto. \n Entrada será libre hasta completar el aforo de nuestra sala de conciertos. \nPROGRAMA\nLola Jiménez Fructuso | violín\nOld Macdonald\, popular\n(Pianista acompañante: Susana Ruiz) \nGuillermo Pardo Elvira | violonchelo\nTiempo de Mayo\, W. A. Mozart\n(Pianista acompañante: Carmen Vidal) \nMirto Jiménez Rodríguez | violonchelo\nCoro de “Judas Maccabaeus”\, G. F. Handel\n(Pianista acompañante: Carmen Vidal) \nMelanie Clattenburg | violín\nHumoresque\, A. Dvórak\n(Pianista acompañante: Carmen Vidal) \nMoisés García Rivero | violonchelo\nScherzo\, C. Webster\n(Pianista acompañante: Carmen Vidal) \nElliot Clattenburg | violonchelo\nMinuet nº 3\, J. S. Bach\n(Pianista acompañante: Carmen Vidal) \nMaría Briones Barreiro | viola\nConcierto en Mi m Op. 35 (1º mov)\, O. Rieding\nRomance\, L. van Beethoven\n(Pianista acompañante: Carmen Vidal) \nManuel De los Santos Vázquez | viola\nConcierto en Re m (1º mov)\, A. Vivaldi\nSonata en Do M Op. 40 nº 1 (2º mov)\, A. Bréval\n(Pianista acompañante: Carmen Vidal) \nYewu Zeng | violín\nConcierto en Mi m Op. 35 (1º mov)\, O. Rieding\nSonata Op. 5 nº 8 Mi m (Giga)\, A. Corelli\n(Pianista acompañante: Carmen Vidal) \nHugo Macías Vallejo | violonchelo\nSonata Op. 26 nº 5\, J. B. Boismortier\n(Pianista acompañante: Ana Molina)\nEl Cisne\, C. Saint-Saëns\n(Pianista acompañante: Carmen Vidal) \nAndrea Ruiz Alcarazo | violín\nViolin Concertino in the Style of Mozart\, H. Millies\nAndante \nAndy Hu | violín\nConcierto Op. 22 en Re M (1º mov)\, F. Seitz\n(Pianista acompañante: Siliana Zdravkova) \nAna Díaz Ramírez | violín\nThe Infant Paganini\, E. Mollenhauer\n(Pianista acompañante: Siliana Zdravkova) \nBeatriz Corpas Garcerán | violonchelo\nSuite nº 3 en Do M (Preludio)\, J. S. Bach\nConcierto en Do M (1º mov)\, F. J. Haydn\n(Pianista acompañante: Carmen Vidal)
URL:https://www.triarte.net/evento/1700-h-concierto-de-violonchelo-violin-y-viola/
LOCATION:Sala de Conciertos de Triarte\, Calle Corregidor Antonio de Bobadilla\, 16\, Málaga\, 29006\, España
CATEGORIES:Concierto
ATTACH;FMTTYPE=image/jpeg:https://www.triarte.net/wp-content/uploads/2025/04/WEB-10-04-CONCIERTO-DE-CHELO-y-VIOLA.jpg
END:VEVENT
BEGIN:VEVENT
DTSTART;TZID=Europe/Madrid:20250429T210000
DTEND;TZID=Europe/Madrid:20250429T220000
DTSTAMP:20260423T003005
CREATED:20250422T184545Z
LAST-MODIFIED:20250429T161344Z
UID:12381-1745960400-1745964000@www.triarte.net
SUMMARY:21:00 h. Concierto de Música de Cámara y Conjunto de Guitarra
DESCRIPTION:Dentro de las actividades programadas por TRIARTE\, está el realizar conciertos con los alumnos para mejorar su formación musical. El martes 29 de abril a las 21:00 h los alumnos de Música de Cámara y Conjunto de Guitarra de nuestro profesor Pedro Reina nos ofrecerán un concierto. \n Entrada será libre hasta completar el aforo de nuestra sala de conciertos. \nPROGRAMA\nDaniel Luque Quirós\, guitarra\nIrene Ambrosio Luque\, piano\nRocío Alba Yahyaoui\, piano\nAllegro para Guitarra y Piano Op. 11\, F. Carulli \nGabriel Uroz Rojas\, guitarra\nJuan Guzmán Herrera\, piano\nBolero Op. 39\, J. Ferrer \nIrene Ambrosio Luque\, piano\nRocío Alba Yahyaoui\, piano\nSonatina nº 1 Op. 3\, C. M. von Weber \nDaniel Luque Quirós\, guitarra\nPedro Reina Yáñez\, guitarra\nAdagio BWV 156\, J. S. Bach\nNatita Mazurca\, J. Alais \nAngelo Alesi Jiménez\, guitarra\nDaniel Luque Quirós\, guitarra\nGabriel Uroz Rojas\, guitarra\nPedro Reina Yáñez\, guitarra\nCanon\, J. Pachelbel\nJazz Suite nº 2\, D. Shostakovich \nGabriel Uroz Rojas\, guitarra\nPedro Reina Yáñez\, guitarra\nJuan Guzmán Herrera\, piano\nRubén Fernández Siles\, percusión\nMilonga\, J. Cardoso
URL:https://www.triarte.net/evento/2100-h-concierto-de-musica-de-camara-y-conjunto-de-guitarra/
LOCATION:Sala de Conciertos de Triarte\, Calle Corregidor Antonio de Bobadilla\, 16\, Málaga\, 29006\, España
CATEGORIES:Concierto
ATTACH;FMTTYPE=image/jpeg:https://www.triarte.net/wp-content/uploads/2025/04/web-29-04-CONCIERTO-DE-CONJUNTO-Y-CAMARA-PEDRO-1.jpg
END:VEVENT
END:VCALENDAR