BEGIN:VCALENDAR
VERSION:2.0
PRODID:-//Triarte - Centro de estudios art&iacute;sticos - Conservatorio y escuela de m&uacute;sica, danza y teatro. - ECPv6.15.18//NONSGML v1.0//EN
CALSCALE:GREGORIAN
METHOD:PUBLISH
X-WR-CALNAME:Triarte - Centro de estudios art&iacute;sticos - Conservatorio y escuela de m&uacute;sica, danza y teatro.
X-ORIGINAL-URL:https://www.triarte.net
X-WR-CALDESC:Eventos para Triarte - Centro de estudios art&iacute;sticos - Conservatorio y escuela de m&uacute;sica, danza y teatro.
REFRESH-INTERVAL;VALUE=DURATION:PT1H
X-Robots-Tag:noindex
X-PUBLISHED-TTL:PT1H
BEGIN:VTIMEZONE
TZID:Europe/Madrid
BEGIN:DAYLIGHT
TZOFFSETFROM:+0100
TZOFFSETTO:+0200
TZNAME:CEST
DTSTART:20240331T010000
END:DAYLIGHT
BEGIN:STANDARD
TZOFFSETFROM:+0200
TZOFFSETTO:+0100
TZNAME:CET
DTSTART:20241027T010000
END:STANDARD
BEGIN:DAYLIGHT
TZOFFSETFROM:+0100
TZOFFSETTO:+0200
TZNAME:CEST
DTSTART:20250330T010000
END:DAYLIGHT
BEGIN:STANDARD
TZOFFSETFROM:+0200
TZOFFSETTO:+0100
TZNAME:CET
DTSTART:20251026T010000
END:STANDARD
BEGIN:DAYLIGHT
TZOFFSETFROM:+0100
TZOFFSETTO:+0200
TZNAME:CEST
DTSTART:20260329T010000
END:DAYLIGHT
BEGIN:STANDARD
TZOFFSETFROM:+0200
TZOFFSETTO:+0100
TZNAME:CET
DTSTART:20261025T010000
END:STANDARD
END:VTIMEZONE
BEGIN:VEVENT
DTSTART;TZID=Europe/Madrid:20250129T193000
DTEND;TZID=Europe/Madrid:20250129T210000
DTSTAMP:20260422T153337
CREATED:20250124T161024Z
LAST-MODIFIED:20250207T091602Z
UID:10680-1738179000-1738184400@www.triarte.net
SUMMARY:19:30 h. Concierto de Canto. Alumnos de Ruth García
DESCRIPTION:Dentro de las actividades programadas por TRIARTE\, está el realizar conciertos con los alumnos para mejorar su formación musical. El Miércoles 29 de enero a las 19:30 h los alumnos de Canto de nuestra profesora Ruth García nos ofrecerán un concierto. La entrada será libre hasta completar el aforo de nuestra sala de conciertos. \nPROGRAMA\nAbril Urquízar García\nUn barquito de cáscara de nuez\,\nFrancisco Gabilondo Soler (Cri-Cri) \nZoe Montilla Buhera\nQué hay más allá\, María Parrado (BSO Vaiana)\n¡Corre!\, Jesse & Joy \nLara Pérez-Muñoz Balan\nHallelujah\, Leonard Cohen\nAve María\, G. Caccini \nJulio Bravo Pérez\nUna furtiva lagrima\, G. Donizetti\nPieta Signore\, A Stradella \nYolanda Márquez Subiri\nPie Jesu\, ALl. Webber\nCaro mío ben\, T. Giordani \nPaula Díaz Fernández\nYour Power\, Billie Eilish\nTeenage dream\, Olivia Rodrigo \nJorge Luque Leiva\nHacerte feliz\, Jorge Luque Leiva\nHaz lo que quieras conmigo\, Walls \nAitana Welter Ruiz\nLa puerta violeta\, Rozalén\nAll I ask\, Adele
URL:https://www.triarte.net/evento/1930-h-concierto-de-canto-alumnos-de-ruth-garcia-2/
CATEGORIES:Concierto
ATTACH;FMTTYPE=image/jpeg:https://www.triarte.net/wp-content/uploads/2025/01/web-27-de-junio-canto.jpg
END:VEVENT
END:VCALENDAR