BEGIN:VCALENDAR
VERSION:2.0
PRODID:-//Triarte - Centro de estudios art&iacute;sticos - Conservatorio y escuela de m&uacute;sica, danza y teatro. - ECPv6.15.18//NONSGML v1.0//EN
CALSCALE:GREGORIAN
METHOD:PUBLISH
X-WR-CALNAME:Triarte - Centro de estudios art&iacute;sticos - Conservatorio y escuela de m&uacute;sica, danza y teatro.
X-ORIGINAL-URL:https://www.triarte.net
X-WR-CALDESC:Eventos para Triarte - Centro de estudios art&iacute;sticos - Conservatorio y escuela de m&uacute;sica, danza y teatro.
REFRESH-INTERVAL;VALUE=DURATION:PT1H
X-Robots-Tag:noindex
X-PUBLISHED-TTL:PT1H
BEGIN:VTIMEZONE
TZID:Europe/Madrid
BEGIN:DAYLIGHT
TZOFFSETFROM:+0100
TZOFFSETTO:+0200
TZNAME:CEST
DTSTART:20230326T010000
END:DAYLIGHT
BEGIN:STANDARD
TZOFFSETFROM:+0200
TZOFFSETTO:+0100
TZNAME:CET
DTSTART:20231029T010000
END:STANDARD
BEGIN:DAYLIGHT
TZOFFSETFROM:+0100
TZOFFSETTO:+0200
TZNAME:CEST
DTSTART:20240331T010000
END:DAYLIGHT
BEGIN:STANDARD
TZOFFSETFROM:+0200
TZOFFSETTO:+0100
TZNAME:CET
DTSTART:20241027T010000
END:STANDARD
BEGIN:DAYLIGHT
TZOFFSETFROM:+0100
TZOFFSETTO:+0200
TZNAME:CEST
DTSTART:20250330T010000
END:DAYLIGHT
BEGIN:STANDARD
TZOFFSETFROM:+0200
TZOFFSETTO:+0100
TZNAME:CET
DTSTART:20251026T010000
END:STANDARD
END:VTIMEZONE
BEGIN:VEVENT
DTSTART;TZID=Europe/Madrid:20241122T183000
DTEND;TZID=Europe/Madrid:20241122T200000
DTSTAMP:20260422T153330
CREATED:20241112T090002Z
LAST-MODIFIED:20241122T100417Z
UID:10480-1732300200-1732305600@www.triarte.net
SUMMARY:Concierto de Santa Cecilia 2024 | Día de la Música
DESCRIPTION:Como es tradición\, TRIARTE – Centro de Estudios Artísticos da la bienvenida al curso con la celebración del Concierto Santa Cecilia\, patrona de la Música\, efeméride que se conmemora el 22 de noviembre\, coincidiendo con el Día de la Música. \nEn esta ocasión nuestros alumnos nos ofrecerán una muestra de lo que llevan trabajado desde principio de curso\, interpretando piezas musicales y haciéndonos disfrutar de un día de fiesta para todos los músicos. \nEntrada libre y gratuita hasta completar aforo. \nPROGRAMA\nMarina Palma Conde – piano\nEstrellita\, villancico popular\nPablo Jiménez López – violonchelo\nCampanas lejanas\, K. D. Blackwell\nJimena Fonollá González – piano\nVoy a jugar\, A. Tchokov\nEl lago de los cisnes\, arr. A. Tchokov\nSalvador Revidiego Reina – piano\nLas nubes\, J. S. Bastien\nEl carnaval\, J. S. Bastien\nMelanie Clattenburg – violín\nElliot Clattenburg – violonchelo\nGreensleeves\, Canción tradicional inglesa\nSusanna Mª Domínguez González – piano\nAlouette\, popular francesa\nGonzalo Paz Mena – piano\nAladdin\, A.Menken\nNora Gordo García – violín\nHace mucho\, mucho tiempo\, T. H. Bayly\nRemedios Castillo Zamora – piano\nEl Candor\, J. Burgmüller\nVictoria Ponce Rizo – violín\nCanción de mayo\, canción popular\nVíctor Pico Molins – guitarra\nTema\, I. Albéniz\nMalagueña\, popular\nBelinda Zhou – piano\nEstudio op. 599 nº 19\, C. Czerny\nEmilio – Ziyi Xu – saxofón\nBaghira\, F. Ferrán\nLola Jiménez Fructuoso – violín\nCopycat blues\, K. D. Blackwell\nAlba Rodríguez Jiménez – clarinete\nConcertino Op. 26\, C. M. Weber
URL:https://www.triarte.net/evento/concierto-de-santa-cecilia-2024-dia-de-la-musica/
LOCATION:Sala de Conciertos de Triarte\, Calle Corregidor Antonio de Bobadilla\, 16\, Málaga\, 29006\, España
CATEGORIES:Concierto
ATTACH;FMTTYPE=image/png:https://www.triarte.net/wp-content/uploads/2024/11/WEB-22-11-2024-SANTA-CECILIA-2024.png
END:VEVENT
END:VCALENDAR