BEGIN:VCALENDAR
VERSION:2.0
PRODID:-//Triarte - Centro de estudios art&iacute;sticos - Conservatorio y escuela de m&uacute;sica, danza y teatro. - ECPv6.15.18//NONSGML v1.0//EN
CALSCALE:GREGORIAN
METHOD:PUBLISH
X-WR-CALNAME:Triarte - Centro de estudios art&iacute;sticos - Conservatorio y escuela de m&uacute;sica, danza y teatro.
X-ORIGINAL-URL:https://www.triarte.net
X-WR-CALDESC:Eventos para Triarte - Centro de estudios art&iacute;sticos - Conservatorio y escuela de m&uacute;sica, danza y teatro.
REFRESH-INTERVAL;VALUE=DURATION:PT1H
X-Robots-Tag:noindex
X-PUBLISHED-TTL:PT1H
BEGIN:VTIMEZONE
TZID:Europe/Madrid
BEGIN:DAYLIGHT
TZOFFSETFROM:+0100
TZOFFSETTO:+0200
TZNAME:CEST
DTSTART:20230326T010000
END:DAYLIGHT
BEGIN:STANDARD
TZOFFSETFROM:+0200
TZOFFSETTO:+0100
TZNAME:CET
DTSTART:20231029T010000
END:STANDARD
BEGIN:DAYLIGHT
TZOFFSETFROM:+0100
TZOFFSETTO:+0200
TZNAME:CEST
DTSTART:20240331T010000
END:DAYLIGHT
BEGIN:STANDARD
TZOFFSETFROM:+0200
TZOFFSETTO:+0100
TZNAME:CET
DTSTART:20241027T010000
END:STANDARD
BEGIN:DAYLIGHT
TZOFFSETFROM:+0100
TZOFFSETTO:+0200
TZNAME:CEST
DTSTART:20250330T010000
END:DAYLIGHT
BEGIN:STANDARD
TZOFFSETFROM:+0200
TZOFFSETTO:+0100
TZNAME:CET
DTSTART:20251026T010000
END:STANDARD
END:VTIMEZONE
BEGIN:VEVENT
DTSTART;TZID=Europe/Madrid:20240409T170000
DTEND;TZID=Europe/Madrid:20240409T183000
DTSTAMP:20260422T184919
CREATED:20240404T172325Z
LAST-MODIFIED:20240408T160532Z
UID:9838-1712682000-1712687400@www.triarte.net
SUMMARY:17:00 h. Concierto de Guitarra
DESCRIPTION:Dentro de las actividades programadas por TRIARTE\, está el realizar conciertos con los alumnos para mejorar su formación musical. El Martes 9 de abril a las 17:00 h los alumnos de Guitarra de nuestro centro nos ofrecerán un concierto. La entrada será libre hasta completar el aforo de nuestra sala de conciertos. \nPROGRAMA\nClaudia Rico Jiménez\nPequeña marcha (dúo)\, J. A. Muro\nEl flautista (dúo)\, J. A. Muro \nErik Rodríguez Gómez\nRima (dúo)\, J. A. Muro\nLa cajita de música (dúo)\, J. A. Muro \nElena Pardo Elvira\nCanción de trovador\, J. A. Muro\nDivertimento\, A. Cano \nIrene Machota Monje\nLa gallina (dúo)\, J. A. Muro\nNubes (dúo)\, J. A. Muro \nJosé Luis Pérez-Cervantes Galisteo\nEl cucú (dúo)\, J. A. Muro\nLa llamada del cazador (dúo)\, J. A. Muro\nMalagueña\, Popular \nCarlos Cortés Benítez\nOda a la alegría (dúo)\, L. van Beethoven\nHimno de Andalucía\, Blas Infante \nVíctor Pico Molins\nLa Anémona azul\, J. A. Muro\nEl cucú\, J. A. Muro\nAquarium\, J. A. Muro \nRocío Vega Carmona\nBranle de poitou\, A. Le Roy\nVals en Mi menor\, B. Calatayud \nÁngel Aguilera Casado\nMinueto a dos voces\, J. Krieger\nBulería\, B. Calatayud \nJimena González Gaspar\nEstudio simple I\, L. Brouwer\nEstudio en Mi menor\, F. Tárrega \nRodrigo Aparici Chaves\nCanción infantil (dúo)\, J. A. Muro\nVals de primavera (dúo)\, J. A. Muro\nCuento antiguo\, J. A. Muro
URL:https://www.triarte.net/evento/1700-h-concierto-de-guitarra/
LOCATION:Sala de Conciertos de Triarte\, Calle Corregidor Antonio de Bobadilla\, 16\, Málaga\, 29006\, España
CATEGORIES:Concierto
ATTACH;FMTTYPE=image/png:https://www.triarte.net/wp-content/uploads/2024/04/web-09-04-2024-CONCIERTO-DE-GUITARRA.png
END:VEVENT
BEGIN:VEVENT
DTSTART;TZID=Europe/Madrid:20240416T183000
DTEND;TZID=Europe/Madrid:20240416T200000
DTSTAMP:20260422T184919
CREATED:20240409T180845Z
LAST-MODIFIED:20240416T085513Z
UID:9862-1713292200-1713297600@www.triarte.net
SUMMARY:18:30 h. Concierto de Piano. Alumnos de Lucía Muñoz
DESCRIPTION:Dentro de las actividades programadas por TRIARTE\, está el realizar conciertos con los alumnos para mejorar su formación musical. El Martes 16 de abril a las 18:30 h los alumnos de Piano de nuestra profesora Lucía Muñoz nos ofrecerán un concierto. La entrada será libre hasta completar el aforo de nuestra sala de conciertos.\nPROGRAMA\n\nPROGRAMA\n \n\nJimena Fonollá González\nAlegre San Nicolás\, J. Bastien\nMalena Lanzas Delgado\nCorre ratón corre\, J. Bastien\nVals de los elefantes\, J. Bastien\nMartina Chamizo Ariza\nMarcha de los soldaditos de plomo\, E. Fernández\nAntonio Partearroyo García\nLos fantasmas\, G. Iturriaga\nRemedios Castillo Zamora\nLa Tierra\, R. Castillo\nCanción oriental\, G. Iturriaga\nXiaxuan Song\nLa entrada de los payasos\, J. Bastien\nSergio Lanzas Oleas\nTarantella\, J. Bastien\nYixi-Luna Lin\nMinueto\, C. Petzold\nPaula Silva Jaimes\nCelebración invernal\, J. Bastien\nHao Zheng\nMinueto II\, C. Petzold\nMaría Sierra Prieto\nÉcossaige in G\, L. van Beethoven\nSonatina\, J. Bastien\nSofía Ponce Rizo\nCelebration march\, J. Bastien
URL:https://www.triarte.net/evento/1830-h-concierto-de-piano-alumnos-de-lucia-munoz/
LOCATION:Sala de Conciertos de Triarte\, Calle Corregidor Antonio de Bobadilla\, 16\, Málaga\, 29006\, España
CATEGORIES:Concierto
ATTACH;FMTTYPE=image/png:https://www.triarte.net/wp-content/uploads/2024/04/16-04-2024-CONCIERTO-DE-PIANO.png
END:VEVENT
BEGIN:VEVENT
DTSTART;TZID=Europe/Madrid:20240426T203000
DTEND;TZID=Europe/Madrid:20240426T230000
DTSTAMP:20260422T184919
CREATED:20240419T152700Z
LAST-MODIFIED:20240424T172818Z
UID:9902-1714163400-1714172400@www.triarte.net
SUMMARY:20:30 h. Festival Clásico. Alumnos de Música de Cámara
DESCRIPTION:Dentro de las actividades programadas por TRIARTE\, está el realizar conciertos con los alumnos para mejorar su formación musical. \n\n\n\nEl Viernes 26 de abril a las 20:30 h los alumnos de Música de Cámara de nuestras profesoras Ana Molina y Carmen Vidal nos ofrecerán un concierto. La entrada será libre hasta completar el aforo de nuestra sala de conciertos. \n\n\n\n\nPROGRAMA\n\n\n\nCarlos Arrabal Romero | VioloncheloPreludio de la Suite III en Do M BWV 1009\, J. S. BachEstudio nº 10 Op. 73\, D. PopperRobert Stefan Pereanu Caraion | GuitarraSonata Op. 15\, F. SorCarlos Arrabal Romero | VioloncheloRobert Stefan Pereanu Caraion | GuitarraSonata para guitarra y violonchelo nº 1\, R. GnattaliIsabel María Ambrosio Luque | PianoJavier Hernández Aguilera | ViolínMaría José Martín Sánchez | ViolínSalut d’amour Op. 12\, E. ElgarElba María Varela Miguel | SaxofónBeatriz Corpas Garcerán | VioloncheloCarmen Vidal Travado | Piano8 piezas Op. 83 nº 3\, M. Bruch
URL:https://www.triarte.net/evento/2030-h-festival-clasico-alumnos-de-musica-de-camara/
LOCATION:Sala de Conciertos de Triarte\, Calle Corregidor Antonio de Bobadilla\, 16\, Málaga\, 29006\, España
CATEGORIES:Concierto
ATTACH;FMTTYPE=image/png:https://www.triarte.net/wp-content/uploads/2024/04/26-04-2023-20_30_FESTIVAL-CLASICO.png
END:VEVENT
END:VCALENDAR