BEGIN:VCALENDAR
VERSION:2.0
PRODID:-//Triarte - Centro de estudios art&iacute;sticos - Conservatorio y escuela de m&uacute;sica, danza y teatro. - ECPv6.15.18//NONSGML v1.0//EN
CALSCALE:GREGORIAN
METHOD:PUBLISH
X-ORIGINAL-URL:https://www.triarte.net
X-WR-CALDESC:Eventos para Triarte - Centro de estudios art&iacute;sticos - Conservatorio y escuela de m&uacute;sica, danza y teatro.
REFRESH-INTERVAL;VALUE=DURATION:PT1H
X-Robots-Tag:noindex
X-PUBLISHED-TTL:PT1H
BEGIN:VTIMEZONE
TZID:Europe/Madrid
BEGIN:DAYLIGHT
TZOFFSETFROM:+0100
TZOFFSETTO:+0200
TZNAME:CEST
DTSTART:20230326T010000
END:DAYLIGHT
BEGIN:STANDARD
TZOFFSETFROM:+0200
TZOFFSETTO:+0100
TZNAME:CET
DTSTART:20231029T010000
END:STANDARD
BEGIN:DAYLIGHT
TZOFFSETFROM:+0100
TZOFFSETTO:+0200
TZNAME:CEST
DTSTART:20240331T010000
END:DAYLIGHT
BEGIN:STANDARD
TZOFFSETFROM:+0200
TZOFFSETTO:+0100
TZNAME:CET
DTSTART:20241027T010000
END:STANDARD
BEGIN:DAYLIGHT
TZOFFSETFROM:+0100
TZOFFSETTO:+0200
TZNAME:CEST
DTSTART:20250330T010000
END:DAYLIGHT
BEGIN:STANDARD
TZOFFSETFROM:+0200
TZOFFSETTO:+0100
TZNAME:CET
DTSTART:20251026T010000
END:STANDARD
END:VTIMEZONE
BEGIN:VEVENT
DTSTART;TZID=Europe/Madrid:20240207T193000
DTEND;TZID=Europe/Madrid:20240207T210000
DTSTAMP:20260423T020049
CREATED:20240201T224911Z
LAST-MODIFIED:20240203T100058Z
UID:9670-1707334200-1707339600@www.triarte.net
SUMMARY:19:30 h. Concierto de Violonchelo
DESCRIPTION:Dentro de las actividades programadas por TRIARTE\, está el realizar conciertos con los alumnos para mejorar su formación musical. El Miércoles 7 de febrero a las 19:30 h los alumnos de Violonchelo de nuestra profesora Ana Molina nos ofrecerán un concierto. La entrada será libre hasta completar el aforo de nuestra sala de conciertos. \nPROGRAMA\n\nMoisés García Rivero Minueto nº 3\, J. S. Bach (Violonchelo acompañante: Ana Molina) \n\n\n\nMaría José Barba León Melodía\, M. de Falla \n\n\n\nIsabel Brichette Mieg Canción de Primavera\, F. Bridge \n\n\n\nSoledad Felipe Reyes Meditación de “Thaïs”\, J. Massenet \n\n\n\nBeatriz Corpas Garcerán Sonata en Mi m Op. 38\, J. Brahms I. Allegro non troppo \n\n\n\nCarlos Arrabal Romero Concierto nº 1 en La m Op. 33\, C. Saint-Saëns I. Movimiento
URL:https://www.triarte.net/evento/1930-h-concierto-de-violonchelo-2/
CATEGORIES:Concierto
ATTACH;FMTTYPE=image/png:https://www.triarte.net/wp-content/uploads/2024/02/07-02-2024-Concierto-de-Violonchelo.png
END:VEVENT
BEGIN:VEVENT
DTSTART;TZID=Europe/Madrid:20240212T193000
DTEND;TZID=Europe/Madrid:20240212T213000
DTSTAMP:20260423T020049
CREATED:20240205T215543Z
LAST-MODIFIED:20240205T215543Z
UID:9682-1707766200-1707773400@www.triarte.net
SUMMARY:19:30 h. Concierto de Violín
DESCRIPTION:Dentro de las actividades programadas por TRIARTE\, está el realizar conciertos con los alumnos para mejorar su formación musical. El Lunes 12 de febrero a las 19:30 h los alumnos de Violín de nuestra profesora Fátima Fernández nos ofrecerán un concierto. La entrada será libre hasta completar el aforo de nuestra sala de conciertos.
URL:https://www.triarte.net/evento/1930-h-concierto-de-violin/
LOCATION:Sala de Conciertos de Triarte\, Calle Corregidor Antonio de Bobadilla\, 16\, Málaga\, 29006\, España
CATEGORIES:Concierto
ATTACH;FMTTYPE=image/png:https://www.triarte.net/wp-content/uploads/2024/02/web-12-02-2024-Concierto-de-Violin.png
END:VEVENT
BEGIN:VEVENT
DTSTART;TZID=Europe/Madrid:20240216T203000
DTEND;TZID=Europe/Madrid:20240216T220000
DTSTAMP:20260423T020049
CREATED:20240203T100236Z
LAST-MODIFIED:20240218T183540Z
UID:9677-1708115400-1708120800@www.triarte.net
SUMMARY:20:30 h. Concierto de Piano. Alumnos de EEPP
DESCRIPTION:Dentro de las actividades programadas por TRIARTE\, está el realizar conciertos con los alumnos para mejorar su formación musical. El Viernes 16 de febrero a las 20:30 h los alumnos de Piano de nuestra profesora Maribel Sánchez de Alcázar nos ofrecerán un concierto. La entrada será libre hasta completar el aforo de nuestra sala de conciertos. \n\n 
URL:https://www.triarte.net/evento/2030-h-concierto-de-piano-alumnos-de-eepp/
LOCATION:Sala de Conciertos de Triarte\, Calle Corregidor Antonio de Bobadilla\, 16\, Málaga\, 29006\, España
CATEGORIES:Concierto
ATTACH;FMTTYPE=image/png:https://www.triarte.net/wp-content/uploads/2024/02/WEB-16-02-2024-Concierto-de-Piano.png
END:VEVENT
BEGIN:VEVENT
DTSTART;TZID=Europe/Madrid:20240220T173000
DTEND;TZID=Europe/Madrid:20240220T193000
DTSTAMP:20260423T020049
CREATED:20240218T183836Z
LAST-MODIFIED:20240218T183836Z
UID:9690-1708450200-1708457400@www.triarte.net
SUMMARY:17:30 h. Concierto de Piano. Alumnos de EEPP
DESCRIPTION:Dentro de las actividades programadas por TRIARTE\, está el realizar conciertos con los alumnos para mejorar su formación musical. El Martes 20 de febrero a las 17:30 h los alumnos de Piano de nuestra profesora Carmen Vidal nos ofrecerán un concierto. La entrada será libre hasta completar el aforo de nuestra sala de conciertos. \nPROGRAMA\nRafael Delgado Olmo\nSonatina Op. 36 nº 6\, M. Clementi\nCarmen Garrido Montes\nSonatina Op. 36 nº 4\, M. Clementi\nEstudio Op. 109 nº 5\, J. F. Burgmuller \nHéctor Caballero Romero\nSonata Op. 49 nº 2\, L. van Beethoven\nElia Sánchez Vallejo\nInvención nº 8\, J. S. Bach\nRaquel López Espinola\nSonata Op. 27 nº 2\, L. van Beethoven \nEva-Yiran Xu\nEstudio Op. 10 nº 12\, F. Chopin
URL:https://www.triarte.net/evento/1730-h-concierto-de-piano-alumnos-de-eepp/
LOCATION:Sala de Conciertos de Triarte\, Calle Corregidor Antonio de Bobadilla\, 16\, Málaga\, 29006\, España
CATEGORIES:Concierto
ATTACH;FMTTYPE=image/png:https://www.triarte.net/wp-content/uploads/2024/02/web-20-02-2024-Concierto-de-Piano.png
END:VEVENT
BEGIN:VEVENT
DTSTART;TZID=Europe/Madrid:20240220T200000
DTEND;TZID=Europe/Madrid:20240220T213000
DTSTAMP:20260423T020049
CREATED:20240219T155726Z
LAST-MODIFIED:20240219T155726Z
UID:9701-1708459200-1708464600@www.triarte.net
SUMMARY:20:00 h. Concierto de Clarinete y Música de Cámara
DESCRIPTION:Dentro de las actividades programadas por TRIARTE\, está el realizar conciertos con los alumnos para mejorar su formación musical. \nEl Martes 20 de febrero a las 20:00 h los alumnos de Clarinete y Música de Cámara de nuestro profesor José A. Lupíañez  nos ofrecerán un concierto. La entrada será libre hasta completar el aforo de nuestra sala de conciertos. \nPROGRAMA\nSofía Ortiz Curtis\nJosé A. Lupiáñez Peláez\nDuetto 1 para clarinete y flauta Op. 46\, K. Kummer\nAllegro\nAndante poco adagio\nAllegreto con moto \nEva-Yiran Xu\nEma-Yitong Xu\nAlba Martínez Martínez\nJewish Vintage\, K. Schoonenbeek\nHiné ma tov\nLos Bilbilicos\nYo m’enamori d’un aire\nDurme durme\nChasom Kala mazel tov \nAlba Rodríguez Jiménez\nJose A. Lupiáñez Peláez\nI duo Concertante para dos clarinetes\, J. Lefevre\nAllegro moderato \nAntonio Vargas Sánchez de Alcázar\nMélodie\, X. Lefévre \nFernando Fernández Escalera\nConcertino\, G. Tartini\nI. Grave\nII. Allegro Molto\nIII. Adagio \nAlba Rodríguez Jiménez\nFantasiestücke Op. 73\, R. Schumann\nI. Zart und mit Ausdruck\nII. Lebhaft\, leicht \nEma-Yitong Xu\nI Concierto para clarinete y orquesta en F m\, Op. 73\, C. M. von Weber\nI. Allegro Moderato \nDarío Carrasco Jiménez\nPieza de concierto nº 2 para dos clarinetes y piano\, F. Mendelssohn\nI. Presto\nII. Andante\nIII. Allegreto grazioso
URL:https://www.triarte.net/evento/2000-h-concierto-de-clarinete-y-musica-de-camara/
LOCATION:Sala de Conciertos de Triarte\, Calle Corregidor Antonio de Bobadilla\, 16\, Málaga\, 29006\, España
CATEGORIES:Concierto
ATTACH;FMTTYPE=image/png:https://www.triarte.net/wp-content/uploads/2024/02/WEB-20-02-24-Concierto-de-Clarinete-y-Musica-de-Camara.png
END:VEVENT
BEGIN:VEVENT
DTSTART;TZID=Europe/Madrid:20240221T191500
DTEND;TZID=Europe/Madrid:20240221T203000
DTSTAMP:20260423T020049
CREATED:20240206T153657Z
LAST-MODIFIED:20240218T190814Z
UID:9685-1708542900-1708547400@www.triarte.net
SUMMARY:19:15 h. Concierto de Piano y Música de Cámara
DESCRIPTION:Dentro de las actividades programadas por TRIARTE\, está el realizar conciertos con los alumnos para mejorar su formación musical. \nEl Miércoles 21 de febrero a las 19:15 h los alumnos de Piano y Música de Cámara de nuestras profesora Natalia Sakala nos ofrecerán un concierto. La entrada será libre hasta completar el aforo de nuestra sala de conciertos. \nMiguel Reguera Domínguez flauta\nMar García Márquez piano\nSong from a secret garden\, R. Lovland\nAntonio Vargas Sánchez de Alcazar\nSonata nº 16 en Do M K.545\, W. A. Mozart\nMov. l: Allegro\nRafael Reguera Domínguez\nNocturno nº 19 en Mi m Op. 72 nº 1\, F. Chopin\nIsmael Andrés Domínguez González\nSonata nº 53 en Mi m Hob. XVI:34\, F. J. Haydn\nMov. l: Presto\nAlba Rodríguez Jiménez\nRhapsody Op. 79 nº 2\, J. Brahms\nEma-Yitong Xu\nEstudio Op. 740 nº 13\, C. Czerny\nRomanza sin palabras Op. 67 nº 32\, F. Mendelssohn
URL:https://www.triarte.net/evento/1915-h-concierto-de-piano-y-musica-de-camara/
CATEGORIES:Concierto
ATTACH;FMTTYPE=image/png:https://www.triarte.net/wp-content/uploads/2024/02/web-21-02-24-CONCIERTO-DE-PIANO-Y-MUSICA-DE-CAMARA-1.png
END:VEVENT
END:VCALENDAR