BEGIN:VCALENDAR
VERSION:2.0
PRODID:-//Triarte - Centro de estudios art&iacute;sticos - Conservatorio y escuela de m&uacute;sica, danza y teatro. - ECPv6.15.18//NONSGML v1.0//EN
CALSCALE:GREGORIAN
METHOD:PUBLISH
X-ORIGINAL-URL:https://www.triarte.net
X-WR-CALDESC:Eventos para Triarte - Centro de estudios art&iacute;sticos - Conservatorio y escuela de m&uacute;sica, danza y teatro.
REFRESH-INTERVAL;VALUE=DURATION:PT1H
X-Robots-Tag:noindex
X-PUBLISHED-TTL:PT1H
BEGIN:VTIMEZONE
TZID:Europe/Madrid
BEGIN:DAYLIGHT
TZOFFSETFROM:+0100
TZOFFSETTO:+0200
TZNAME:CEST
DTSTART:20240331T010000
END:DAYLIGHT
BEGIN:STANDARD
TZOFFSETFROM:+0200
TZOFFSETTO:+0100
TZNAME:CET
DTSTART:20241027T010000
END:STANDARD
BEGIN:DAYLIGHT
TZOFFSETFROM:+0100
TZOFFSETTO:+0200
TZNAME:CEST
DTSTART:20250330T010000
END:DAYLIGHT
BEGIN:STANDARD
TZOFFSETFROM:+0200
TZOFFSETTO:+0100
TZNAME:CET
DTSTART:20251026T010000
END:STANDARD
BEGIN:DAYLIGHT
TZOFFSETFROM:+0100
TZOFFSETTO:+0200
TZNAME:CEST
DTSTART:20260329T010000
END:DAYLIGHT
BEGIN:STANDARD
TZOFFSETFROM:+0200
TZOFFSETTO:+0100
TZNAME:CET
DTSTART:20261025T010000
END:STANDARD
END:VTIMEZONE
BEGIN:VEVENT
DTSTART;TZID=Europe/Madrid:20250623T170000
DTEND;TZID=Europe/Madrid:20250623T170000
DTSTAMP:20260422T042350
CREATED:20250611T144634Z
LAST-MODIFIED:20250620T155219Z
UID:12630-1750698000-1750698000@www.triarte.net
SUMMARY:17:00 h | Festival de Danza: Final de Curso 24/25
DESCRIPTION:TRIARTE tiene el honor de presentar el Festival de Danza celebrado con motivo del Final de Curso 2024/25. Veremos niños y niñas de todas las edades exponer una muestra del trabajo realizado durante el presente curso. Desde aquí queremos agradecer a nuestras profesoras el gran trabajo realizado. \nEl evento tendrá lugar el 23 de junio a las 17:00 h. en el Teatro Escuela Superior de Arte Dramático\, Málaga. \nPROGRAMA\nParte I\nEl latido de mi corazón\, Luis Ángel Gómez Jaramillo\nAlumnas de Iniciación \nAnda Jaleo – Bulería\, Carmen Linares\nAlumnas de Nivel III \nTanguillos de Cádiz\, José Galván\nAlumnas de Infantil \nLa la land – Epílogo\, Justin Hurwitz\nAlumnas de Nivel IV \nTangos de Málaga\nEl Trini\, Víctor M. Rosa\, Mariló García…\nAlumnas de Preparatorio \nEl Lago de los Cisnes\, Pyotr Ilyich Tchaikovsky\nAlumnas de Nivel I \nGarrotín – Cante Final\, El Trini\, Víctor M. Rosa\, Mariló García…\nAlumnas de Iniciación \nThe cello´s song\, The Piano Guys\nAlumnas de Nivel III \nAlegrías\, El Ecijano\nAlumnas de Nivel IV \nCanción de Meg\, Celia Vergara\nAlumnas de Infantil \nFandangos de Huelva\, José Galván\nAlumnas de Nivel I \nPizzicato – Polka\, Johann Strauss\nAlumnas de Preparatorio \nTerra – Tanxungueiras\, Tanxungueiras\nAlumnas de Nivel III y IV \nParte II Emociones\nBundle of joy – Michael Giacchino\nChasing the Pink Elephant – Michael Giacchino\nDramatic Violín – Platon Davydov\nStrength of a thousand men – Two step from hell\nHidden in the rafters – Dreary Mood\nDanza Macabra – Camille Saint – Saëns\nBundle of joy – MichaelGiacchino
URL:https://www.triarte.net/evento/1700-h-festival-de-danza-final-de-curso-24-25/
LOCATION:Teatro Escuela Superior de Arte Dramático\, Calle Béla Bartók\, 2\, Málaga\, Málaga\, 29010\, España
CATEGORIES:Concierto
ATTACH;FMTTYPE=image/png:https://www.triarte.net/wp-content/uploads/2025/06/web-23-06-25-FESTIVAL-DE-DANZA-ESAD.png
END:VEVENT
BEGIN:VEVENT
DTSTART;TZID=Europe/Madrid:20250623T190000
DTEND;TZID=Europe/Madrid:20250623T200000
DTSTAMP:20260422T042350
CREATED:20250617T160438Z
LAST-MODIFIED:20250617T161031Z
UID:12669-1750705200-1750708800@www.triarte.net
SUMMARY:19:00 h | XX Festival de Teatro Triarte. “El Mago de Oz”
DESCRIPTION:TRIARTE tiene el honor de presentar el XX Festival de Teatro celebrado con motivo del Final de Curso 2024/25. \nAsí\, el lunes 23 de junio a las 19:00 h. los alumnos/as del Taller de Teatro de nuestro profesor Jonatan Rubio interpretarán la obra «EL MAGO DE OZ» en la ESAD de Málaga. \nSinopsis:\nEl país de Oz es un país que se encuentra muy lejos de Kansas. Por eso cuando\nuna niña llega por accidente al País de Oz debido a un enorme tornado que se\nlleva su casa entera\, tendrá que buscar la ayuda del maravilloso Mago de Oz\,\nquién le pedirá ayuda a ella y sus nuevos amigos\, un león cobarde\, un hombre de\nhojalata sin sentimientos y un espantapájaros\, para recuperar la libertad de todo\nOz de manos de una terrible bruja verde\, llamada Elphaba.\nPero por suerte\, no estarán solos\, y el hada buena del norte\, Glinda\, los ayudará\ncontra la malvada bruja. \nActrices:\nALEJANDRA MARÍA AMADOR GARCÍA – DOROTHY\nMANUEL SALIDO MARTÍN – MAGO DE OZ\nROCÍO GARCÍA BANDERA – LEÓN COBARDE\nELISA NARVÁEZ CABRERA – ESPANTAPÁJAROS\nCARLA HERRERA SÁNCHEZ – HOMBRE DE HOJALATA\nLUCÍA GONZÁLEZ PINEDA – GLINDA & LA BRUJA DEL OESTE
URL:https://www.triarte.net/evento/1900-h-xix-festival-de-teatro-triarte-el-mago-de-oz/
LOCATION:ESAD
CATEGORIES:Teatro
ATTACH;FMTTYPE=image/png:https://www.triarte.net/wp-content/uploads/2025/06/web-23-06-2025-TEATRO-ESAD-MAGO-DE-OZ.png
END:VEVENT
BEGIN:VEVENT
DTSTART;TZID=Europe/Madrid:20250623T190000
DTEND;TZID=Europe/Madrid:20250623T203000
DTSTAMP:20260422T042350
CREATED:20250620T181653Z
LAST-MODIFIED:20250620T181914Z
UID:12685-1750705200-1750710600@www.triarte.net
SUMMARY:19:00 h | Concierto Piano
DESCRIPTION:Dentro de las actividades programadas por TRIARTE para el Final de Curso 24/25\, está la de realizar conciertos para mejorar la formación de nuestros alumnos. El lunes 23 de junio a las 19:00 h los alumnos de Piano de nuestras profesoras Maribel Sánchez de Alcázar\, Lucía Muñoz\, Siliana Zdravkova y Carmen Vidal nos ofrecerán un concierto. \nLa entrada será libre hasta completar el aforo de nuestra sala de conciertos. \nPrograma\nVictoria Ponce Rizo\nLa grulla\, Escuela Rusa  \nHelena Martín Abelardo\nVoy a jugar\, A. Tchokov\nCanción popular rusa\, A. Tchokov  \nLucía Vanhout Ruiz\nEl circo\, J. S. Bastien\nHojas de otoño\, J. S. Bastien \nAlejandro Zambrana Alcalde\nEl pulso\, A. Tchokov \nHimno a la Alegría\, L. van Beethoven \nRubén Bataller Arcos\nLindo mes de Mayo\, canción popular \nFrancisco José Oliva Mérida\nHimno a la Alegría\, L. van Beethoven\nVals de los elefantes\, J. S. Bastien \nAbril Urquízar García\nAlicita\, canción francesa\nEl viejo búho gris\, J. S. Bastien \nFernando Parra Pérez\nCanción mejicana\, G. Iturriaga\nTambores lejanos\, E. Fernández \nLeo Martín Jurado\nHakuna Matata\, BSO El Rey León  \nJosé Domingo Salinas Soria\nEstudio op. 82 nº 55\, C. Gurlitt \nRodrigo Núñez Peregrín\nEstudio op. 599 nº 19\, C. Czerny \nAna Ruiz González\nMinueto\, J. Krieger \nJia Qi Chen\nEl jinete indómito\, R. Schumann\nSonatina del mar\, A. Gª Abril \nManuel Benítez Benítez\nEl payaso\, D. Kabalevsky \nPablo Martín Jurado\nEstudio de tresillos\, J. S. Bastien\nMinué en Do M\, W. A. Mozart \nAna Muñoz Moya\nSonatina en Do M\, J. S. Bastien\nEstudio Allegro\, J. S. Bastien \nIan Villanueva Gómez\nEstudio op. 100 nº 16 Dulce queja\, J. F. Burgmüller\nPobre huerfanito\, R. Schumann \nJavier Cañete Muñoz\nEstudio op. 100 nº 1\, H. Bertini\nAntigua canción francesa\, P. I. Chaikovsky \nSofía León Morote\nPara Elisa\, L van Beethoven\nCanción popular inglesa \nJimena González Gaspar\nVals op. 65\, S. Prokofiev
URL:https://www.triarte.net/evento/1900-h-concierto-piano/
LOCATION:Sala de Conciertos de Triarte\, Calle Corregidor Antonio de Bobadilla\, 16\, Málaga\, 29006\, España
CATEGORIES:Concierto
ATTACH;FMTTYPE=image/jpeg:https://www.triarte.net/wp-content/uploads/2025/06/web-23-06-25-CONCIERTO-DE-PIANO-MARIBEL.jpg
END:VEVENT
BEGIN:VEVENT
DTSTART;TZID=Europe/Madrid:20250623T203000
DTEND;TZID=Europe/Madrid:20250623T213000
DTSTAMP:20260422T042350
CREATED:20250617T155124Z
LAST-MODIFIED:20250617T161437Z
UID:12663-1750710600-1750714200@www.triarte.net
SUMMARY:20:30 h | XX Festival de Teatro Triarte. “Mujeres en el Barrio”
DESCRIPTION:TRIARTE tiene el honor de presentar el XX Festival de Teatro celebrado con motivo del Final de Curso 2024/25. \nAsí\, el lunes 23 de junio a las 20:30 h. las alumnas del Taller de Teatro Adulto de nuestro profesor Jonatan Rubio interpretarán la obra «MUJERES EN EL BARRIO» el ESAD de Málaga. \nSinopsis:\nEn un barrio céntrico de la ciudad\, anteriormente conocido por la cantidad de inmigrantes afincados\, está empezando un movimiento migratorio hacia las afueras. Las abuelas\, madres\, hijas y trabajadoras del Barrio tienen que ganarse el pan cada día\, haga frío o calor\, y en este 2 de Julio\, es evidente que el calor desbordante y la escasez de recursos no les dará ni un respiro a sus pequeños pero brillantes sueños. El sentimiento de las raíces y de comunidad temblará ante la necesidad de tomar decisiones que afectará a su vida\, mientras intentan sobrevivir a un nuevo apagón. Ellas son las mujeres del BARRIO. \nActrices:\nUSNAVI DE LA VEGA – RUTH GARRIDO VILA\nNINA DEL ROSARIO – AITANA WELTER RUIZ\nCAMILA DEL ROSARIO – ANA PALOMO PÉREZ\nABUELA CLAUDIA – SILVIA RÍOS DÍAZ\nVANESSA – LUCÍA DÍAZ ARAÚJO\nDANIELA – MARÍA BELÉN BRASA SÁNCHEZ\nCARLA – LUCÍA SÁNCHEZ VEGAS\nPUKA – NOHELY DE LOS ÁNGELES DA SILVA PAREDES\nPIRAGUERA – MARÍA DEL CARMEN GUIJARRO HERNÁNDEZ \nDirector: Jonatan rubio
URL:https://www.triarte.net/evento/2030-h-xx-festival-de-teatro-triarte-mujeres-en-el-barrio/
LOCATION:ESAD
CATEGORIES:Teatro
ATTACH;FMTTYPE=image/png:https://www.triarte.net/wp-content/uploads/2025/06/web-23-06-2025-TEATRO-ESAD-MUJERES-EN-EL-BARRIO.png
END:VEVENT
END:VCALENDAR