BEGIN:VCALENDAR
VERSION:2.0
PRODID:-//Triarte - Centro de estudios art&iacute;sticos - Conservatorio y escuela de m&uacute;sica, danza y teatro. - ECPv6.15.18//NONSGML v1.0//EN
CALSCALE:GREGORIAN
METHOD:PUBLISH
X-ORIGINAL-URL:https://www.triarte.net
X-WR-CALDESC:Eventos para Triarte - Centro de estudios art&iacute;sticos - Conservatorio y escuela de m&uacute;sica, danza y teatro.
REFRESH-INTERVAL;VALUE=DURATION:PT1H
X-Robots-Tag:noindex
X-PUBLISHED-TTL:PT1H
BEGIN:VTIMEZONE
TZID:Europe/Madrid
BEGIN:DAYLIGHT
TZOFFSETFROM:+0100
TZOFFSETTO:+0200
TZNAME:CEST
DTSTART:20240331T010000
END:DAYLIGHT
BEGIN:STANDARD
TZOFFSETFROM:+0200
TZOFFSETTO:+0100
TZNAME:CET
DTSTART:20241027T010000
END:STANDARD
BEGIN:DAYLIGHT
TZOFFSETFROM:+0100
TZOFFSETTO:+0200
TZNAME:CEST
DTSTART:20250330T010000
END:DAYLIGHT
BEGIN:STANDARD
TZOFFSETFROM:+0200
TZOFFSETTO:+0100
TZNAME:CET
DTSTART:20251026T010000
END:STANDARD
BEGIN:DAYLIGHT
TZOFFSETFROM:+0100
TZOFFSETTO:+0200
TZNAME:CEST
DTSTART:20260329T010000
END:DAYLIGHT
BEGIN:STANDARD
TZOFFSETFROM:+0200
TZOFFSETTO:+0100
TZNAME:CET
DTSTART:20261025T010000
END:STANDARD
END:VTIMEZONE
BEGIN:VEVENT
DTSTART;TZID=Europe/Madrid:20250613T183000
DTEND;TZID=Europe/Madrid:20250613T203000
DTSTAMP:20260422T042503
CREATED:20250516T145750Z
LAST-MODIFIED:20250612T145425Z
UID:12457-1749839400-1749846600@www.triarte.net
SUMMARY:18:30 h | Concierto de Agrupación Instrumental. Alumnos de Dolores Navas
DESCRIPTION:Dentro de las actividades programadas por TRIARTE para el Final de Curso 24/25\, está la de realizar conciertos para mejorar la formación de nuestros alumnos. \nEl viernes 13 de junio a las 18:30 h los alumnos de Agrupación Instrumental de nuestra profesora Dolores Navas nos ofrecerán un concierto. \nLa entrada será libre hasta completar el aforo de nuestra sala de conciertos. \nPrograma\nAlumnos de 1° Curso de 2º Ciclo\nGrupo I\nFonollá González\, Adriana\nJiménez López\, Víctor\nMorales Trigo\, Luca Jesús\nMorales Trigo\, Marco Antonio\nPardo Elvira\, Claudia\nPardo Elvira\, Elena\nSierra Prieto\, María\nGrupo II\nNúñez Peregrín\, Rodrigo\nVillanueva Gómez\, Ian\nBolaños Serrano\, Álvaro\nCañete Muñoz\, Javier\nVega Carmona\, Rocío\nZheng\, Hao\nLin\, Yixi – Luna\nLópez Soriano\, Noa \nLa mañana\, E. Grieg\nPiratas del Caribe\, H. Zimmer\nLa Saeta\, J. M. Serrat \nAlumnos de 2° Curso de 2º Ciclo\nGonzález Gaspar\, Jimena\nLeón Morote\, Sofía\nCortés Castillo\, Julia\nAguilera Casado\, Ángel\nGarcía de La Nava Triviño\, Pablo\nPerea Fenech\, Álvaro\nGao\, Xun Xuan – Susana\nGonzález Gaspar\, Jimena\nLeón Morote\, Sofía\nCortés Castillo\, Julia\nAguilera Casado\, Ángel\nGarcía de La Nava Triviño\, Pablo\nPerea Fenech\, Álvaro\nGao \, Xun Xuan – Susana \nTuyo\, R. Amarante
URL:https://www.triarte.net/evento/1830-h-concierto-de-agrupacion-instrumental-alumnos-de-dolores-navas/
LOCATION:Sala de Conciertos de Triarte\, Calle Corregidor Antonio de Bobadilla\, 16\, Málaga\, 29006\, España
CATEGORIES:Concierto
ATTACH;FMTTYPE=image/jpeg:https://www.triarte.net/wp-content/uploads/2025/05/WEB-13-06-25-CONCIERTO-DE-AGRUPACION-MUSICAL.jpg
END:VEVENT
BEGIN:VEVENT
DTSTART;TZID=Europe/Madrid:20250613T193000
DTEND;TZID=Europe/Madrid:20250613T210000
DTSTAMP:20260422T042503
CREATED:20250515T184323Z
LAST-MODIFIED:20250612T160814Z
UID:12454-1749843000-1749848400@www.triarte.net
SUMMARY:19:30 h | Concierto Clarinete y Música de Cámara. Alumnos de Dolores Navas
DESCRIPTION:Dentro de las actividades programadas por TRIARTE para el Final de Curso 24/25\, está la de realizar conciertos para mejorar la formación de nuestros alumnos. \nEl viernes 13 de junio a las 19:30 h los alumnos de Clarinete y Música de Cámara de nuestra profesora Dolores Navas nos ofrecerán un concierto. \nLa entrada será libre hasta completar el aforo de nuestra sala de conciertos. \nPrograma\nAlba Rodríguez Jiménez | Clarinete\nYitong Xu | Clarinete\nBeatriz Corpas Garcerán | Violonchelo\nSofía López Ruiz | Piano\nCuarteto en Mi b M\, W. Rabl \nYiran Xu | Flauta\nMiguel Reguera Domínguez | Flauta\nRafael Reguera Domínguez | Piano\nAdiós Nonino\, A. Piazzolla \nDolores Navas Navarrete | Clarinete\nYitong Xu | Clarinete\nRodrigo Ávila Perales | Piano\n5 piezas\, D. Shostakovich\nI. Preludio\nII. Waltz \nAlba Rodríguez Jiménez | Clarinete\nDolores Navas Valverde | Clarinete\nHernando’s Hideaway\, R. Adler and J. Ross \nBeatriz Corpas Garcerán | Violonchelo\nSonata en La m Op. 36\, E. Grieg \nYitong Xu | Clarinete\nRhapsodie pour clarinette seule\, G. Miluccio\nConcierto n° 1\, C. M. von Weber\nI. Allegro\nSonata para clarinete y piano\, F. Poulenc
URL:https://www.triarte.net/evento/1930-h-concierto-clarinete-y-musica-de-camara-alumnos-de-dolores-navas/
LOCATION:Sala de Conciertos de Triarte\, Calle Corregidor Antonio de Bobadilla\, 16\, Málaga\, 29006\, España
CATEGORIES:Concierto
ATTACH;FMTTYPE=image/jpeg:https://www.triarte.net/wp-content/uploads/2025/05/web-13-06-25-CONCIERTO-DE-CLARINETE-y-CAMARA-profes.jpg
END:VEVENT
END:VCALENDAR