BEGIN:VCALENDAR
VERSION:2.0
PRODID:-//Triarte - Centro de estudios art&iacute;sticos - Conservatorio y escuela de m&uacute;sica, danza y teatro. - ECPv6.15.18//NONSGML v1.0//EN
CALSCALE:GREGORIAN
METHOD:PUBLISH
X-ORIGINAL-URL:https://www.triarte.net
X-WR-CALDESC:Eventos para Triarte - Centro de estudios art&iacute;sticos - Conservatorio y escuela de m&uacute;sica, danza y teatro.
REFRESH-INTERVAL;VALUE=DURATION:PT1H
X-Robots-Tag:noindex
X-PUBLISHED-TTL:PT1H
BEGIN:VTIMEZONE
TZID:Europe/Madrid
BEGIN:DAYLIGHT
TZOFFSETFROM:+0100
TZOFFSETTO:+0200
TZNAME:CEST
DTSTART:20210328T010000
END:DAYLIGHT
BEGIN:STANDARD
TZOFFSETFROM:+0200
TZOFFSETTO:+0100
TZNAME:CET
DTSTART:20211031T010000
END:STANDARD
BEGIN:DAYLIGHT
TZOFFSETFROM:+0100
TZOFFSETTO:+0200
TZNAME:CEST
DTSTART:20220327T010000
END:DAYLIGHT
BEGIN:STANDARD
TZOFFSETFROM:+0200
TZOFFSETTO:+0100
TZNAME:CET
DTSTART:20221030T010000
END:STANDARD
BEGIN:DAYLIGHT
TZOFFSETFROM:+0100
TZOFFSETTO:+0200
TZNAME:CEST
DTSTART:20230326T010000
END:DAYLIGHT
BEGIN:STANDARD
TZOFFSETFROM:+0200
TZOFFSETTO:+0100
TZNAME:CET
DTSTART:20231029T010000
END:STANDARD
END:VTIMEZONE
BEGIN:VEVENT
DTSTART;TZID=Europe/Madrid:20220420T170000
DTEND;TZID=Europe/Madrid:20220420T190000
DTSTAMP:20260423T215714
CREATED:20220418T152422Z
LAST-MODIFIED:20220419T161258Z
UID:7925-1650474000-1650481200@www.triarte.net
SUMMARY:17:00 h Concierto de Piano – Alumnos de Siliana Zdravkova y Álvaro Saldaña
DESCRIPTION:Dentro de las actividades programadas por TRIARTE\, está el realizar conciertos con los alumnos para mejorar su formación musical. \nEl miércoles 20 de abril a las 17:00 h los alumnos de Piano de nuestros profesores Siliana Zdravkova y Álvaro Saldaña nos ofrecerán un concierto. La entrada será libre hasta completar el aforo de nuestra sala de conciertos. \nPrograma\nElba María Varela Miguel\nInvención nº 4\, J. S. Bach\nDanza de la Seducción\, J. Turina \nMaría Fernández Bravo\nInvención nº 4\, J. S. Bach\nEstudio nº 11 Op. 29\, H. Bertini\nDulce visión\, P. Tchaikovsky \nJosé Antonio Delgado Olmo\nValse Op. 12 nº 2\, E. Grieg\nPreludio en Re M BWV 938\, J. S. Bach\nMarcha Op. 65\, S. Prokófiev \nJuan Guzmán Herrera\nInvención en Si bemol M BWV 785\, J. S. Bach\nSonatina Op. 20 nº 1\, F. Kuhlau\nI. Allegro\nII. Andante\nIII. Rondo. Allegro\nMeditación Op. 76\, C. Chaminade \nSara Melwani Nanwani\nVals Op. 38 nº 7\, E. Grieg\nEstudio Op. 100 nº 11\, H. Bertini\nInvención en Re m BWV 775\, J. S. Bach \nRaquel Vázquez Gandía\nSinfonía nº 15\, J. S. Bach\nSonata Op. 49 nº 2\, L. van Beethoven\nVals Op. 69 nº 2\, F. Chopin\nArabesca nº 1\, C. Debussy \nEva – Yiran Xu\nPreludio y fuga en Si b Mayor\, J. S. Bach\nSonata Op. 27 nº 2\, L. van Beethoven\nI. Adagio Sostenuto\nII. Allegretto \nNoa Fernández Gil\nInvención nº 13\, J. S. Bach\nEstudio nº 2 Op. 299\, C. Czerny\nEstudio nº 8\, A. Jensen\nRumores de la Caleta\, I. Albéniz
URL:https://www.triarte.net/evento/1700-h-concierto-de-piano-alumnos-de-siliana-zdravkova-y-alvaro-saldana/
LOCATION:Sala de Conciertos de Triarte\, Calle Corregidor Antonio de Bobadilla\, 16\, Málaga\, 29006\, España
CATEGORIES:Concierto
ATTACH;FMTTYPE=image/png:https://www.triarte.net/wp-content/uploads/2022/04/20-04-2022-CONCIERTO-DE-PIANO-WEB.png
END:VEVENT
END:VCALENDAR