BEGIN:VCALENDAR
VERSION:2.0
PRODID:-//Triarte - Centro de estudios art&iacute;sticos - Conservatorio y escuela de m&uacute;sica, danza y teatro. - ECPv6.15.18//NONSGML v1.0//EN
CALSCALE:GREGORIAN
METHOD:PUBLISH
X-ORIGINAL-URL:https://www.triarte.net
X-WR-CALDESC:Eventos para Triarte - Centro de estudios art&iacute;sticos - Conservatorio y escuela de m&uacute;sica, danza y teatro.
REFRESH-INTERVAL;VALUE=DURATION:PT1H
X-Robots-Tag:noindex
X-PUBLISHED-TTL:PT1H
BEGIN:VTIMEZONE
TZID:Europe/Madrid
BEGIN:DAYLIGHT
TZOFFSETFROM:+0100
TZOFFSETTO:+0200
TZNAME:CEST
DTSTART:20170326T010000
END:DAYLIGHT
BEGIN:STANDARD
TZOFFSETFROM:+0200
TZOFFSETTO:+0100
TZNAME:CET
DTSTART:20171029T010000
END:STANDARD
BEGIN:DAYLIGHT
TZOFFSETFROM:+0100
TZOFFSETTO:+0200
TZNAME:CEST
DTSTART:20180325T010000
END:DAYLIGHT
BEGIN:STANDARD
TZOFFSETFROM:+0200
TZOFFSETTO:+0100
TZNAME:CET
DTSTART:20181028T010000
END:STANDARD
BEGIN:DAYLIGHT
TZOFFSETFROM:+0100
TZOFFSETTO:+0200
TZNAME:CEST
DTSTART:20190331T010000
END:DAYLIGHT
BEGIN:STANDARD
TZOFFSETFROM:+0200
TZOFFSETTO:+0100
TZNAME:CET
DTSTART:20191027T010000
END:STANDARD
END:VTIMEZONE
BEGIN:VEVENT
DTSTART;TZID=Europe/Madrid:20180427T203000
DTEND;TZID=Europe/Madrid:20180427T220000
DTSTAMP:20260423T230345
CREATED:20180423T173818Z
LAST-MODIFIED:20180423T180524Z
UID:4404-1524861000-1524866400@www.triarte.net
SUMMARY:20:30 h. Dúo de Guitarras: Javier Berrocal y Manuel Pérez Vela.
DESCRIPTION:El viernes 27 de abril de 2018 a las 20:30h\, el dúo de guitarras a formado por Javier Berrocal y Manuel Pérez Vela nos ofrecerán un concierto en Triarte\, Málaga. \nEsta versátil formación nos presenta en sus recitales un amplio repertorio del Renacimiento hasta la música de nuestros días. Un viaje por la historia de la guitarra. \nEl dúo de guitarras Manuel Pérez Vela y Javier Berrocal ha tenido una muy buena acogida ante el público en sus conciertos\, destacando sus interpretaciones por el colorido instrumental de sus guitarras así como por la calidad y originalidad de las obras interpretadas. \nJavier Berrocal\nEstudia guitarra clásica en el Conservatorio Superior de Música de Málaga con Javier Chamizo\, obteniendo el Premio de Honor fin de carrera.\nPosteriormente realiza estudios de armonía moderna e improvisación con Carlos Pino y Kiko Aguado. Como músico de jazz colabora en numerosas formaciones al tiempo que desarrolla sus propios proyectos con formaciones como HAS\, Trío Zwicky o Jazz4us.\nComo guitarrista clásico participa en la grabación del LP “Deus Meus”\, con música de Miguel Pérez\, junto a músicos de la OFM.\nActualmente es profesor de guitarra en el C.E.M. Pablo Ruiz Picasso de Málaga. \nManuel Jesús Pérez Vela\nNatural de Málaga\, realiza sus estudios de guitarra en el Conservatorio Superior de Música de su ciudad bajo la dirección de Miguel Tójar Hurtado obteniendo al finalizarlos “Mención Honorífica” en el Grado Superior.\nHa perfeccionado su formación recibiendo las enseñanzas de maestros de reconocido prestigio como Pepe Romero\, Manuel Barrueco\, David Russell o Roberto Aussell entre otros.\nComo solista y en distintas agrupaciones musicales ha realizado numerosos conciertos\, destacando su labor con el“Trío de Guitarras de Málaga” (agrupación camerística de la que fué miembro fundador) y con el dúo de guitarras “Latitud Sur”.\nTiene en su haber la grabación de dos discos compactos:\n“Trío de Guitarras de Málaga”\, dedicado a la música española y latinoamericana y “Recital para voz y guitarra”\, para soprano y guitarra con un repertorio de obras de Dowland\, Schubert\, Sor y Lorca.\nActualmente realiza su labor docente como Profesor de Guitarra en el Conservatorio Profesional de Música “Gonzalo Martín Tenllado” de Málaga. \nOs dejamos un vídeo promocional de youtube como adelanto: \n \nPROGRAMA \nObertura de «El barbero de Sevilla”\, Gioacchino Rossini\nArreglo para guitarra de Mauro Giuliani  \nMúsica incidental campesina\, Leo Brouwer\nI. Preludio\nII. Interludio\nIII. Danza\nIV. Final \nTango\, milonga y final\, Máximo Diego Pujol\nI.Tango de abril\nII. Milonga de junio\nIII. Final \nCambridge suite\, Nikita Koshkin\nI. Lullaby\nII.Tennis Waltz\nIII. Ballad\nIV. Ragtime
URL:https://www.triarte.net/evento/2030-h-duo-de-guitarras-javier-berrocal-y-manuel-perez-vela/
LOCATION:Sala de Conciertos de Triarte\, Calle Corregidor Antonio de Bobadilla\, 16\, Málaga\, 29006\, España
CATEGORIES:Concierto
ATTACH;FMTTYPE=image/png:https://www.triarte.net/wp-content/uploads/2018/04/ESTE.png
END:VEVENT
END:VCALENDAR