BEGIN:VCALENDAR
VERSION:2.0
PRODID:-//Triarte - Centro de estudios art&iacute;sticos - Conservatorio y escuela de m&uacute;sica, danza y teatro. - ECPv6.15.18//NONSGML v1.0//EN
CALSCALE:GREGORIAN
METHOD:PUBLISH
X-ORIGINAL-URL:https://www.triarte.net
X-WR-CALDESC:Eventos para Triarte - Centro de estudios art&iacute;sticos - Conservatorio y escuela de m&uacute;sica, danza y teatro.
REFRESH-INTERVAL;VALUE=DURATION:PT1H
X-Robots-Tag:noindex
X-PUBLISHED-TTL:PT1H
BEGIN:VTIMEZONE
TZID:Europe/Madrid
BEGIN:DAYLIGHT
TZOFFSETFROM:+0100
TZOFFSETTO:+0200
TZNAME:CEST
DTSTART:20170326T010000
END:DAYLIGHT
BEGIN:STANDARD
TZOFFSETFROM:+0200
TZOFFSETTO:+0100
TZNAME:CET
DTSTART:20171029T010000
END:STANDARD
BEGIN:DAYLIGHT
TZOFFSETFROM:+0100
TZOFFSETTO:+0200
TZNAME:CEST
DTSTART:20180325T010000
END:DAYLIGHT
BEGIN:STANDARD
TZOFFSETFROM:+0200
TZOFFSETTO:+0100
TZNAME:CET
DTSTART:20181028T010000
END:STANDARD
BEGIN:DAYLIGHT
TZOFFSETFROM:+0100
TZOFFSETTO:+0200
TZNAME:CEST
DTSTART:20190331T010000
END:DAYLIGHT
BEGIN:STANDARD
TZOFFSETFROM:+0200
TZOFFSETTO:+0100
TZNAME:CET
DTSTART:20191027T010000
END:STANDARD
END:VTIMEZONE
BEGIN:VEVENT
DTSTART;TZID=Europe/Madrid:20180319T173000
DTEND;TZID=Europe/Madrid:20180319T190000
DTSTAMP:20260423T211241
CREATED:20180313T204351Z
LAST-MODIFIED:20180315T194603Z
UID:4205-1521480600-1521486000@www.triarte.net
SUMMARY:17:30 h. Concierto de Piano.
DESCRIPTION:El lunes 19 de marzo a las 17:30h los alumnos de piano de nuestro profesores Álvaro Saldaña y Natalia Sakala nos ofrecerán un concierto. \nEntrada libre y gratuita hasta completar el aforo de nuestra Sala de Conciertos. \nPROGRAMA\nCelia Ortiz Zamora\nEl trenecito\, J. Bastien\nHumpty Dumpty\, J. Bastien\nCumpleaños\, J. Bastien \nZoe Moreno Almazán\nEcossaise en Do M\, Hervé-Pouillard \nMarta Alcoholado Muriel\nMenuet en Re m\, W. A. Mozart\nNobody know’s the trouble i’ve seen\, Negro espiritual \nJiayi Ye\nJoli mois de mai\, canción popular\nVieille chanson\, H. Gurlitt \nJesus Rivera Vera\nMarcha en Do M Op. 39\, D. Kabalevski\n«Libro para la Juventud” \nSara Melwani Nanwani\nLe petit poney\, Hervé-Pouillard\nVariación en Sol M\, Hervé-Pouillard\nPequeña marcha en Sol M\, Hervé-Pouillard \nIsmael Domínguez González\nJoli mois de mai\, canción popular\nLa complainte du soir\, Hervé-Pouillard\nAir Basque\, Hervé-Pouillard \nJulia Montero Martín\nCampanitas\, canción popular \nAlba – Jiaxin Lin\nUn bon devoir\, A. Grechaninov \nElena – Jia Hui Lin\nRigaudon en Fa M\, A. Goedike \nAnaya Nitesh Gurnani\nLe petit poney\, Hervé-Pouillard \nGermán Ruiz Ramírez\nSelección de piezas Op. 39\, D. Kabalevski\n«Libro para la juventud»\nI. Juguete\nII. Pequeña Canción\nIII. Marcha en Do M \nNora Ramírez Arias\nLe petit poney\, Hervé-Pouillard\nPetite marche\, Hervé-Pouillard \nElena San Emeterio Escalante\nMenuet en Sol M\, Hervé-Pouillard\nL’alphabet\, W. A. Mozart\nSur la pelousse (a 4)\, Hervé-Pouillard \nDarío San Emeterio Escalante\nMenuet en Fa M\, W. A. Mozart \nJose María Durán Benítez\nSilhouettes\, A. Dvorak\nI. Allegro Feroce-Allegretto Grazioso-Allegro Feroce \nIrene González Rodríguez\nMarcha de los Santos\, himno Gospel \nLaura González Rodríguez\nAlicita\, canción popular \nEva-Yi Ran Xu\nSonata-Divertimento en Sol M Hob XVI:G1\, J. Haydn\nI. Allegro\nII. Menuet-Trio\nIII. Finale \nYining Ye\nAlicita\, canción popular\nOda a la alegría de «IX Sinfonía”\, L. van Beethoven \nNerea Alcoholado Muriel\nLove theme de «Cinema Paradiso»\, E. Morricone \nEma-Yi Tong Xu \nSonatina Anh. 5 nº 2 en Fa M\, L. van Beethoven\nII. Rondo Allegro
URL:https://www.triarte.net/evento/1230-h-concierto-de-piano-4/
LOCATION:Sala de Conciertos de Triarte\, Calle Corregidor Antonio de Bobadilla\, 16\, Málaga\, 29006\, España
CATEGORIES:Concierto
ATTACH;FMTTYPE=image/png:https://www.triarte.net/wp-content/uploads/2018/03/19-03-2018-CONCIERTO-DE-PIANO-ALVARO-1.png
END:VEVENT
BEGIN:VEVENT
DTSTART;TZID=Europe/Madrid:20180319T200000
DTEND;TZID=Europe/Madrid:20180319T203000
DTSTAMP:20260423T211241
CREATED:20180314T164047Z
LAST-MODIFIED:20180315T171904Z
UID:4210-1521489600-1521491400@www.triarte.net
SUMMARY:20:00 h. Concierto de Piano.
DESCRIPTION:El lunes 19 de marzo a las 20:00h los alumnos de piano de nuestro profesor Javier Puche y de nuestra profesora Siliana Zdravkova nos ofrecerán un concierto. \nEntrada libre y gratuita hasta completar el aforo de nuestra Sala de Conciertos. \nPROGRAMA\nNoa Fernández Gil\nCampanita\, popular \nMónica del Pino Morte\nLlego Diego\, popular \nMatías Pérez Mac\nCanción del Rock\, J. Bastien \nVictoria Ramírez Mata\nAlegre San Nicolás\, J. Bastien \nNicolás Pérez Martín\nTarantella\, J. Bastien\nEn la estación\, J. Bastien \nEmma García Rincón\nMinueto en Sol M\, J. S. Bach\nEstudio en Sol M\, A. Zilinskis \nLucía Rodríguez Mena\nMinueto en Sol m\, J. S. Bach \nVictoria Ortiz Zamora\nMinueto\, L. Mozart \nVioleta Pérez Mac\nMinueto\, J. S. Bach\nDanza\, D. Kabalevsky \nJulia Carrero de Luis\nSonatina nº 1\, M. Clementi\nI. Allegro \nAntonio Jurado Rubio\nEstudio nº 13\, Loeschhorn\nMusette\, J. S. Bach \nRodrigo Ávila Perales\nTarantella\, J. F. F. Burgmüller \nCarla García Crespillo\nInvención nº 1\, J. S. Bach\nDanza de la seducción\, J. Turina \nDiana Jiménez Valeroso\nSonatina nº 3\, M. Clementi\nI. Allegro \nYihui Yuan\nEstudio nº 2 Op. 72\, M. Moszkowski \nLucía Cano Luque\nNocturno nº 2\, F. Chopin \nIsabel Barbudo Ortega\nNocturno 19\, F. Chopin
URL:https://www.triarte.net/evento/2000-h-concierto-de-piano-2/
LOCATION:Sala de Conciertos de Triarte\, Calle Corregidor Antonio de Bobadilla\, 16\, Málaga\, 29006\, España
CATEGORIES:Concierto
ATTACH;FMTTYPE=image/png:https://www.triarte.net/wp-content/uploads/2018/03/19-03-2018-CONCIERTO-DE-PIANO-SILIANA-Y-JAVIER.png
END:VEVENT
END:VCALENDAR