BEGIN:VCALENDAR
VERSION:2.0
PRODID:-//Triarte - Centro de estudios art&iacute;sticos - Conservatorio y escuela de m&uacute;sica, danza y teatro. - ECPv6.15.18//NONSGML v1.0//EN
CALSCALE:GREGORIAN
METHOD:PUBLISH
X-ORIGINAL-URL:https://www.triarte.net
X-WR-CALDESC:Eventos para Triarte - Centro de estudios art&iacute;sticos - Conservatorio y escuela de m&uacute;sica, danza y teatro.
REFRESH-INTERVAL;VALUE=DURATION:PT1H
X-Robots-Tag:noindex
X-PUBLISHED-TTL:PT1H
BEGIN:VTIMEZONE
TZID:Europe/Madrid
BEGIN:DAYLIGHT
TZOFFSETFROM:+0100
TZOFFSETTO:+0200
TZNAME:CEST
DTSTART:20170326T010000
END:DAYLIGHT
BEGIN:STANDARD
TZOFFSETFROM:+0200
TZOFFSETTO:+0100
TZNAME:CET
DTSTART:20171029T010000
END:STANDARD
BEGIN:DAYLIGHT
TZOFFSETFROM:+0100
TZOFFSETTO:+0200
TZNAME:CEST
DTSTART:20180325T010000
END:DAYLIGHT
BEGIN:STANDARD
TZOFFSETFROM:+0200
TZOFFSETTO:+0100
TZNAME:CET
DTSTART:20181028T010000
END:STANDARD
BEGIN:DAYLIGHT
TZOFFSETFROM:+0100
TZOFFSETTO:+0200
TZNAME:CEST
DTSTART:20190331T010000
END:DAYLIGHT
BEGIN:STANDARD
TZOFFSETFROM:+0200
TZOFFSETTO:+0100
TZNAME:CET
DTSTART:20191027T010000
END:STANDARD
END:VTIMEZONE
BEGIN:VEVENT
DTSTART;TZID=Europe/Madrid:20180122T190000
DTEND;TZID=Europe/Madrid:20180122T200000
DTSTAMP:20260423T161815
CREATED:20180113T164828Z
LAST-MODIFIED:20180118T150457Z
UID:4003-1516647600-1516651200@www.triarte.net
SUMMARY:19:00 h. Concierto de Canto: Alumnos de Isabel Cánovas.
DESCRIPTION:El lunes 22 de enero a las 19:00 h los alumnos de canto de nuestra profesora Isabel Cánovas nos ofrecerán un concierto. \nLa entrada será libre hasta completar el aforo de nuestra sala de conciertos. \nPROGRAMA \nPablo Sánchez Vallejo\nNo dudaría\, Antonio Flores \nMaría Dolores Vera Bazaga\nVersace on the floor\, Bruno Mars \nRosa María Junco Brias\nSous le ciel de París\, Edith Piaf \nSara Montes Sola\nBesos en Guerra\, Morat \nMarta Tozer Brichette\nSay something\, A great big World \nLucía Lara Mendoza\nPerfect\, Ed Sheeran \nLucía Mora Carnero \nSaturno\, Pablo Alborán \nEsther Jiménez Rodríguez\nSomeone like you\, Adele \nVirginia del Pino Martín\nSomewhere over the rainbow\, El mago de Oz
URL:https://www.triarte.net/evento/concierto_canto_22_enero_2018/
LOCATION:Sala de Conciertos de Triarte\, Calle Corregidor Antonio de Bobadilla\, 16\, Málaga\, 29006\, España
CATEGORIES:Concierto
ATTACH;FMTTYPE=image/png:https://www.triarte.net/wp-content/uploads/2018/01/redes-sociales-canto.png
END:VEVENT
END:VCALENDAR