BEGIN:VCALENDAR
VERSION:2.0
PRODID:-//Triarte - Centro de estudios art&iacute;sticos - Conservatorio y escuela de m&uacute;sica, danza y teatro. - ECPv6.15.18//NONSGML v1.0//EN
CALSCALE:GREGORIAN
METHOD:PUBLISH
X-ORIGINAL-URL:https://www.triarte.net
X-WR-CALDESC:Eventos para Triarte - Centro de estudios art&iacute;sticos - Conservatorio y escuela de m&uacute;sica, danza y teatro.
REFRESH-INTERVAL;VALUE=DURATION:PT1H
X-Robots-Tag:noindex
X-PUBLISHED-TTL:PT1H
BEGIN:VTIMEZONE
TZID:Europe/Madrid
BEGIN:DAYLIGHT
TZOFFSETFROM:+0100
TZOFFSETTO:+0200
TZNAME:CEST
DTSTART:20160327T010000
END:DAYLIGHT
BEGIN:STANDARD
TZOFFSETFROM:+0200
TZOFFSETTO:+0100
TZNAME:CET
DTSTART:20161030T010000
END:STANDARD
BEGIN:DAYLIGHT
TZOFFSETFROM:+0100
TZOFFSETTO:+0200
TZNAME:CEST
DTSTART:20170326T010000
END:DAYLIGHT
BEGIN:STANDARD
TZOFFSETFROM:+0200
TZOFFSETTO:+0100
TZNAME:CET
DTSTART:20171029T010000
END:STANDARD
BEGIN:DAYLIGHT
TZOFFSETFROM:+0100
TZOFFSETTO:+0200
TZNAME:CEST
DTSTART:20180325T010000
END:DAYLIGHT
BEGIN:STANDARD
TZOFFSETFROM:+0200
TZOFFSETTO:+0100
TZNAME:CET
DTSTART:20181028T010000
END:STANDARD
END:VTIMEZONE
BEGIN:VEVENT
DTSTART;TZID=Europe/Madrid:20171222T173000
DTEND;TZID=Europe/Madrid:20171222T183000
DTSTAMP:20260423T122434
CREATED:20171203T091835Z
LAST-MODIFIED:20171219T194351Z
UID:3806-1513963800-1513967400@www.triarte.net
SUMMARY:17:30 h. Concierto de Iniciación a la Música. Alumnos de Fátima Fernández.
DESCRIPTION:Los alumnos de Iniciación a la Música con edades comprendidas de los 4 a los 5 años celebrarán la Navidad ofreciéndonos un Concierto. Es por ello que los alumnos de nuestras profesora Fátima Fernández actuarán ofreciéndonos el siguiente programa: \nTALLER MUSICAL PREESCOLAR \nAranda Durán\, Ángel\nBerlanga Fernández\, Héctor\nCantarero Domínguez\, Rubén\nDel Rincón Benzaquen\, Aaron\nGonzález Aranda\, Elena\nHernanz Sepúlveda\, Pablo\nLeiva Pareja\, Francisco\nLópez Espínola\, Laura\nMolina Albalá\, Gonzalo\nMuñoz Gálvez\, Carmen\nPérez López\, Elena\nSánchez Keim\, Carolina\nSerrano Baeza\, Estrella\nSerrano Baeza\, Inmaculada \nJuego Rítmico\nJuego Rítmico\nArre\, burro arre\nCanciones\nPeriquito araña\nPor los caminitos\nVitamina C\nNavi\, navidad
URL:https://www.triarte.net/evento/1730-h-concierto-de-iniciacion-a-la-musica-alumnos-de-fatima-fernandez-3/
LOCATION:Sala de Conciertos de Triarte\, Calle Corregidor Antonio de Bobadilla\, 16\, Málaga\, 29006\, España
CATEGORIES:Concierto
ATTACH;FMTTYPE=image/png:https://www.triarte.net/wp-content/uploads/2017/12/22-12-2017-CONCIERTO-DE-INICIACION-FATIMA.png
END:VEVENT
BEGIN:VEVENT
DTSTART;TZID=Europe/Madrid:20171222T193000
DTEND;TZID=Europe/Madrid:20171222T210000
DTSTAMP:20260423T122434
CREATED:20171203T094140Z
LAST-MODIFIED:20171219T194141Z
UID:3813-1513971000-1513976400@www.triarte.net
SUMMARY:19:30 h. Concierto de Iniciación a la Música. Alumnos de Mª del Mar González.
DESCRIPTION:Los alumnos de Iniciación a la Música con edades comprendidas de los 4 a los 6 años celebrarán la Navidad ofreciéndonos un Concierto. Es por ello que los alumnos de nuestra profesora Mª del Mar González actuarán ofreciéndonos el siguiente programa: \nTALLER MUSICAL PREESCOLAR \nAlmendros Rivadeneyra\, Inca\nFalhun Villa\, Naomi\nFernández Bravo\, Olivia\nGarcía Benítez\, Flavia\nGarcía Garcia\, Antonio\nGiménez Barba\, Berta\nLinares Ramírez\, David\nLinares Ramírez\, Víctor\nMontiel Ortega\, Gloria\nPeláez Ramos\, Bosco\nPeláez Ramos\, Olivia \nJuego Rítmico\nContradanza\nCanciones\nEstrella\nNavi\, navidad\nEstrellita de Oriente\nMu\, mu\, mu\nVitamina C \nTALLER MUSICAL INFANTIL \nCoro Muñoz\, Valeria\nCuevas García\, Lorenzo\nFlores Pérez\, Miriam\nFlorido Monedero\, Miguel Ángel\nMarcos Garratón\, Gonzalo\nMontero Martín\, Julia\nOrtiz Luque\, Javier\nPárraga Lozano\, Martina\nSerrano Baeza\, Fermín \nJuego Rítmico\nDanza campestre\nCanciones\nNavidad\nLa pastora Catalina\nLa cuna se movía\nGatatumba
URL:https://www.triarte.net/evento/1930-h-concierto-de-iniciacion-a-la-musica-alumnos-de-ma-del-mar-gonzalez/
LOCATION:Sala de Conciertos de Triarte\, Calle Corregidor Antonio de Bobadilla\, 16\, Málaga\, 29006\, España
CATEGORIES:Concierto
ATTACH;FMTTYPE=image/png:https://www.triarte.net/wp-content/uploads/2017/12/22-12-2017-CONCIERTO-DE-INICIACION-MARIA-DEL-MAR.png
END:VEVENT
BEGIN:VEVENT
DTSTART;TZID=Europe/Madrid:20171222T193000
DTEND;TZID=Europe/Madrid:20171222T210000
DTSTAMP:20260423T122434
CREATED:20171203T164059Z
LAST-MODIFIED:20171222T110448Z
UID:3846-1513971000-1513976400@www.triarte.net
SUMMARY:19:30 h. Concierto de Navidad: Orquesta Sinfónica. Parroquia de Sta. Mª Goretti.
DESCRIPTION:Triarte tiene el placer de presentar el Concierto de Navidad que se ofrecerá en la Parroquia de Santa María Goretti el 22 de diciembre a las 19:30h. En él actuarán el la  Orquesta Sinfónica de nuestro centro dirigida por Evelyn Martínez\, nuestro Ensemble de Flautas dirigido por C. Beatriz Puche y nuestro Conjunto de Guitarras dirigido por Pedro Reina. \nEntrada libre hasta completar aforo de la Parroquia. \nPROGRAMA\nConjunto de Guitarras\, director Pedro Reina\n¡Oh santísimo\, felicísimo!\, canto siciliano\nSe oye un son en alta esfera\, F. Mendelssohn\nAllá en el pesebre\, J. R. Murray\nVé\, dilo en las montañas\, espiritual negro\nÁngeles cantando están\, tradicional francés\nLa noticia sin igual\, tradicional inglés\nNoche de paz\, F. Gruber\n¡Al mundo paz\, nació Jesús!\, G. F. Haendel \nEnsemble de Flautas\, directora C. Beatriz Puche\nCarol of the Bells\, M. Leontóvich \nConcierto en Re M Op. 15\, J. B de Boismortier \nMovimiento III: Allegro\nDanza de los Mirlitones\, P. I. Tchaikovsky \nVillancico “Candombe del 6 de enero”\, A. Montenegro \nOrquesta Sinfónica\, directora Evelyn Martínez\nPeer Gynt Suite nº 1\, E. Grieg\nLa muerte de Ase\nDanza de Anitra\nEn la gruta del rey de la montaña\nSinfonía de los Juegos de niños\, G. Bizet \nMovimiento V: Galop \n 
URL:https://www.triarte.net/evento/1930-h-concierto-de-navidad-orquesta-sinfonica-parroquia-de-sta-ma-goretti/
LOCATION:Parroquia de Santa María Goretti\, C/ Corregidor Paz y Guzmán\, 13\, Málaga\, Málaga\, 29007\, España
CATEGORIES:Concierto
ATTACH;FMTTYPE=image/png:https://www.triarte.net/wp-content/uploads/2017/12/22-12-2017-GORETTI-CONCIERTO-DE-NAVIDAD-ORQUESTA-SINFONICA-1.png
END:VEVENT
END:VCALENDAR