BEGIN:VCALENDAR
VERSION:2.0
PRODID:-//Triarte - Centro de estudios art&iacute;sticos - Conservatorio y escuela de m&uacute;sica, danza y teatro. - ECPv6.15.18//NONSGML v1.0//EN
CALSCALE:GREGORIAN
METHOD:PUBLISH
X-ORIGINAL-URL:https://www.triarte.net
X-WR-CALDESC:Eventos para Triarte - Centro de estudios art&iacute;sticos - Conservatorio y escuela de m&uacute;sica, danza y teatro.
REFRESH-INTERVAL;VALUE=DURATION:PT1H
X-Robots-Tag:noindex
X-PUBLISHED-TTL:PT1H
BEGIN:VTIMEZONE
TZID:Europe/Madrid
BEGIN:DAYLIGHT
TZOFFSETFROM:+0100
TZOFFSETTO:+0200
TZNAME:CEST
DTSTART:20160327T010000
END:DAYLIGHT
BEGIN:STANDARD
TZOFFSETFROM:+0200
TZOFFSETTO:+0100
TZNAME:CET
DTSTART:20161030T010000
END:STANDARD
BEGIN:DAYLIGHT
TZOFFSETFROM:+0100
TZOFFSETTO:+0200
TZNAME:CEST
DTSTART:20170326T010000
END:DAYLIGHT
BEGIN:STANDARD
TZOFFSETFROM:+0200
TZOFFSETTO:+0100
TZNAME:CET
DTSTART:20171029T010000
END:STANDARD
BEGIN:DAYLIGHT
TZOFFSETFROM:+0100
TZOFFSETTO:+0200
TZNAME:CEST
DTSTART:20180325T010000
END:DAYLIGHT
BEGIN:STANDARD
TZOFFSETFROM:+0200
TZOFFSETTO:+0100
TZNAME:CET
DTSTART:20181028T010000
END:STANDARD
END:VTIMEZONE
BEGIN:VEVENT
DTSTART;TZID=Europe/Madrid:20171216T120000
DTEND;TZID=Europe/Madrid:20171216T133000
DTSTAMP:20260423T122436
CREATED:20171201T202914Z
LAST-MODIFIED:20171212T154730Z
UID:3784-1513425600-1513431000@www.triarte.net
SUMMARY:12:00h. Concierto de Piano: Alumnos de Mª Isabel Sánchez de Alcázar y Siliana Zdravkova.
DESCRIPTION:El sábado 16 de diciembre a las 12:00h los alumnos de piano de nuestra profesora Mª Isabel Sánchez de Alcázar y Siliana Zdravkova nos ofrecerán un concierto. Próximamente publicaremos el programa.
URL:https://www.triarte.net/evento/1200h-concierto-de-piano-alumnos-de-ma-isabel-sanchez-de-alcazar/
CATEGORIES:Concierto
ATTACH;FMTTYPE=image/png:https://www.triarte.net/wp-content/uploads/2017/12/16-12-2017-CONCIERTO-PIANO-MARIBEL-1.png
END:VEVENT
BEGIN:VEVENT
DTSTART;TZID=Europe/Madrid:20171216T190000
DTEND;TZID=Europe/Madrid:20171216T210000
DTSTAMP:20260423T122436
CREATED:20171114T200143Z
LAST-MODIFIED:20171201T204004Z
UID:3681-1513450800-1513458000@www.triarte.net
SUMMARY:19:00h. Concierto de Navidad Solidario. IES Ben Gavirol.
DESCRIPTION:El Coro juvenil de Triarte actuará en el Concierto de Navidad que ofrecerá la Banda Juvenil de Música Cruz del Humilladero\, el sábado 16 de diciembre a las 19:00h en el IES Ben Gavirol. \nEl concierto será benéfico\, ¡colabora con un Kilo de alimentos!
URL:https://www.triarte.net/evento/1900h-concierto-de-navidad-solidario/
LOCATION:IES Ben Gavirol\, Calle Agustín Martín Carrión\, 6\, Málaga\, Málaga\, 29006\, España
CATEGORIES:Concierto
ATTACH;FMTTYPE=image/jpeg:https://www.triarte.net/wp-content/uploads/2017/11/23472873_1501767156567734_7992700674965415516_n.jpg
END:VEVENT
END:VCALENDAR