BEGIN:VCALENDAR
VERSION:2.0
PRODID:-//Triarte - Centro de estudios art&iacute;sticos - Conservatorio y escuela de m&uacute;sica, danza y teatro. - ECPv6.15.18//NONSGML v1.0//EN
CALSCALE:GREGORIAN
METHOD:PUBLISH
X-ORIGINAL-URL:https://www.triarte.net
X-WR-CALDESC:Eventos para Triarte - Centro de estudios art&iacute;sticos - Conservatorio y escuela de m&uacute;sica, danza y teatro.
REFRESH-INTERVAL;VALUE=DURATION:PT1H
X-Robots-Tag:noindex
X-PUBLISHED-TTL:PT1H
BEGIN:VTIMEZONE
TZID:Europe/Madrid
BEGIN:DAYLIGHT
TZOFFSETFROM:+0100
TZOFFSETTO:+0200
TZNAME:CEST
DTSTART:20160327T010000
END:DAYLIGHT
BEGIN:STANDARD
TZOFFSETFROM:+0200
TZOFFSETTO:+0100
TZNAME:CET
DTSTART:20161030T010000
END:STANDARD
BEGIN:DAYLIGHT
TZOFFSETFROM:+0100
TZOFFSETTO:+0200
TZNAME:CEST
DTSTART:20170326T010000
END:DAYLIGHT
BEGIN:STANDARD
TZOFFSETFROM:+0200
TZOFFSETTO:+0100
TZNAME:CET
DTSTART:20171029T010000
END:STANDARD
BEGIN:DAYLIGHT
TZOFFSETFROM:+0100
TZOFFSETTO:+0200
TZNAME:CEST
DTSTART:20180325T010000
END:DAYLIGHT
BEGIN:STANDARD
TZOFFSETFROM:+0200
TZOFFSETTO:+0100
TZNAME:CET
DTSTART:20181028T010000
END:STANDARD
END:VTIMEZONE
BEGIN:VEVENT
DTSTART;TZID=Europe/Madrid:20171205T173000
DTEND;TZID=Europe/Madrid:20171205T190000
DTSTAMP:20260423T122440
CREATED:20171123T184033Z
LAST-MODIFIED:20171130T191312Z
UID:3710-1512495000-1512500400@www.triarte.net
SUMMARY:17:30h. Concierto de Violín y Viola. Alumnos de Francisco J. Infantes.
DESCRIPTION:El martes 5 de diciembre a las 17:30h los alumnos de violín y viola de nuestro profesor Francisco J. Infantes nos ofrecerán un concierto. \nEntrada libre hasta completar aforo. \nPROGRAMA \nÁngel Sánchez Raya\nHills and dales\, popular \nAntonio Vargas Sánchez de Alcázar\nApple tree\, popular \nDiana Segura Esteban\nLight house\, popular \nMaría Moral Ruiz\nCampanitas del lugar\, popular \nXintian Chen\nPaddie steamer\, popular \nCarmen Ruiz Verdugo\nEl patio mi casa\, popular \nGonzalo Labajos Lázaro\nIn a garden\, popular \nAlba Martínez Martínez\nMinuet en Sol M\, J. S. Bach \nEsteban Morales Muñoz\nHumoresque\, A. Dvorak \nEmma del Pino Supervielle\nCampanitas del lugar\, popular \nRebeca del Pino Morte\nRemando suavemente\, popular \nEmily Jiménez Branashko\nSonata nº 1 A. Vivaldi \nJavier Hernández Aguilera\nConcierto en Sol\, A. Vivaldi \nMaría José Martín Sánchez\nConcerto en La m\, A. Vivaldi
URL:https://www.triarte.net/evento/1730h-concierto-de-violin-y-viola-2/
CATEGORIES:Concierto
ATTACH;FMTTYPE=image/png:https://www.triarte.net/wp-content/uploads/2017/11/05-12-2017-CONCIERTO-DE-VIOLIN-2.png
END:VEVENT
BEGIN:VEVENT
DTSTART;TZID=Europe/Madrid:20171205T193000
DTEND;TZID=Europe/Madrid:20171205T210000
DTSTAMP:20260423T122440
CREATED:20171123T183756Z
LAST-MODIFIED:20171130T191702Z
UID:3707-1512502200-1512507600@www.triarte.net
SUMMARY:19:30h. Concierto de Guitarra: Alumnos de Pedro Reina.
DESCRIPTION:El martes 5 de diciembre a las 19:30h los alumnos de guitarra de nuestro profesor Pedro Reina nos ofrecerán un concierto. \nEntrada libre hasta completar aforo. \nPROGRAMA \nRobert Stefan Pereanu Caraion\nRomance anónimo\, anónimo \nMarta Alcoholado Muriel\nNostalgy\, S. Rak.\nSong from disco\, S. Rak \nMaría Isabel Santos Rivas\nVals de otoño\, Lyse Gingras\nGreensleeves\, anónimo S. XVI \nJulián Julio Mainer Lasheras\nBransle de poitou\, A. Le Roy\nIberia dance\, Michael Connor \nMaría Victoria Castillo Montesino\nMinueto\, F. Sor\nVals\, anónimo \nDiego Gil Martín\nMazurca (dúo)\, F. Tárrega\nMoonlight\, S. Rak \nNicolás Falhum\nEstudio en Mi menor\, F. Tárrega\nEstudio nº 6\, F. Carulli \nAna Mei Morales Rodríguez\nGavota II BWV 995\, J. S. Bach \nMaría López Ruiz\nCanción del emperador\, Luys de Narváez \nOlga Vorobei\nGuárdame las vacas\, Luys de Narváez \nJosé Antonio Segovia Vega\nEstudio simple VI\, L. Brouwer\nPreludio lágrima\, F. Tárrega
URL:https://www.triarte.net/evento/1930h-concierto-de-guitarra-alumnos-de-pedro-reina/
CATEGORIES:Concierto
ATTACH;FMTTYPE=image/png:https://www.triarte.net/wp-content/uploads/2017/11/noticias.png
END:VEVENT
END:VCALENDAR