BEGIN:VCALENDAR
VERSION:2.0
PRODID:-//Triarte - Centro de estudios art&iacute;sticos - Conservatorio y escuela de m&uacute;sica, danza y teatro. - ECPv6.15.18//NONSGML v1.0//EN
CALSCALE:GREGORIAN
METHOD:PUBLISH
X-ORIGINAL-URL:https://www.triarte.net
X-WR-CALDESC:Eventos para Triarte - Centro de estudios art&iacute;sticos - Conservatorio y escuela de m&uacute;sica, danza y teatro.
REFRESH-INTERVAL;VALUE=DURATION:PT1H
X-Robots-Tag:noindex
X-PUBLISHED-TTL:PT1H
BEGIN:VTIMEZONE
TZID:Europe/Madrid
BEGIN:DAYLIGHT
TZOFFSETFROM:+0100
TZOFFSETTO:+0200
TZNAME:CEST
DTSTART:20160327T010000
END:DAYLIGHT
BEGIN:STANDARD
TZOFFSETFROM:+0200
TZOFFSETTO:+0100
TZNAME:CET
DTSTART:20161030T010000
END:STANDARD
BEGIN:DAYLIGHT
TZOFFSETFROM:+0100
TZOFFSETTO:+0200
TZNAME:CEST
DTSTART:20170326T010000
END:DAYLIGHT
BEGIN:STANDARD
TZOFFSETFROM:+0200
TZOFFSETTO:+0100
TZNAME:CET
DTSTART:20171029T010000
END:STANDARD
BEGIN:DAYLIGHT
TZOFFSETFROM:+0100
TZOFFSETTO:+0200
TZNAME:CEST
DTSTART:20180325T010000
END:DAYLIGHT
BEGIN:STANDARD
TZOFFSETFROM:+0200
TZOFFSETTO:+0100
TZNAME:CET
DTSTART:20181028T010000
END:STANDARD
END:VTIMEZONE
BEGIN:VEVENT
DTSTART;TZID=Europe/Madrid:20170630T173000
DTEND;TZID=Europe/Madrid:20170630T184500
DTSTAMP:20260423T015508
CREATED:20170530T172211Z
LAST-MODIFIED:20170623T173229Z
UID:3211-1498843800-1498848300@www.triarte.net
SUMMARY:17:30 h. Concierto de Iniciación a la Música. Alumnos de Fátima Fernández.
DESCRIPTION:Los alumnos de Iniciación a la Música con edades comprendidas de los 4 a los 7 años celebrarán el Final de Curso 16/17 ofreciéndonos un concierto. \nPor ello los alumnos de nuestras profesora Fátima Fernández actuarán ofreciéndonos el siguiente programa: \nTaller Musical Preescolar \nCenizal \, Zion Kyle\nFernández Bravo\, Olivia\nFlorido Monedero\, Miguel Ángel\nGarcía Benítez\, Flavia\nGarrido Blasco\, David\nHe \, Jingxuan\nInfantes Romero\, Rebeca\nLinares Ramírez\, David\nLinares Ramírez\, Víctor\nMarcos Garratón\, Gonzalo\nMoral Ruiz\, María\nPeláez Ramos\, Bosco\nPeláez Ramos\, Olivia\nQuiñones Campos\, Cesar\nVargas Fernández\, María Victoria \nDanza\nMi\, Fa\, Twist \nJuego Rítmico\nCan Can de Orfeo en los infiernos\nCanciones\nLos pollitos marineros\nQue linda es la primavera\nLos peces en el mar\nVuela\, palomita\nEl tío Mario \nTaller Musical Infantil \nAlejaldre Cortés\, Marcelo Thanh\nCobos Aguilar\, Carmen\nCortés Urbano\, Samuel\nde La Torre Ruiz\, Nicolás\nDomínguez de Miguel\, María\nGómez Da Silva\, Bruno\nMarcos Marmolejo\, Daniela\nMuñoz Villares\, Ignacio\nSánchez Raya\, Ángel\nVílchez Gómez\, José Luis \nDanza \nThe Sailor’s Hornpipe\nPercusión corporal \nMarcha del Cascanueces\nCampanas\nDing – Dong notas \nCanciones\nEl mar\nCerca del camino\nUn planeta pequeño\nYo soy un artista
URL:https://www.triarte.net/evento/1730-h-concierto-de-iniciacion-a-la-musica-alumnos-de-fatima-fernandez/
LOCATION:Sala de Conciertos de Triarte\, Calle Corregidor Antonio de Bobadilla\, 16\, Málaga\, 29006\, España
CATEGORIES:Concierto
ATTACH;FMTTYPE=image/png:https://www.triarte.net/wp-content/uploads/2017/05/30-06-17-PROGRAMA-DE-INICIACION.png
END:VEVENT
BEGIN:VEVENT
DTSTART;TZID=Europe/Madrid:20170630T193000
DTEND;TZID=Europe/Madrid:20170630T201500
DTSTAMP:20260423T015508
CREATED:20170530T174157Z
LAST-MODIFIED:20170623T183555Z
UID:3215-1498851000-1498853700@www.triarte.net
SUMMARY:19:30 h. Concierto de Iniciación a la Música. Alumnos de Susana Santamaría y Margarita Vargas - Machuca.
DESCRIPTION:Los alumnos de Iniciación a la Música con edades comprendidas de los 4 a los 5 años celebrarán el Final de Curso 16/17 ofreciéndonos un concierto. \nPor ello los alumnos de nuestras profesora Susana Santamaría y Margarita Vargas – Machuca actuarán ofreciéndonos el siguiente programa: \nPROGRAMA \nTaller Musical Preescolar \nAlmendros Rivadeneyra\, Inca\nCárdenas López\, Nicolás\nCuevas García\, Lorenzo\nFlores Pérez\, Miriam\nGarcía Peláez\, Paula María\nMárquez Santamaría\, Alba\nMárquez Santamaría\, Lucía\nMartos Peinado\, Aarón\nParis Pavón\, Marina\nPárraga Lozano\, Martina\nVargas Sánchez de Alcázar\, Antonio\nVilches Galera\, Daniel\nVilches Galera\, Juan \nJuego Rítmico\nCan Can\nDanza\nMifatwist\nCanciones\nLos peces en el mar\n¡Qué linda es la primavera!\nDentro de la tierra\nDebajo de un botón\nEl Tío Mario
URL:https://www.triarte.net/evento/1930-h-concierto-de-iniciacion-a-la-musica-alumnos-de-susana-santamaria/
LOCATION:Sala de Conciertos de Triarte\, Calle Corregidor Antonio de Bobadilla\, 16\, Málaga\, 29006\, España
CATEGORIES:Concierto
ATTACH;FMTTYPE=image/png:https://www.triarte.net/wp-content/uploads/2017/05/1-1.png
END:VEVENT
END:VCALENDAR